{"text_format":"1","workbook":"xlsx","n_sheets":55,"sheets":["GROSS TOTALS","NET TOTALS","ABLANK","ALLEN, RON","ANDERSON, JEREMY","ARRELLANO, DAVE","ARMBRUST, KEN","BILLS, DAVID","BOSTON, DENNIS","CARTER, RICK","CUBIAS, DARRELL","FISHER, CHRIS","FLOYD, RON","FOXX, DENNIS","FRAZIER, BRUCE","GARBE, WES","GONZALES, PABLO","GONZALEZ, PAUL","HARRIS, SEAN","HIETT, STEVE","HOWARD, TIM","IRWIN, KEN","JOHNSON, RICO","KIDDER, PAT","KROHN, GARY","LACHMAN, MARK","LANGE, BRYAN","LENAKAKIS, YIANNI","MCCULLOUGH, DAN","MCELHATTON, THOMAS","MCGEE, TONY","MCKERNAN, BRAD","MONAGHAN, MILES","NELSON, TIMOTHY","NORTH, MICHAEL","OLMSTEAD, KEN","PERRY, JAMES","POWELL, ED","PRZEPIORSKI, KARRY","REED, DAVID","RUSSI, BRYON","SALCEDO, JOSE","SALINAS, ALONSO","SCHALLER, MARK","SHIMIZU, YUTAKA","SIERRA, JESSE","SMITH, MICHAEL","SOUTO, ERIC","SWEATT, BRIAN","TAYLOR, STEVE","THOMPSEN, NEIL","VERHAAG, MARK","WHARFF, HARRY","WHARFF, JOHN","WILSON, PAUL"],"not_rendered":{"charts":0,"images":0,"macros":1,"external_links":0,"defined_names":29,"comments":0,"pivot_tables":0},"unopened":[],"bounds":{"document_bytes":16777216,"sheet_cells":100000,"rows_first":2000,"rows_last":500,"rows_between":2000,"halvings":0,"cell_chars":16384,"cell_head_chars":4096},"cells_cut":0,"cells_raw":0,"read":"whole","date_system":"1900"}

{"sheet":"GROSS TOTALS","index":0,"n_rows":55,"n_cols":26,"rows_kept":55,"cut":false,"hidden":false,"merged":[]}
["HOLE",1,2,3,4,5,6,7,8,9,"OUT",10,11,12,13,14,15,16,17,18,"IN","Gross","hndcp"]
["PAR",4,5,3,4,3,5,4,4,4,36,5,4,3,4,4,3,5,4,4,36,72]
[{"$f":"ABLANK!$A$2","v":"ABLANK"},{"$f":"ABLANK!B30","v":0},{"$f":"ABLANK!C30","v":0},{"$f":"ABLANK!D30","v":0},{"$f":"ABLANK!E30","v":0},{"$f":"ABLANK!F30","v":0},{"$f":"ABLANK!G30","v":0},{"$f":"ABLANK!H30","v":0},{"$f":"ABLANK!I30","v":0},{"$f":"ABLANK!J30","v":0},{"$f":"SUM(B3:J3)","v":0},{"$f":"ABLANK!L30","v":0},{"$f":"ABLANK!M30","v":0},{"$f":"ABLANK!N30","v":0},{"$f":"ABLANK!O30","v":0},{"$f":"ABLANK!P30","v":0},{"$f":"ABLANK!Q30","v":0},{"$f":"ABLANK!R30","v":0},{"$f":"ABLANK!S30","v":0},{"$f":"ABLANK!T30","v":0},{"$f":"SUM(L3:T3)","v":0},{"$f":"SUM(K3+U3)","v":0}]
[{"$f":"'ALLEN, RON'!$A$2","v":"ALLEN, RON"},{"$f":"'ALLEN, RON'!B55","v":4},{"$f":"'ALLEN, RON'!C55","v":4},{"$f":"'ALLEN, RON'!D55","v":2},{"$f":"'ALLEN, RON'!E55","v":4},{"$f":"'ALLEN, RON'!F55","v":3},{"$f":"'ALLEN, RON'!G55","v":4},{"$f":"'ALLEN, RON'!H55","v":4},{"$f":"'ALLEN, RON'!I55","v":3},{"$f":"'ALLEN, RON'!J55","v":4},{"$f":"SUM(B4:J4)","v":32},{"$f":"'ALLEN, RON'!L55","v":4},{"$f":"'ALLEN, RON'!M55","v":4},{"$f":"'ALLEN, RON'!N55","v":2},{"$f":"'ALLEN, RON'!O55","v":4},{"$f":"'ALLEN, RON'!P55","v":3},{"$f":"'ALLEN, RON'!Q55","v":3},{"$f":"'ALLEN, RON'!R55","v":4},{"$f":"'ALLEN, RON'!S55","v":3},{"$f":"'ALLEN, RON'!T55","v":3},30,62]
[{"$f":"'ANDERSON, JEREMY'!$A$2","v":"ANDERSON, JEREMY"},{"$f":"'ANDERSON, JEREMY'!B55","v":4},{"$f":"'ANDERSON, JEREMY'!C55","v":5},{"$f":"'ANDERSON, JEREMY'!D55","v":2},{"$f":"'ANDERSON, JEREMY'!E55","v":3},{"$f":"'ANDERSON, JEREMY'!F55","v":3},{"$f":"'ANDERSON, JEREMY'!G55","v":5},{"$f":"'ANDERSON, JEREMY'!H55","v":4},{"$f":"'ANDERSON, JEREMY'!I55","v":4},{"$f":"'ANDERSON, JEREMY'!J55","v":4},34,{"$f":"'ANDERSON, JEREMY'!L55","v":4},{"$f":"'ANDERSON, JEREMY'!M55","v":4},{"$f":"'ANDERSON, JEREMY'!N55","v":2},{"$f":"'ANDERSON, JEREMY'!O55","v":4},{"$f":"'ANDERSON, JEREMY'!P55","v":3},{"$f":"'ANDERSON, JEREMY'!Q55","v":3},{"$f":"'ANDERSON, JEREMY'!R55","v":5},{"$f":"'ANDERSON, JEREMY'!S55","v":3},{"$f":"'ANDERSON, JEREMY'!T55","v":4},32,66]
[{"$f":"'ARRELLANO, DAVE'!$A$2","v":"ARRELLANO, DAVE"},{"$f":"'ARRELLANO, DAVE'!B55","v":4},{"$f":"'ARRELLANO, DAVE'!C55","v":5},{"$f":"'ARRELLANO, DAVE'!D55","v":3},{"$f":"'ARRELLANO, DAVE'!E55","v":4},{"$f":"'ARRELLANO, DAVE'!F55","v":3},{"$f":"'ARRELLANO, DAVE'!G55","v":5},{"$f":"'ARRELLANO, DAVE'!H55","v":4},{"$f":"'ARRELLANO, DAVE'!I55","v":4},{"$f":"'ARRELLANO, DAVE'!J55","v":3},35,{"$f":"'ARRELLANO, DAVE'!L55","v":5},{"$f":"'ARRELLANO, DAVE'!M55","v":5},{"$f":"'ARRELLANO, DAVE'!N55","v":3},{"$f":"'ARRELLANO, DAVE'!O55","v":4},{"$f":"'ARRELLANO, DAVE'!P55","v":4},{"$f":"'ARRELLANO, DAVE'!Q55","v":3},{"$f":"'ARRELLANO, DAVE'!R55","v":5},{"$f":"'ARRELLANO, DAVE'!S55","v":4},{"$f":"'ARRELLANO, DAVE'!T55","v":5},38,73]
[{"$f":"'ARMBRUST, KEN'!$A$2","v":"ARMBRUST, KEN"},{"$f":"'ARMBRUST, KEN'!B55","v":4},{"$f":"'ARMBRUST, KEN'!C55","v":6},{"$f":"'ARMBRUST, KEN'!D55","v":4},{"$f":"'ARMBRUST, KEN'!E55","v":5},{"$f":"'ARMBRUST, KEN'!F55","v":3},{"$f":"'ARMBRUST, KEN'!G55","v":6},{"$f":"'ARMBRUST, KEN'!H55","v":5},{"$f":"'ARMBRUST, KEN'!I55","v":4},{"$f":"'ARMBRUST, KEN'!J55","v":5},42,{"$f":"'ARMBRUST, KEN'!L55","v":6},{"$f":"'ARMBRUST, KEN'!M55","v":6},{"$f":"'ARMBRUST, KEN'!N55","v":4},{"$f":"'ARMBRUST, KEN'!O55","v":4},{"$f":"'ARMBRUST, KEN'!P55","v":6},{"$f":"'ARMBRUST, KEN'!Q55","v":5},{"$f":"'ARMBRUST, KEN'!R55","v":6},{"$f":"'ARMBRUST, KEN'!S55","v":5},{"$f":"'ARMBRUST, KEN'!T55","v":5},47,89]
[{"$f":"'BILLS, DAVID'!$A$2","v":"BILLS, DAVID"},{"$f":"'BILLS, DAVID'!B55","v":4},{"$f":"'BILLS, DAVID'!C55","v":4},{"$f":"'BILLS, DAVID'!D55","v":2},{"$f":"'BILLS, DAVID'!E55","v":3},{"$f":"'BILLS, DAVID'!F55","v":2},{"$f":"'BILLS, DAVID'!G55","v":4},{"$f":"'BILLS, DAVID'!H55","v":3},{"$f":"'BILLS, DAVID'!I55","v":3},{"$f":"'BILLS, DAVID'!J55","v":3},28,{"$f":"'BILLS, DAVID'!L55","v":4},{"$f":"'BILLS, DAVID'!M55","v":3},{"$f":"'BILLS, DAVID'!N55","v":3},{"$f":"'BILLS, DAVID'!O55","v":2},{"$f":"'BILLS, DAVID'!P55","v":3},{"$f":"'BILLS, DAVID'!Q55","v":3},{"$f":"'BILLS, DAVID'!R55","v":3},{"$f":"'BILLS, DAVID'!S55","v":3},{"$f":"'BILLS, DAVID'!T55","v":3},27,55]
[{"$f":"'BOSTON, DENNIS'!$A$2","v":"BOSTON, DENNIS"},{"$f":"'BOSTON, DENNIS'!B55","v":5},{"$f":"'BOSTON, DENNIS'!C55","v":6},{"$f":"'BOSTON, DENNIS'!D55","v":3},{"$f":"'BOSTON, DENNIS'!E55","v":4},{"$f":"'BOSTON, DENNIS'!F55","v":4},{"$f":"'BOSTON, DENNIS'!G55","v":5},{"$f":"'BOSTON, DENNIS'!H55","v":5},{"$f":"'BOSTON, DENNIS'!I55","v":5},{"$f":"'BOSTON, DENNIS'!J55","v":5},42,{"$f":"'BOSTON, DENNIS'!L55","v":6},{"$f":"'BOSTON, DENNIS'!M55","v":4},{"$f":"'BOSTON, DENNIS'!N55","v":4},{"$f":"'BOSTON, DENNIS'!O55","v":5},{"$f":"'BOSTON, DENNIS'!P55","v":4},{"$f":"'BOSTON, DENNIS'!Q55","v":3},{"$f":"'BOSTON, DENNIS'!R55","v":6},{"$f":"'BOSTON, DENNIS'!S55","v":6},{"$f":"'BOSTON, DENNIS'!T55","v":5},43,85]
[{"$f":"'CARTER, RICK'!$A$2","v":"CARTER, RICK"},{"$f":"'CARTER, RICK'!B55","v":4},{"$f":"'CARTER, RICK'!C55","v":4},{"$f":"'CARTER, RICK'!D55","v":3},{"$f":"'CARTER, RICK'!E55","v":4},{"$f":"'CARTER, RICK'!F55","v":2},{"$f":"'CARTER, RICK'!G55","v":4},{"$f":"'CARTER, RICK'!H55","v":3},{"$f":"'CARTER, RICK'!I55","v":4},{"$f":"'CARTER, RICK'!J55","v":4},32,{"$f":"'CARTER, RICK'!L55","v":4},{"$f":"'CARTER, RICK'!M55","v":4},{"$f":"'CARTER, RICK'!N55","v":3},{"$f":"'CARTER, RICK'!O55","v":4},{"$f":"'CARTER, RICK'!P55","v":3},{"$f":"'CARTER, RICK'!Q55","v":3},{"$f":"'CARTER, RICK'!R55","v":4},{"$f":"'CARTER, RICK'!S55","v":3},{"$f":"'CARTER, RICK'!T55","v":4},32,64]
[{"$f":"'CUBIAS, DARRELL'!$A$2","v":"CUBIAS, DARRELL"},{"$f":"'CUBIAS, DARRELL'!B55","v":3},{"$f":"'CUBIAS, DARRELL'!C55","v":4},{"$f":"'CUBIAS, DARRELL'!D55","v":3},{"$f":"'CUBIAS, DARRELL'!E55","v":4},{"$f":"'CUBIAS, DARRELL'!F55","v":2},{"$f":"'CUBIAS, DARRELL'!G55","v":6},{"$f":"'CUBIAS, DARRELL'!H55","v":3},{"$f":"'CUBIAS, DARRELL'!I55","v":5},{"$f":"'CUBIAS, DARRELL'!J55","v":5},35,{"$f":"'CUBIAS, DARRELL'!L55","v":5},{"$f":"'CUBIAS, DARRELL'!M55","v":4},{"$f":"'CUBIAS, DARRELL'!N55","v":3},{"$f":"'CUBIAS, DARRELL'!O55","v":4},{"$f":"'CUBIAS, DARRELL'!P55","v":4},{"$f":"'CUBIAS, DARRELL'!Q55","v":3},{"$f":"'CUBIAS, DARRELL'!R55","v":5},{"$f":"'CUBIAS, DARRELL'!S55","v":4},{"$f":"'CUBIAS, DARRELL'!T55","v":5},37,72]
[{"$f":"'FISHER, CHRIS'!$A$2","v":"FISHER, CHRIS"},{"$f":"'FISHER, CHRIS'!B55","v":4},{"$f":"'FISHER, CHRIS'!C55","v":5},{"$f":"'FISHER, CHRIS'!D55","v":4},{"$f":"'FISHER, CHRIS'!E55","v":4},{"$f":"'FISHER, CHRIS'!F55","v":3},{"$f":"'FISHER, CHRIS'!G55","v":4},{"$f":"'FISHER, CHRIS'!H55","v":4},{"$f":"'FISHER, CHRIS'!I55","v":5},{"$f":"'FISHER, CHRIS'!J55","v":4},37,{"$f":"'FISHER, CHRIS'!L55","v":5},{"$f":"'FISHER, CHRIS'!M55","v":4},{"$f":"'FISHER, CHRIS'!N55","v":2},{"$f":"'FISHER, CHRIS'!O55","v":4},{"$f":"'FISHER, CHRIS'!P55","v":4},{"$f":"'FISHER, CHRIS'!Q55","v":4},{"$f":"'FISHER, CHRIS'!R55","v":5},{"$f":"'FISHER, CHRIS'!S55","v":4},{"$f":"'FISHER, CHRIS'!T55","v":5},37,74]
[{"$f":"'FLOYD, RON'!$A$2","v":"FLOYD, RON"},{"$f":"'FLOYD, RON'!B55","v":3},{"$f":"'FLOYD, RON'!C55","v":4},{"$f":"'FLOYD, RON'!D55","v":3},{"$f":"'FLOYD, RON'!E55","v":4},{"$f":"'FLOYD, RON'!F55","v":3},{"$f":"'FLOYD, RON'!G55","v":5},{"$f":"'FLOYD, RON'!H55","v":3},{"$f":"'FLOYD, RON'!I55","v":4},{"$f":"'FLOYD, RON'!J55","v":4},33,{"$f":"'FLOYD, RON'!L55","v":4},{"$f":"'FLOYD, RON'!M55","v":4},{"$f":"'FLOYD, RON'!N55","v":3},{"$f":"'FLOYD, RON'!O55","v":4},{"$f":"'FLOYD, RON'!P55","v":4},{"$f":"'FLOYD, RON'!Q55","v":3},{"$f":"'FLOYD, RON'!R55","v":5},{"$f":"'FLOYD, RON'!S55","v":4},{"$f":"'FLOYD, RON'!T55","v":4},35,68]
[{"$f":"'FOXX, DENNIS'!$A$2","v":"FOXX, DENNIS"},{"$f":"'FOXX, DENNIS'!B55","v":3},{"$f":"'FOXX, DENNIS'!C55","v":5},{"$f":"'FOXX, DENNIS'!D55","v":2},{"$f":"'FOXX, DENNIS'!E55","v":4},{"$f":"'FOXX, DENNIS'!F55","v":2},{"$f":"'FOXX, DENNIS'!G55","v":5},{"$f":"'FOXX, DENNIS'!H55","v":3},{"$f":"'FOXX, DENNIS'!I55","v":4},{"$f":"'FOXX, DENNIS'!J55","v":3},31,{"$f":"'FOXX, DENNIS'!L55","v":4},{"$f":"'FOXX, DENNIS'!M55","v":4},{"$f":"'FOXX, DENNIS'!N55","v":3},{"$f":"'FOXX, DENNIS'!O55","v":3},{"$f":"'FOXX, DENNIS'!P55","v":4},{"$f":"'FOXX, DENNIS'!Q55","v":3},{"$f":"'FOXX, DENNIS'!R55","v":4},{"$f":"'FOXX, DENNIS'!S55","v":4},{"$f":"'FOXX, DENNIS'!T55","v":4},33,64]
[{"$f":"'FRAZIER, BRUCE'!$A$2","v":"FRAZIER, BRUCE"},{"$f":"'FRAZIER, BRUCE'!B55","v":4},{"$f":"'FRAZIER, BRUCE'!C55","v":5},{"$f":"'FRAZIER, BRUCE'!D55","v":2},{"$f":"'FRAZIER, BRUCE'!E55","v":4},{"$f":"'FRAZIER, BRUCE'!F55","v":3},{"$f":"'FRAZIER, BRUCE'!G55","v":5},{"$f":"'FRAZIER, BRUCE'!H55","v":4},{"$f":"'FRAZIER, BRUCE'!I55","v":4},{"$f":"'FRAZIER, BRUCE'!J55","v":4},35,{"$f":"'FRAZIER, BRUCE'!L55","v":5},{"$f":"'FRAZIER, BRUCE'!M55","v":4},{"$f":"'FRAZIER, BRUCE'!N55","v":3},{"$f":"'FRAZIER, BRUCE'!O55","v":4},{"$f":"'FRAZIER, BRUCE'!P55","v":4},{"$f":"'FRAZIER, BRUCE'!Q55","v":3},{"$f":"'FRAZIER, BRUCE'!R55","v":5},{"$f":"'FRAZIER, BRUCE'!S55","v":4},{"$f":"'FRAZIER, BRUCE'!T55","v":4},36,71]
[{"$f":"'GARBE, WES'!$A$2","v":"GARBE, WES"},{"$f":"'GARBE, WES'!B55","v":4},{"$f":"'GARBE, WES'!C55","v":4},{"$f":"'GARBE, WES'!D55","v":3},{"$f":"'GARBE, WES'!E55","v":3},{"$f":"'GARBE, WES'!F55","v":3},{"$f":"'GARBE, WES'!G55","v":5},{"$f":"'GARBE, WES'!H55","v":4},{"$f":"'GARBE, WES'!I55","v":4},{"$f":"'GARBE, WES'!J55","v":4},34,{"$f":"'GARBE, WES'!L55","v":5},{"$f":"'GARBE, WES'!M55","v":3},{"$f":"'GARBE, WES'!N55","v":3},{"$f":"'GARBE, WES'!O55","v":4},{"$f":"'GARBE, WES'!P55","v":4},{"$f":"'GARBE, WES'!Q55","v":3},{"$f":"'GARBE, WES'!R55","v":4},{"$f":"'GARBE, WES'!S55","v":4},{"$f":"'GARBE, WES'!T55","v":5},35,69]
[{"$f":"'GONZALES, PABLO'!$A$2","v":"GONZALES, PABLO"},{"$f":"'GONZALES, PABLO'!B55","v":4},{"$f":"'GONZALES, PABLO'!C55","v":4},{"$f":"'GONZALES, PABLO'!D55","v":2},{"$f":"'GONZALES, PABLO'!E55","v":3},{"$f":"'GONZALES, PABLO'!F55","v":3},{"$f":"'GONZALES, PABLO'!G55","v":4},{"$f":"'GONZALES, PABLO'!H55","v":3},{"$f":"'GONZALES, PABLO'!I55","v":4},{"$f":"'GONZALES, PABLO'!J55","v":4},31,{"$f":"'GONZALES, PABLO'!L55","v":4},{"$f":"'GONZALES, PABLO'!M55","v":3},{"$f":"'GONZALES, PABLO'!N55","v":2},{"$f":"'GONZALES, PABLO'!O55","v":4},{"$f":"'GONZALES, PABLO'!P55","v":3},{"$f":"'GONZALES, PABLO'!Q55","v":2},{"$f":"'GONZALES, PABLO'!R55","v":4},{"$f":"'GONZALES, PABLO'!S55","v":4},{"$f":"'GONZALES, PABLO'!T55","v":4},30,61]
[{"$f":"'GONZALEZ, PAUL'!$A$2","v":"GONZALEZ, PAUL"},{"$f":"'GONZALEZ, PAUL'!B55","v":3},{"$f":"'GONZALEZ, PAUL'!C55","v":4},{"$f":"'GONZALEZ, PAUL'!D55","v":2},{"$f":"'GONZALEZ, PAUL'!E55","v":4},{"$f":"'GONZALEZ, PAUL'!F55","v":2},{"$f":"'GONZALEZ, PAUL'!G55","v":5},{"$f":"'GONZALEZ, PAUL'!H55","v":4},{"$f":"'GONZALEZ, PAUL'!I55","v":4},{"$f":"'GONZALEZ, PAUL'!J55","v":4},32,{"$f":"'GONZALEZ, PAUL'!L55","v":4},{"$f":"'GONZALEZ, PAUL'!M55","v":4},{"$f":"'GONZALEZ, PAUL'!N55","v":2},{"$f":"'GONZALEZ, PAUL'!O55","v":4},{"$f":"'GONZALEZ, PAUL'!P55","v":4},{"$f":"'GONZALEZ, PAUL'!Q55","v":3},{"$f":"'GONZALEZ, PAUL'!R55","v":4},{"$f":"'GONZALEZ, PAUL'!S55","v":4},{"$f":"'GONZALEZ, PAUL'!T55","v":4},33,65]
[{"$f":"'HARRIS, SEAN'!$A$2","v":"HARRIS, SEAN"},{"$f":"'HARRIS, SEAN'!B55","v":3},{"$f":"'HARRIS, SEAN'!C55","v":5},{"$f":"'HARRIS, SEAN'!D55","v":3},{"$f":"'HARRIS, SEAN'!E55","v":4},{"$f":"'HARRIS, SEAN'!F55","v":3},{"$f":"'HARRIS, SEAN'!G55","v":4},{"$f":"'HARRIS, SEAN'!H55","v":4},{"$f":"'HARRIS, SEAN'!I55","v":3},{"$f":"'HARRIS, SEAN'!J55","v":4},{"$f":"SUM(B19:J19)","v":33},{"$f":"'HARRIS, SEAN'!L55","v":4},{"$f":"'HARRIS, SEAN'!M55","v":4},{"$f":"'HARRIS, SEAN'!N55","v":3},{"$f":"'HARRIS, SEAN'!O55","v":4},{"$f":"'HARRIS, SEAN'!P55","v":3},{"$f":"'HARRIS, SEAN'!Q55","v":3},{"$f":"'HARRIS, SEAN'!R55","v":4},{"$f":"'HARRIS, SEAN'!S55","v":3},{"$f":"'HARRIS, SEAN'!T55","v":4},32,65]
[{"$f":"'HIETT, STEVE'!$A$2","v":"HIETT, STEVE"},{"$f":"'HIETT, STEVE'!B55","v":3},{"$f":"'HIETT, STEVE'!C55","v":4},{"$f":"'HIETT, STEVE'!D55","v":2},{"$f":"'HIETT, STEVE'!E55","v":3},{"$f":"'HIETT, STEVE'!F55","v":3},{"$f":"'HIETT, STEVE'!G55","v":5},{"$f":"'HIETT, STEVE'!H55","v":3},{"$f":"'HIETT, STEVE'!I55","v":3},{"$f":"'HIETT, STEVE'!J55","v":4},30,{"$f":"'HIETT, STEVE'!L55","v":3},{"$f":"'HIETT, STEVE'!M55","v":3},{"$f":"'HIETT, STEVE'!N55","v":3},{"$f":"'HIETT, STEVE'!O55","v":4},{"$f":"'HIETT, STEVE'!P55","v":2},{"$f":"'HIETT, STEVE'!Q55","v":2},{"$f":"'HIETT, STEVE'!R55","v":4},{"$f":"'HIETT, STEVE'!S55","v":3},{"$f":"'HIETT, STEVE'!T55","v":3},27,57]
[{"$f":"'HOWARD, TIM'!$A$2","v":"HOWARD, TIM"},{"$f":"'HOWARD, TIM'!B55","v":4},{"$f":"'HOWARD, TIM'!C55","v":4},{"$f":"'HOWARD, TIM'!D55","v":3},{"$f":"'HOWARD, TIM'!E55","v":4},{"$f":"'HOWARD, TIM'!F55","v":3},{"$f":"'HOWARD, TIM'!G55","v":4},{"$f":"'HOWARD, TIM'!H55","v":4},{"$f":"'HOWARD, TIM'!I55","v":4},{"$f":"'HOWARD, TIM'!J55","v":4},34,{"$f":"'HOWARD, TIM'!L55","v":4},{"$f":"'HOWARD, TIM'!M55","v":4},{"$f":"'HOWARD, TIM'!N55","v":2},{"$f":"'HOWARD, TIM'!O55","v":4},{"$f":"'HOWARD, TIM'!P55","v":4},{"$f":"'HOWARD, TIM'!Q55","v":3},{"$f":"'HOWARD, TIM'!R55","v":5},{"$f":"'HOWARD, TIM'!S55","v":3},{"$f":"'HOWARD, TIM'!T55","v":4},33,67]
[{"$f":"'IRWIN, KEN'!$A$2","v":"IRWIN, KEN"},{"$f":"'IRWIN, KEN'!B55","v":5},{"$f":"'IRWIN, KEN'!C55","v":6},{"$f":"'IRWIN, KEN'!D55","v":4},{"$f":"'IRWIN, KEN'!E55","v":7},{"$f":"'IRWIN, KEN'!F55","v":5},{"$f":"'IRWIN, KEN'!G55","v":6},{"$f":"'IRWIN, KEN'!H55","v":7},{"$f":"'IRWIN, KEN'!I55","v":6},{"$f":"'IRWIN, KEN'!J55","v":4},50,{"$f":"'IRWIN, KEN'!L55","v":9},{"$f":"'IRWIN, KEN'!M55","v":5},{"$f":"'IRWIN, KEN'!N55","v":5},{"$f":"'IRWIN, KEN'!O55","v":6},{"$f":"'IRWIN, KEN'!P55","v":5},{"$f":"'IRWIN, KEN'!Q55","v":4},{"$f":"'IRWIN, KEN'!R55","v":8},{"$f":"'IRWIN, KEN'!S55","v":6},{"$f":"'IRWIN, KEN'!T55","v":6},54,104,null,null,null," "]
[{"$f":"'JOHNSON, RICO'!$A$2","v":"JOHNSON, RICO"},{"$f":"'JOHNSON, RICO'!B55","v":3},{"$f":"'JOHNSON, RICO'!C55","v":4},{"$f":"'JOHNSON, RICO'!D55","v":3},{"$f":"'JOHNSON, RICO'!E55","v":3},{"$f":"'JOHNSON, RICO'!F55","v":2},{"$f":"'JOHNSON, RICO'!G55","v":5},{"$f":"'JOHNSON, RICO'!H55","v":3},{"$f":"'JOHNSON, RICO'!I55","v":3},{"$f":"'JOHNSON, RICO'!J55","v":4},30,{"$f":"'JOHNSON, RICO'!L55","v":4},{"$f":"'JOHNSON, RICO'!M55","v":3},{"$f":"'JOHNSON, RICO'!N55","v":3},{"$f":"'JOHNSON, RICO'!O55","v":3},{"$f":"'JOHNSON, RICO'!P55","v":3},{"$f":"'JOHNSON, RICO'!Q55","v":2},{"$f":"'JOHNSON, RICO'!R55","v":4},{"$f":"'JOHNSON, RICO'!S55","v":3},{"$f":"'JOHNSON, RICO'!T55","v":4},29,59]
[{"$f":"'KIDDER, PAT'!$A$2","v":"KIDDER, PAT"},{"$f":"'KIDDER, PAT'!B55","v":4},{"$f":"'KIDDER, PAT'!C55","v":5},{"$f":"'KIDDER, PAT'!D55","v":3},{"$f":"'KIDDER, PAT'!E55","v":4},{"$f":"'KIDDER, PAT'!F55","v":3},{"$f":"'KIDDER, PAT'!G55","v":5},{"$f":"'KIDDER, PAT'!H55","v":4},{"$f":"'KIDDER, PAT'!I55","v":4},{"$f":"'KIDDER, PAT'!J55","v":5},{"$f":"SUM(B24:J24)","v":37},{"$f":"'KIDDER, PAT'!L55","v":5},{"$f":"'KIDDER, PAT'!M55","v":5},{"$f":"'KIDDER, PAT'!N55","v":3},{"$f":"'KIDDER, PAT'!O55","v":5},{"$f":"'KIDDER, PAT'!P55","v":4},{"$f":"'KIDDER, PAT'!Q55","v":3},{"$f":"'KIDDER, PAT'!R55","v":5},{"$f":"'KIDDER, PAT'!S55","v":5},{"$f":"'KIDDER, PAT'!T55","v":5},{"$f":"SUM(L24:T24)","v":40},{"$f":"SUM(K24+U24)","v":77}]
[{"$f":"'KROHN, GARY'!$A$2","v":"KROHN, GARY"},{"$f":"'KROHN, GARY'!B55","v":5},{"$f":"'KROHN, GARY'!C55","v":3},{"$f":"'KROHN, GARY'!D55","v":3},{"$f":"'KROHN, GARY'!E55","v":4},{"$f":"'KROHN, GARY'!F55","v":3},{"$f":"'KROHN, GARY'!G55","v":4},{"$f":"'KROHN, GARY'!H55","v":4},{"$f":"'KROHN, GARY'!I55","v":4},{"$f":"'KROHN, GARY'!J55","v":4},{"$f":"SUM(B25:J25)","v":34},{"$f":"'KROHN, GARY'!L55","v":5},{"$f":"'KROHN, GARY'!M55","v":5},{"$f":"'KROHN, GARY'!N55","v":2},{"$f":"'KROHN, GARY'!O55","v":4},{"$f":"'KROHN, GARY'!P55","v":4},{"$f":"'KROHN, GARY'!Q55","v":3},{"$f":"'KROHN, GARY'!R55","v":5},{"$f":"'KROHN, GARY'!S55","v":4},{"$f":"'KROHN, GARY'!T55","v":4},{"$f":"SUM(L25:T25)","v":36},{"$f":"SUM(K25+U25)","v":70}]
[{"$f":"'LACHMAN, MARK'!$A$2","v":"LACHMAN, MARK"},{"$f":"'LACHMAN, MARK'!B55","v":4},{"$f":"'LACHMAN, MARK'!C55","v":5},{"$f":"'LACHMAN, MARK'!D55","v":3},{"$f":"'LACHMAN, MARK'!E55","v":4},{"$f":"'LACHMAN, MARK'!F55","v":3},{"$f":"'LACHMAN, MARK'!G55","v":5},{"$f":"'LACHMAN, MARK'!H55","v":4},{"$f":"'LACHMAN, MARK'!I55","v":4},{"$f":"'LACHMAN, MARK'!J55","v":4},{"$f":"SUM(B26:J26)","v":36},{"$f":"'LACHMAN, MARK'!L55","v":5},{"$f":"'LACHMAN, MARK'!M55","v":4},{"$f":"'LACHMAN, MARK'!N55","v":3},{"$f":"'LACHMAN, MARK'!O55","v":4},{"$f":"'LACHMAN, MARK'!P55","v":5},{"$f":"'LACHMAN, MARK'!Q55","v":3},{"$f":"'LACHMAN, MARK'!R55","v":5},{"$f":"'LACHMAN, MARK'!S55","v":4},{"$f":"'LACHMAN, MARK'!T55","v":5},{"$f":"SUM(L26:T26)","v":38},{"$f":"SUM(K26+U26)","v":74}]
[{"$f":"'LANGE, BRYAN'!$A$2","v":"LANGE, BRYAN"},{"$f":"'LANGE, BRYAN'!B55","v":4},{"$f":"'LANGE, BRYAN'!C55","v":4},{"$f":"'LANGE, BRYAN'!D55","v":2},{"$f":"'LANGE, BRYAN'!E55","v":3},{"$f":"'LANGE, BRYAN'!F55","v":3},{"$f":"'LANGE, BRYAN'!G55","v":5},{"$f":"'LANGE, BRYAN'!H55","v":4},{"$f":"'LANGE, BRYAN'!I55","v":4},{"$f":"'LANGE, BRYAN'!J55","v":3},32,{"$f":"'LANGE, BRYAN'!L55","v":4},{"$f":"'LANGE, BRYAN'!M55","v":3},{"$f":"'LANGE, BRYAN'!N55","v":3},{"$f":"'LANGE, BRYAN'!O55","v":3},{"$f":"'LANGE, BRYAN'!P55","v":3},{"$f":"'LANGE, BRYAN'!Q55","v":3},{"$f":"'LANGE, BRYAN'!R55","v":4},{"$f":"'LANGE, BRYAN'!S55","v":4},{"$f":"'LANGE, BRYAN'!T55","v":3},30,62]
[{"$f":"'LENAKAKIS, YIANNI'!$A$2","v":"LENAKAKIS, YIANNI"},{"$f":"'LENAKAKIS, YIANNI'!B55","v":4},{"$f":"'LENAKAKIS, YIANNI'!C55","v":5},{"$f":"'LENAKAKIS, YIANNI'!D55","v":3},{"$f":"'LENAKAKIS, YIANNI'!E55","v":5},{"$f":"'LENAKAKIS, YIANNI'!F55","v":4},{"$f":"'LENAKAKIS, YIANNI'!G55","v":4},{"$f":"'LENAKAKIS, YIANNI'!H55","v":4},{"$f":"'LENAKAKIS, YIANNI'!I55","v":4},{"$f":"'LENAKAKIS, YIANNI'!J55","v":3},36,{"$f":"'LENAKAKIS, YIANNI'!L55","v":5},{"$f":"'LENAKAKIS, YIANNI'!M55","v":4},{"$f":"'LENAKAKIS, YIANNI'!N55","v":3},{"$f":"'LENAKAKIS, YIANNI'!O55","v":4},{"$f":"'LENAKAKIS, YIANNI'!P55","v":4},{"$f":"'LENAKAKIS, YIANNI'!Q55","v":3},{"$f":"'LENAKAKIS, YIANNI'!R55","v":4},{"$f":"'LENAKAKIS, YIANNI'!S55","v":3},{"$f":"'LENAKAKIS, YIANNI'!T55","v":4},34,70]
[{"$f":"'MCCULLOUGH, DAN'!$A$2","v":"MCCULLOUGH, DAN"},{"$f":"'MCCULLOUGH, DAN'!B55","v":4},{"$f":"'MCCULLOUGH, DAN'!C55","v":4},{"$f":"'MCCULLOUGH, DAN'!D55","v":3},{"$f":"'MCCULLOUGH, DAN'!E55","v":4},{"$f":"'MCCULLOUGH, DAN'!F55","v":2},{"$f":"'MCCULLOUGH, DAN'!G55","v":4},{"$f":"'MCCULLOUGH, DAN'!H55","v":4},{"$f":"'MCCULLOUGH, DAN'!I55","v":3},{"$f":"'MCCULLOUGH, DAN'!J55","v":4},32,{"$f":"'MCCULLOUGH, DAN'!L55","v":4},{"$f":"'MCCULLOUGH, DAN'!M55","v":4},{"$f":"'MCCULLOUGH, DAN'!N55","v":3},{"$f":"'MCCULLOUGH, DAN'!O55","v":4},{"$f":"'MCCULLOUGH, DAN'!P55","v":3},{"$f":"'MCCULLOUGH, DAN'!Q55","v":2},{"$f":"'MCCULLOUGH, DAN'!R55","v":4},{"$f":"'MCCULLOUGH, DAN'!S55","v":3},{"$f":"'MCCULLOUGH, DAN'!T55","v":4},31,63]
[{"$f":"'MCELHATTON, THOMAS'!$A$2","v":"MCELHATTON, THOMAS"},{"$f":"'MCELHATTON, THOMAS'!B55","v":4},{"$f":"'MCELHATTON, THOMAS'!C55","v":5},{"$f":"'MCELHATTON, THOMAS'!D55","v":3},{"$f":"'MCELHATTON, THOMAS'!E55","v":4},{"$f":"'MCELHATTON, THOMAS'!F55","v":3},{"$f":"'MCELHATTON, THOMAS'!G55","v":5},{"$f":"'MCELHATTON, THOMAS'!H55","v":3},{"$f":"'MCELHATTON, THOMAS'!I55","v":4},{"$f":"'MCELHATTON, THOMAS'!J55","v":4},35,{"$f":"'MCELHATTON, THOMAS'!L55","v":5},{"$f":"'MCELHATTON, THOMAS'!M55","v":3},{"$f":"'MCELHATTON, THOMAS'!N55","v":3},{"$f":"'MCELHATTON, THOMAS'!O55","v":4},{"$f":"'MCELHATTON, THOMAS'!P55","v":4},{"$f":"'MCELHATTON, THOMAS'!Q55","v":2},{"$f":"'MCELHATTON, THOMAS'!R55","v":4},{"$f":"'MCELHATTON, THOMAS'!S55","v":3},{"$f":"'MCELHATTON, THOMAS'!T55","v":4},32,67]
[{"$f":"'MCGEE, TONY'!$A$2","v":"MCGEE, TONY"},{"$f":"'MCGEE, TONY'!B55","v":4},{"$f":"'MCGEE, TONY'!C55","v":5},{"$f":"'MCGEE, TONY'!D55","v":2},{"$f":"'MCGEE, TONY'!E55","v":4},{"$f":"'MCGEE, TONY'!F55","v":2},{"$f":"'MCGEE, TONY'!G55","v":5},{"$f":"'MCGEE, TONY'!H55","v":4},{"$f":"'MCGEE, TONY'!I55","v":4},{"$f":"'MCGEE, TONY'!J55","v":4},34,{"$f":"'MCGEE, TONY'!L55","v":5},{"$f":"'MCGEE, TONY'!M55","v":4},{"$f":"'MCGEE, TONY'!N55","v":3},{"$f":"'MCGEE, TONY'!O55","v":3},{"$f":"'MCGEE, TONY'!P55","v":4},{"$f":"'MCGEE, TONY'!Q55","v":2},{"$f":"'MCGEE, TONY'!R55","v":5},{"$f":"'MCGEE, TONY'!S55","v":4},{"$f":"'MCGEE, TONY'!T55","v":4},{"$f":"SUM(L31:T31)","v":34},68]
[{"$f":"'MCKERNAN, BRAD'!$A$2","v":"MCKERNAN, BRAD"},{"$f":"'MCKERNAN, BRAD'!B55","v":4},{"$f":"'MCKERNAN, BRAD'!C55","v":6},{"$f":"'MCKERNAN, BRAD'!D55","v":3},{"$f":"'MCKERNAN, BRAD'!E55","v":5},{"$f":"'MCKERNAN, BRAD'!F55","v":3},{"$f":"'MCKERNAN, BRAD'!G55","v":5},{"$f":"'MCKERNAN, BRAD'!H55","v":5},{"$f":"'MCKERNAN, BRAD'!I55","v":4},{"$f":"'MCKERNAN, BRAD'!J55","v":4},39,{"$f":"'MCKERNAN, BRAD'!L55","v":5},{"$f":"'MCKERNAN, BRAD'!M55","v":5},{"$f":"'MCKERNAN, BRAD'!N55","v":3},{"$f":"'MCKERNAN, BRAD'!O55","v":5},{"$f":"'MCKERNAN, BRAD'!P55","v":5},{"$f":"'MCKERNAN, BRAD'!Q55","v":3},{"$f":"'MCKERNAN, BRAD'!R55","v":5},{"$f":"'MCKERNAN, BRAD'!S55","v":4},{"$f":"'MCKERNAN, BRAD'!T55","v":5},40,79]
[{"$f":"'MONAGHAN, MILES'!$A$2","v":"MONAGHAN, MILES"},{"$f":"'MONAGHAN, MILES'!B55","v":4},{"$f":"'MONAGHAN, MILES'!C55","v":5},{"$f":"'MONAGHAN, MILES'!D55","v":3},{"$f":"'MONAGHAN, MILES'!E55","v":4},{"$f":"'MONAGHAN, MILES'!F55","v":3},{"$f":"'MONAGHAN, MILES'!G55","v":4},{"$f":"'MONAGHAN, MILES'!H55","v":4},{"$f":"'MONAGHAN, MILES'!I55","v":4},{"$f":"'MONAGHAN, MILES'!J55","v":4},35,{"$f":"'MONAGHAN, MILES'!L55","v":5},{"$f":"'MONAGHAN, MILES'!M55","v":4},{"$f":"'MONAGHAN, MILES'!N55","v":3},{"$f":"'MONAGHAN, MILES'!O55","v":4},{"$f":"'MONAGHAN, MILES'!P55","v":3},{"$f":"'MONAGHAN, MILES'!Q55","v":3},{"$f":"'MONAGHAN, MILES'!R55","v":5},{"$f":"'MONAGHAN, MILES'!S55","v":4},{"$f":"'MONAGHAN, MILES'!T55","v":3},34,69]
[{"$f":"'NELSON, TIMOTHY'!$A$2","v":"NELSON, TIMOTHY"},{"$f":"'NELSON, TIMOTHY'!B55","v":4},{"$f":"'NELSON, TIMOTHY'!C55","v":4},{"$f":"'NELSON, TIMOTHY'!D55","v":3},{"$f":"'NELSON, TIMOTHY'!E55","v":3},{"$f":"'NELSON, TIMOTHY'!F55","v":2},{"$f":"'NELSON, TIMOTHY'!G55","v":5},{"$f":"'NELSON, TIMOTHY'!H55","v":4},{"$f":"'NELSON, TIMOTHY'!I55","v":4},{"$f":"'NELSON, TIMOTHY'!J55","v":4},33,{"$f":"'NELSON, TIMOTHY'!L55","v":4},{"$f":"'NELSON, TIMOTHY'!M55","v":4},{"$f":"'NELSON, TIMOTHY'!N55","v":3},{"$f":"'NELSON, TIMOTHY'!O55","v":4},{"$f":"'NELSON, TIMOTHY'!P55","v":4},{"$f":"'NELSON, TIMOTHY'!Q55","v":3},{"$f":"'NELSON, TIMOTHY'!R55","v":5},{"$f":"'NELSON, TIMOTHY'!S55","v":4},{"$f":"'NELSON, TIMOTHY'!T55","v":2},33,66]
[{"$f":"'NORTH, MICHAEL'!$A$2","v":"NORTH, MICHAEL"},{"$f":"'NORTH, MICHAEL'!B55","v":4},{"$f":"'NORTH, MICHAEL'!C55","v":6},{"$f":"'NORTH, MICHAEL'!D55","v":3},{"$f":"'NORTH, MICHAEL'!E55","v":4},{"$f":"'NORTH, MICHAEL'!F55","v":3},{"$f":"'NORTH, MICHAEL'!G55","v":4},{"$f":"'NORTH, MICHAEL'!H55","v":4},{"$f":"'NORTH, MICHAEL'!I55","v":5},{"$f":"'NORTH, MICHAEL'!J55","v":4},37,{"$f":"'NORTH, MICHAEL'!L55","v":5},{"$f":"'NORTH, MICHAEL'!M55","v":4},{"$f":"'NORTH, MICHAEL'!N55","v":3},{"$f":"'NORTH, MICHAEL'!O55","v":4},{"$f":"'NORTH, MICHAEL'!P55","v":4},{"$f":"'NORTH, MICHAEL'!Q55","v":3},{"$f":"'NORTH, MICHAEL'!R55","v":4},{"$f":"'NORTH, MICHAEL'!S55","v":4},{"$f":"'NORTH, MICHAEL'!T55","v":5},{"$f":"SUM(L35:T35)","v":36},73]
[{"$f":"'OLMSTEAD, KEN'!$A$2","v":"OLMSTEAD, KEN"},{"$f":"'OLMSTEAD, KEN'!B55","v":5},{"$f":"'OLMSTEAD, KEN'!C55","v":5},{"$f":"'OLMSTEAD, KEN'!D55","v":3},{"$f":"'OLMSTEAD, KEN'!E55","v":4},{"$f":"'OLMSTEAD, KEN'!F55","v":3},{"$f":"'OLMSTEAD, KEN'!G55","v":5},{"$f":"'OLMSTEAD, KEN'!H55","v":3},{"$f":"'OLMSTEAD, KEN'!I55","v":3},{"$f":"'OLMSTEAD, KEN'!J55","v":4},35,{"$f":"'OLMSTEAD, KEN'!L55","v":4},{"$f":"'OLMSTEAD, KEN'!M55","v":4},{"$f":"'OLMSTEAD, KEN'!N55","v":3},{"$f":"'OLMSTEAD, KEN'!O55","v":3},{"$f":"'OLMSTEAD, KEN'!P55","v":3},{"$f":"'OLMSTEAD, KEN'!Q55","v":2},{"$f":"'OLMSTEAD, KEN'!R55","v":5},{"$f":"'OLMSTEAD, KEN'!S55","v":3},{"$f":"'OLMSTEAD, KEN'!T55","v":4},31,66]
[{"$f":"'PERRY, JAMES'!$A$2","v":"PERRY, JAMES"},{"$f":"'PERRY, JAMES'!B55","v":3},{"$f":"'PERRY, JAMES'!C55","v":5},{"$f":"'PERRY, JAMES'!D55","v":2},{"$f":"'PERRY, JAMES'!E55","v":4},{"$f":"'PERRY, JAMES'!F55","v":3},{"$f":"'PERRY, JAMES'!G55","v":5},{"$f":"'PERRY, JAMES'!H55","v":4},{"$f":"'PERRY, JAMES'!I55","v":3},{"$f":"'PERRY, JAMES'!J55","v":3},32,{"$f":"'PERRY, JAMES'!L55","v":4},{"$f":"'PERRY, JAMES'!M55","v":4},{"$f":"'PERRY, JAMES'!N55","v":2},{"$f":"'PERRY, JAMES'!O55","v":4},{"$f":"'PERRY, JAMES'!P55","v":4},{"$f":"'PERRY, JAMES'!Q55","v":2},{"$f":"'PERRY, JAMES'!R55","v":4},{"$f":"'PERRY, JAMES'!S55","v":4},{"$f":"'PERRY, JAMES'!T55","v":4},32,64]
[{"$f":"'POWELL, ED'!$A$2","v":"POWELL, ED"},{"$f":"'POWELL, ED'!B55","v":4},{"$f":"'POWELL, ED'!C55","v":5},{"$f":"'POWELL, ED'!D55","v":3},{"$f":"'POWELL, ED'!E55","v":4},{"$f":"'POWELL, ED'!F55","v":3},{"$f":"'POWELL, ED'!G55","v":5},{"$f":"'POWELL, ED'!H55","v":4},{"$f":"'POWELL, ED'!I55","v":4},{"$f":"'POWELL, ED'!J55","v":4},36,{"$f":"'POWELL, ED'!L55","v":5},{"$f":"'POWELL, ED'!M55","v":4},{"$f":"'POWELL, ED'!N55","v":3},{"$f":"'POWELL, ED'!O55","v":3},{"$f":"'POWELL, ED'!P55","v":4},{"$f":"'POWELL, ED'!Q55","v":3},{"$f":"'POWELL, ED'!R55","v":4},{"$f":"'POWELL, ED'!S55","v":4},{"$f":"'POWELL, ED'!T55","v":4},34,70]
[{"$f":"'PRZEPIORSKI, KARRY'!$A$2","v":"PRZEPIORSKI, KARRY"},{"$f":"'PRZEPIORSKI, KARRY'!B55","v":5},{"$f":"'PRZEPIORSKI, KARRY'!C55","v":5},{"$f":"'PRZEPIORSKI, KARRY'!D55","v":2},{"$f":"'PRZEPIORSKI, KARRY'!E55","v":4},{"$f":"'PRZEPIORSKI, KARRY'!F55","v":2},{"$f":"'PRZEPIORSKI, KARRY'!G55","v":5},{"$f":"'PRZEPIORSKI, KARRY'!H55","v":5},{"$f":"'PRZEPIORSKI, KARRY'!I55","v":4},{"$f":"'PRZEPIORSKI, KARRY'!J55","v":5},37,{"$f":"'PRZEPIORSKI, KARRY'!L55","v":5},{"$f":"'PRZEPIORSKI, KARRY'!M55","v":4},{"$f":"'PRZEPIORSKI, KARRY'!N55","v":3},{"$f":"'PRZEPIORSKI, KARRY'!O55","v":4},{"$f":"'PRZEPIORSKI, KARRY'!P55","v":4},{"$f":"'PRZEPIORSKI, KARRY'!Q55","v":4},{"$f":"'PRZEPIORSKI, KARRY'!R55","v":5},{"$f":"'PRZEPIORSKI, KARRY'!S55","v":4},{"$f":"'PRZEPIORSKI, KARRY'!T55","v":5},38,75]
[{"$f":"'REED, DAVID'!$A$2","v":"REED, DAVID"},{"$f":"'REED, DAVID'!B55","v":4},{"$f":"'REED, DAVID'!C55","v":5},{"$f":"'REED, DAVID'!D55","v":2},{"$f":"'REED, DAVID'!E55","v":4},{"$f":"'REED, DAVID'!F55","v":3},{"$f":"'REED, DAVID'!G55","v":5},{"$f":"'REED, DAVID'!H55","v":4},{"$f":"'REED, DAVID'!I55","v":4},{"$f":"'REED, DAVID'!J55","v":4},35,{"$f":"'REED, DAVID'!L55","v":4},{"$f":"'REED, DAVID'!M55","v":4},{"$f":"'REED, DAVID'!N55","v":3},{"$f":"'REED, DAVID'!O55","v":4},{"$f":"'REED, DAVID'!P55","v":4},{"$f":"'REED, DAVID'!Q55","v":3},{"$f":"'REED, DAVID'!R55","v":4},{"$f":"'REED, DAVID'!S55","v":4},{"$f":"'REED, DAVID'!T55","v":3},33,68]
[{"$f":"'RUSSI, BRYON'!$A$2","v":"RUSSI, BRYON"},{"$f":"'RUSSI, BRYON'!B55","v":3},{"$f":"'RUSSI, BRYON'!C55","v":5},{"$f":"'RUSSI, BRYON'!D55","v":2},{"$f":"'RUSSI, BRYON'!E55","v":3},{"$f":"'RUSSI, BRYON'!F55","v":2},{"$f":"'RUSSI, BRYON'!G55","v":5},{"$f":"'RUSSI, BRYON'!H55","v":4},{"$f":"'RUSSI, BRYON'!I55","v":4},{"$f":"'RUSSI, BRYON'!J55","v":4},32,{"$f":"'RUSSI, BRYON'!L55","v":5},{"$f":"'RUSSI, BRYON'!M55","v":3},{"$f":"'RUSSI, BRYON'!N55","v":3},{"$f":"'RUSSI, BRYON'!O55","v":4},{"$f":"'RUSSI, BRYON'!P55","v":4},{"$f":"'RUSSI, BRYON'!Q55","v":3},{"$f":"'RUSSI, BRYON'!R55","v":4},{"$f":"'RUSSI, BRYON'!S55","v":4},{"$f":"'RUSSI, BRYON'!T55","v":5},35,67]
[{"$f":"'SALCEDO, JOSE'!$A$2","v":"SALCEDO, JOSE"},{"$f":"'SALCEDO, JOSE'!B55","v":4},{"$f":"'SALCEDO, JOSE'!C55","v":5},{"$f":"'SALCEDO, JOSE'!D55","v":3},{"$f":"'SALCEDO, JOSE'!E55","v":3},{"$f":"'SALCEDO, JOSE'!F55","v":3},{"$f":"'SALCEDO, JOSE'!G55","v":4},{"$f":"'SALCEDO, JOSE'!H55","v":3},{"$f":"'SALCEDO, JOSE'!I55","v":4},{"$f":"'SALCEDO, JOSE'!J55","v":3},32,{"$f":"'SALCEDO, JOSE'!L55","v":4},{"$f":"'SALCEDO, JOSE'!M55","v":3},{"$f":"'SALCEDO, JOSE'!N55","v":2},{"$f":"'SALCEDO, JOSE'!O55","v":4},{"$f":"'SALCEDO, JOSE'!P55","v":4},{"$f":"'SALCEDO, JOSE'!Q55","v":3},{"$f":"'SALCEDO, JOSE'!R55","v":4},{"$f":"'SALCEDO, JOSE'!S55","v":4},{"$f":"'SALCEDO, JOSE'!T55","v":4},32,64]
[{"$f":"'SALINAS, ALONSO'!$A$2","v":"SALINAS, ALONSO"},{"$f":"'SALINAS, ALONSO'!B55","v":5},{"$f":"'SALINAS, ALONSO'!C55","v":5},{"$f":"'SALINAS, ALONSO'!D55","v":2},{"$f":"'SALINAS, ALONSO'!E55","v":5},{"$f":"'SALINAS, ALONSO'!F55","v":2},{"$f":"'SALINAS, ALONSO'!G55","v":7},{"$f":"'SALINAS, ALONSO'!H55","v":5},{"$f":"'SALINAS, ALONSO'!I55","v":5},{"$f":"'SALINAS, ALONSO'!J55","v":6},42,{"$f":"'SALINAS, ALONSO'!L55","v":6},{"$f":"'SALINAS, ALONSO'!M55","v":5},{"$f":"'SALINAS, ALONSO'!N55","v":3},{"$f":"'SALINAS, ALONSO'!O55","v":6},{"$f":"'SALINAS, ALONSO'!P55","v":5},{"$f":"'SALINAS, ALONSO'!Q55","v":4},{"$f":"'SALINAS, ALONSO'!R55","v":6},{"$f":"'SALINAS, ALONSO'!S55","v":4},{"$f":"'SALINAS, ALONSO'!T55","v":5},{"$f":"'SALINAS, ALONSO'!U30","v":46},88]
[{"$f":"'SCHALLER, MARK'!$A$2","v":"SCHALLER, MARK"},{"$f":"'SCHALLER, MARK'!B55","v":5},{"$f":"'SCHALLER, MARK'!C55","v":5},{"$f":"'SCHALLER, MARK'!D55","v":3},{"$f":"'SCHALLER, MARK'!E55","v":5},{"$f":"'SCHALLER, MARK'!F55","v":3},{"$f":"'SCHALLER, MARK'!G55","v":5},{"$f":"'SCHALLER, MARK'!H55","v":4},{"$f":"'SCHALLER, MARK'!I55","v":4},{"$f":"'SCHALLER, MARK'!J55","v":5},39,{"$f":"'SCHALLER, MARK'!L55","v":5},{"$f":"'SCHALLER, MARK'!M55","v":4},{"$f":"'SCHALLER, MARK'!N55","v":3},{"$f":"'SCHALLER, MARK'!O55","v":4},{"$f":"'SCHALLER, MARK'!P55","v":4},{"$f":"'SCHALLER, MARK'!Q55","v":3},{"$f":"'SCHALLER, MARK'!R55","v":4},{"$f":"'SCHALLER, MARK'!S55","v":4},{"$f":"'SCHALLER, MARK'!T55","v":5},{"$f":"SUM(L44:T44)","v":36},75]
[{"$f":"'SHIMIZU, YUTAKA'!$A$2","v":"SHIMIZU, YUTAKA"},{"$f":"'SHIMIZU, YUTAKA'!B55","v":4},{"$f":"'SHIMIZU, YUTAKA'!C55","v":5},{"$f":"'SHIMIZU, YUTAKA'!D55","v":3},{"$f":"'SHIMIZU, YUTAKA'!E55","v":4},{"$f":"'SHIMIZU, YUTAKA'!F55","v":2},{"$f":"'SHIMIZU, YUTAKA'!G55","v":4},{"$f":"'SHIMIZU, YUTAKA'!H55","v":3},{"$f":"'SHIMIZU, YUTAKA'!I55","v":4},{"$f":"'SHIMIZU, YUTAKA'!J55","v":3},32,{"$f":"'SHIMIZU, YUTAKA'!L55","v":5},{"$f":"'SHIMIZU, YUTAKA'!M55","v":4},{"$f":"'SHIMIZU, YUTAKA'!N55","v":3},{"$f":"'SHIMIZU, YUTAKA'!O55","v":4},{"$f":"'SHIMIZU, YUTAKA'!P55","v":4},{"$f":"'SHIMIZU, YUTAKA'!Q55","v":3},{"$f":"'SHIMIZU, YUTAKA'!R55","v":5},{"$f":"'SHIMIZU, YUTAKA'!S55","v":3},{"$f":"'SHIMIZU, YUTAKA'!T55","v":4},35,67]
[{"$f":"'SIERRA, JESSE'!$A$2","v":"SIERRA, JESSE"},{"$f":"'SIERRA, JESSE'!B55","v":4},{"$f":"'SIERRA, JESSE'!C55","v":5},{"$f":"'SIERRA, JESSE'!D55","v":2},{"$f":"'SIERRA, JESSE'!E55","v":4},{"$f":"'SIERRA, JESSE'!F55","v":2},{"$f":"'SIERRA, JESSE'!G55","v":4},{"$f":"'SIERRA, JESSE'!H55","v":3},{"$f":"'SIERRA, JESSE'!I55","v":4},{"$f":"'SIERRA, JESSE'!J55","v":4},32,{"$f":"'SIERRA, JESSE'!L55","v":4},{"$f":"'SIERRA, JESSE'!M55","v":4},{"$f":"'SIERRA, JESSE'!N55","v":3},{"$f":"'SIERRA, JESSE'!O55","v":4},{"$f":"'SIERRA, JESSE'!P55","v":3},{"$f":"'SIERRA, JESSE'!Q55","v":2},{"$f":"'SIERRA, JESSE'!R55","v":4},{"$f":"'SIERRA, JESSE'!S55","v":4},{"$f":"'SIERRA, JESSE'!T55","v":4},32,64]
[{"$f":"'SMITH, MICHAEL'!$A$2","v":"SMITH, MICHAEL"},{"$f":"'SMITH, MICHAEL'!B55","v":4},{"$f":"'SMITH, MICHAEL'!C55","v":5},{"$f":"'SMITH, MICHAEL'!D55","v":3},{"$f":"'SMITH, MICHAEL'!E55","v":5},{"$f":"'SMITH, MICHAEL'!F55","v":3},{"$f":"'SMITH, MICHAEL'!G55","v":5},{"$f":"'SMITH, MICHAEL'!H55","v":5},{"$f":"'SMITH, MICHAEL'!I55","v":4},{"$f":"'SMITH, MICHAEL'!J55","v":4},38,{"$f":"'SMITH, MICHAEL'!L55","v":5},{"$f":"'SMITH, MICHAEL'!M55","v":4},{"$f":"'SMITH, MICHAEL'!N55","v":2},{"$f":"'SMITH, MICHAEL'!O55","v":4},{"$f":"'SMITH, MICHAEL'!P55","v":4},{"$f":"'SMITH, MICHAEL'!Q55","v":2},{"$f":"'SMITH, MICHAEL'!R55","v":5},{"$f":"'SMITH, MICHAEL'!S55","v":4},{"$f":"'SMITH, MICHAEL'!T55","v":5},35,73]
[{"$f":"'SOUTO, ERIC'!$A$2","v":"SOUTO, ERIC"},{"$f":"'SOUTO, ERIC'!B55","v":4},{"$f":"'SOUTO, ERIC'!C55","v":5},{"$f":"'SOUTO, ERIC'!D55","v":3},{"$f":"'SOUTO, ERIC'!E55","v":4},{"$f":"'SOUTO, ERIC'!F55","v":2},{"$f":"'SOUTO, ERIC'!G55","v":3},{"$f":"'SOUTO, ERIC'!H55","v":3},{"$f":"'SOUTO, ERIC'!I55","v":4},{"$f":"'SOUTO, ERIC'!J55","v":4},32,{"$f":"'SOUTO, ERIC'!L55","v":4},{"$f":"'SOUTO, ERIC'!M55","v":4},{"$f":"'SOUTO, ERIC'!N55","v":3},{"$f":"'SOUTO, ERIC'!O55","v":3},{"$f":"'SOUTO, ERIC'!P55","v":3},{"$f":"'SOUTO, ERIC'!Q55","v":2},{"$f":"'SOUTO, ERIC'!R55","v":3},{"$f":"'SOUTO, ERIC'!S55","v":3},{"$f":"'SOUTO, ERIC'!T55","v":4},29,61]
[{"$f":"'SWEATT, BRIAN'!$A$2","v":"SWEATT, BRIAN"},{"$f":"'SWEATT, BRIAN'!B55","v":4},{"$f":"'SWEATT, BRIAN'!C55","v":4},{"$f":"'SWEATT, BRIAN'!D55","v":2},{"$f":"'SWEATT, BRIAN'!E55","v":4},{"$f":"'SWEATT, BRIAN'!F55","v":3},{"$f":"'SWEATT, BRIAN'!G55","v":4},{"$f":"'SWEATT, BRIAN'!H55","v":4},{"$f":"'SWEATT, BRIAN'!I55","v":3},{"$f":"'SWEATT, BRIAN'!J55","v":4},32,{"$f":"'SWEATT, BRIAN'!L55","v":4},{"$f":"'SWEATT, BRIAN'!M55","v":3},{"$f":"'SWEATT, BRIAN'!N55","v":2},{"$f":"'SWEATT, BRIAN'!O55","v":4},{"$f":"'SWEATT, BRIAN'!P55","v":3},{"$f":"'SWEATT, BRIAN'!Q55","v":3},{"$f":"'SWEATT, BRIAN'!R55","v":5},{"$f":"'SWEATT, BRIAN'!S55","v":4},{"$f":"'SWEATT, BRIAN'!T55","v":4},32,64]
[{"$f":"'TAYLOR, STEVE'!$A$2","v":"TAYLOR, STEVE"},{"$f":"'TAYLOR, STEVE'!B55","v":3},{"$f":"'TAYLOR, STEVE'!C55","v":4},{"$f":"'TAYLOR, STEVE'!D55","v":2},{"$f":"'TAYLOR, STEVE'!E55","v":4},{"$f":"'TAYLOR, STEVE'!F55","v":3},{"$f":"'TAYLOR, STEVE'!G55","v":4},{"$f":"'TAYLOR, STEVE'!H55","v":3},{"$f":"'TAYLOR, STEVE'!I55","v":4},{"$f":"'TAYLOR, STEVE'!J55","v":3},30,{"$f":"'TAYLOR, STEVE'!L55","v":4},{"$f":"'TAYLOR, STEVE'!M55","v":3},{"$f":"'TAYLOR, STEVE'!N55","v":3},{"$f":"'TAYLOR, STEVE'!O55","v":4},{"$f":"'TAYLOR, STEVE'!P55","v":4},{"$f":"'TAYLOR, STEVE'!Q55","v":3},{"$f":"'TAYLOR, STEVE'!R55","v":4},{"$f":"'TAYLOR, STEVE'!S55","v":3},{"$f":"'TAYLOR, STEVE'!T55","v":4},32,62]
[{"$f":"'THOMPSEN, NEIL'!$A$2","v":"THOMPSEN, NEIL"},{"$f":"'THOMPSEN, NEIL'!B55","v":3},{"$f":"'THOMPSEN, NEIL'!C55","v":5},{"$f":"'THOMPSEN, NEIL'!D55","v":2},{"$f":"'THOMPSEN, NEIL'!E55","v":4},{"$f":"'THOMPSEN, NEIL'!F55","v":3},{"$f":"'THOMPSEN, NEIL'!G55","v":4},{"$f":"'THOMPSEN, NEIL'!H55","v":4},{"$f":"'THOMPSEN, NEIL'!I55","v":4},{"$f":"'THOMPSEN, NEIL'!J55","v":4},33,{"$f":"'THOMPSEN, NEIL'!L55","v":4},{"$f":"'THOMPSEN, NEIL'!M55","v":4},{"$f":"'THOMPSEN, NEIL'!N55","v":3},{"$f":"'THOMPSEN, NEIL'!O55","v":3},{"$f":"'THOMPSEN, NEIL'!P55","v":3},{"$f":"'THOMPSEN, NEIL'!Q55","v":3},{"$f":"'THOMPSEN, NEIL'!R55","v":4},{"$f":"'THOMPSEN, NEIL'!S55","v":3},{"$f":"'THOMPSEN, NEIL'!T55","v":4},31,64]
[{"$f":"'VERHAAG, MARK'!$A$2","v":"VERHAAG, MARK"},{"$f":"'VERHAAG, MARK'!B55","v":4},{"$f":"'VERHAAG, MARK'!C55","v":4},{"$f":"'VERHAAG, MARK'!D55","v":3},{"$f":"'VERHAAG, MARK'!E55","v":3},{"$f":"'VERHAAG, MARK'!F55","v":3},{"$f":"'VERHAAG, MARK'!G55","v":5},{"$f":"'VERHAAG, MARK'!H55","v":3},{"$f":"'VERHAAG, MARK'!I55","v":4},{"$f":"'VERHAAG, MARK'!J55","v":4},33,{"$f":"'VERHAAG, MARK'!L55","v":4},{"$f":"'VERHAAG, MARK'!M55","v":4},{"$f":"'VERHAAG, MARK'!N55","v":2},{"$f":"'VERHAAG, MARK'!O55","v":4},{"$f":"'VERHAAG, MARK'!P55","v":4},{"$f":"'VERHAAG, MARK'!Q55","v":4},{"$f":"'VERHAAG, MARK'!R55","v":4},{"$f":"'VERHAAG, MARK'!S55","v":3},{"$f":"'VERHAAG, MARK'!T55","v":4},33,66]
[{"$f":"'WHARFF, HARRY'!$A$2","v":"WHARFF, HARRY"},{"$f":"'WHARFF, HARRY'!B55","v":4},{"$f":"'WHARFF, HARRY'!C55","v":5},{"$f":"'WHARFF, HARRY'!D55","v":3},{"$f":"'WHARFF, HARRY'!E55","v":4},{"$f":"'WHARFF, HARRY'!F55","v":3},{"$f":"'WHARFF, HARRY'!G55","v":3},{"$f":"'WHARFF, HARRY'!H55","v":4},{"$f":"'WHARFF, HARRY'!I55","v":3},{"$f":"'WHARFF, HARRY'!J55","v":4},33,{"$f":"'WHARFF, HARRY'!L55","v":5},{"$f":"'WHARFF, HARRY'!M55","v":4},{"$f":"'WHARFF, HARRY'!N55","v":2},{"$f":"'WHARFF, HARRY'!O55","v":4},{"$f":"'WHARFF, HARRY'!P55","v":3},{"$f":"'WHARFF, HARRY'!Q55","v":3},{"$f":"'WHARFF, HARRY'!R55","v":4},{"$f":"'WHARFF, HARRY'!S55","v":4},{"$f":"'WHARFF, HARRY'!T55","v":4},33,66]
[{"$f":"'WHARFF, JOHN'!$A$2","v":"WHARFF, JOHN"},{"$f":"'WHARFF, JOHN'!B55","v":4},{"$f":"'WHARFF, JOHN'!C55","v":5},{"$f":"'WHARFF, JOHN'!D55","v":3},{"$f":"'WHARFF, JOHN'!E55","v":3},{"$f":"'WHARFF, JOHN'!F55","v":4},{"$f":"'WHARFF, JOHN'!G55","v":5},{"$f":"'WHARFF, JOHN'!H55","v":4},{"$f":"'WHARFF, JOHN'!I55","v":5},{"$f":"'WHARFF, JOHN'!J55","v":6},39,{"$f":"'WHARFF, JOHN'!L55","v":5},{"$f":"'WHARFF, JOHN'!M55","v":5},{"$f":"'WHARFF, JOHN'!N55","v":3},{"$f":"'WHARFF, JOHN'!O55","v":5},{"$f":"'WHARFF, JOHN'!P55","v":4},{"$f":"'WHARFF, JOHN'!Q55","v":4},{"$f":"'WHARFF, JOHN'!R55","v":4},{"$f":"'WHARFF, JOHN'!S55","v":3},{"$f":"'WHARFF, JOHN'!T55","v":5},38,77]
[{"$f":"'WILSON, PAUL'!$A$2","v":"WILSON, PAUL"},{"$f":"'WILSON, PAUL'!B55","v":3},{"$f":"'WILSON, PAUL'!C55","v":4},{"$f":"'WILSON, PAUL'!D55","v":2},{"$f":"'WILSON, PAUL'!E55","v":3},{"$f":"'WILSON, PAUL'!F55","v":2},{"$f":"'WILSON, PAUL'!G55","v":4},{"$f":"'WILSON, PAUL'!H55","v":4},{"$f":"'WILSON, PAUL'!I55","v":4},{"$f":"'WILSON, PAUL'!J55","v":4},30,{"$f":"'WILSON, PAUL'!L55","v":4},{"$f":"'WILSON, PAUL'!M55","v":3},{"$f":"'WILSON, PAUL'!N55","v":2},{"$f":"'WILSON, PAUL'!O55","v":3},{"$f":"'WILSON, PAUL'!P55","v":3},{"$f":"'WILSON, PAUL'!Q55","v":3},{"$f":"'WILSON, PAUL'!R55","v":4},{"$f":"'WILSON, PAUL'!S55","v":3},{"$f":"'WILSON, PAUL'!T55","v":4},29,59]

{"sheet":"NET TOTALS","index":1,"n_rows":55,"n_cols":26,"rows_kept":55,"cut":false,"hidden":false,"merged":[]}
["HOLE",1,2,3,4,5,6,7,8,9,"OUT",10,11,12,13,14,15,16,17,18,"IN","Gross","hndcp"]
["PAR",4,5,3,4,3,5,4,4,4,36,5,4,3,4,4,3,5,4,4,36,72]
[{"$f":"ABLANK!$A$2","v":"ABLANK"},{"$f":"ABLANK!B30","v":0},{"$f":"ABLANK!C30","v":0},{"$f":"ABLANK!D30","v":0},{"$f":"ABLANK!E30","v":0},{"$f":"ABLANK!F30","v":0},{"$f":"ABLANK!G30","v":0},{"$f":"ABLANK!H30","v":0},{"$f":"ABLANK!I30","v":0},{"$f":"ABLANK!J30","v":0},{"$f":"SUM(B3:J3)","v":0},{"$f":"ABLANK!L30","v":0},{"$f":"ABLANK!M30","v":0},{"$f":"ABLANK!N30","v":0},{"$f":"ABLANK!O30","v":0},{"$f":"ABLANK!P30","v":0},{"$f":"ABLANK!Q30","v":0},{"$f":"ABLANK!R30","v":0},{"$f":"ABLANK!S30","v":0},{"$f":"ABLANK!T30","v":0},{"$f":"SUM(L3:T3)","v":0},{"$f":"SUM(K3+U3)","v":0}]
[{"$f":"'ALLEN, RON'!$A$2","v":"ALLEN, RON"},{"$f":"'ALLEN, RON'!B56","v":3},{"$f":"'ALLEN, RON'!C56","v":4},{"$f":"'ALLEN, RON'!D56","v":2},{"$f":"'ALLEN, RON'!E56","v":2},{"$f":"'ALLEN, RON'!F56","v":3},{"$f":"'ALLEN, RON'!G56","v":3},{"$f":"'ALLEN, RON'!H56","v":3},{"$f":"'ALLEN, RON'!I56","v":3},{"$f":"'ALLEN, RON'!J56","v":3},{"$f":"SUM(B4:J4)","v":26},{"$f":"'ALLEN, RON'!L56","v":3},{"$f":"'ALLEN, RON'!M56","v":3},{"$f":"'ALLEN, RON'!N56","v":2},{"$f":"'ALLEN, RON'!O56","v":3},{"$f":"'ALLEN, RON'!P56","v":3},{"$f":"'ALLEN, RON'!Q56","v":2},{"$f":"'ALLEN, RON'!R56","v":4},{"$f":"'ALLEN, RON'!S56","v":3},{"$f":"'ALLEN, RON'!T56","v":2},{"$f":"SUM(L4:T4)","v":25},{"$f":"SUM(K4+U4)","v":51}]
[{"$f":"'ANDERSON, JEREMY'!$A$2","v":"ANDERSON, JEREMY"},{"$f":"'ANDERSON, JEREMY'!B56","v":4},{"$f":"'ANDERSON, JEREMY'!C56","v":5},{"$f":"'ANDERSON, JEREMY'!D56","v":2},{"$f":"'ANDERSON, JEREMY'!E56","v":3},{"$f":"'ANDERSON, JEREMY'!F56","v":3},{"$f":"'ANDERSON, JEREMY'!G56","v":5},{"$f":"'ANDERSON, JEREMY'!H56","v":3},{"$f":"'ANDERSON, JEREMY'!I56","v":4},{"$f":"'ANDERSON, JEREMY'!J56","v":3},32,{"$f":"'ANDERSON, JEREMY'!L56","v":4},{"$f":"'ANDERSON, JEREMY'!M56","v":3},{"$f":"'ANDERSON, JEREMY'!N56","v":2},{"$f":"'ANDERSON, JEREMY'!O56","v":3},{"$f":"'ANDERSON, JEREMY'!P56","v":3},{"$f":"'ANDERSON, JEREMY'!Q56","v":3},{"$f":"'ANDERSON, JEREMY'!R56","v":5},{"$f":"'ANDERSON, JEREMY'!S56","v":3},{"$f":"'ANDERSON, JEREMY'!T56","v":3},29,61]
[{"$f":"'ARRELLANO, DAVE'!$A$2","v":"ARRELLANO, DAVE"},{"$f":"'ARRELLANO, DAVE'!B56","v":3},{"$f":"'ARRELLANO, DAVE'!C56","v":5},{"$f":"'ARRELLANO, DAVE'!D56","v":3},{"$f":"'ARRELLANO, DAVE'!E56","v":3},{"$f":"'ARRELLANO, DAVE'!F56","v":3},{"$f":"'ARRELLANO, DAVE'!G56","v":4},{"$f":"'ARRELLANO, DAVE'!H56","v":3},{"$f":"'ARRELLANO, DAVE'!I56","v":4},{"$f":"'ARRELLANO, DAVE'!J56","v":2},30,{"$f":"'ARRELLANO, DAVE'!L56","v":4},{"$f":"'ARRELLANO, DAVE'!M56","v":4},{"$f":"'ARRELLANO, DAVE'!N56","v":3},{"$f":"'ARRELLANO, DAVE'!O56","v":3},{"$f":"'ARRELLANO, DAVE'!P56","v":4},{"$f":"'ARRELLANO, DAVE'!Q56","v":2},{"$f":"'ARRELLANO, DAVE'!R56","v":4},{"$f":"'ARRELLANO, DAVE'!S56","v":4},{"$f":"'ARRELLANO, DAVE'!T56","v":4},32,{"$f":"SUM(K6+U6)","v":62}]
[{"$f":"'ARMBRUST, KEN'!$A$2","v":"ARMBRUST, KEN"},{"$f":"'ARMBRUST, KEN'!B56","v":3},{"$f":"'ARMBRUST, KEN'!C56","v":6},{"$f":"'ARMBRUST, KEN'!D56","v":4},{"$f":"'ARMBRUST, KEN'!E56","v":4},{"$f":"'ARMBRUST, KEN'!F56","v":3},{"$f":"'ARMBRUST, KEN'!G56","v":5},{"$f":"'ARMBRUST, KEN'!H56","v":4},{"$f":"'ARMBRUST, KEN'!I56","v":3},{"$f":"'ARMBRUST, KEN'!J56","v":4},36,{"$f":"'ARMBRUST, KEN'!L56","v":5},{"$f":"'ARMBRUST, KEN'!M56","v":5},{"$f":"'ARMBRUST, KEN'!N56","v":4},{"$f":"'ARMBRUST, KEN'!O56","v":3},{"$f":"'ARMBRUST, KEN'!P56","v":6},{"$f":"'ARMBRUST, KEN'!Q56","v":4},{"$f":"'ARMBRUST, KEN'!R56","v":6},{"$f":"'ARMBRUST, KEN'!S56","v":4},{"$f":"'ARMBRUST, KEN'!T56","v":4},41,77]
[{"$f":"'BILLS, DAVID'!$A$2","v":"BILLS, DAVID"},{"$f":"'BILLS, DAVID'!B56","v":3},{"$f":"'BILLS, DAVID'!C56","v":4},{"$f":"'BILLS, DAVID'!D56","v":3},{"$f":"'BILLS, DAVID'!E56","v":3},{"$f":"'BILLS, DAVID'!F56","v":2},{"$f":"'BILLS, DAVID'!G56","v":4},{"$f":"'BILLS, DAVID'!H56","v":3},{"$f":"'BILLS, DAVID'!I56","v":3},{"$f":"'BILLS, DAVID'!J56","v":3},{"$f":"SUM(B8:J8)","v":28},{"$f":"'BILLS, DAVID'!L56","v":4},{"$f":"'BILLS, DAVID'!M56","v":3},{"$f":"'BILLS, DAVID'!N56","v":4},{"$f":"'BILLS, DAVID'!O56","v":2},{"$f":"'BILLS, DAVID'!P56","v":3},{"$f":"'BILLS, DAVID'!Q56","v":3},{"$f":"'BILLS, DAVID'!R56","v":3},{"$f":"'BILLS, DAVID'!S56","v":3},{"$f":"'BILLS, DAVID'!T56","v":3},{"$f":"SUM(L8:T8)","v":28},{"$f":"SUM(K8+U8)","v":56}]
[{"$f":"'BOSTON, DENNIS'!$A$2","v":"BOSTON, DENNIS"},{"$f":"'BOSTON, DENNIS'!B56","v":4},{"$f":"'BOSTON, DENNIS'!C56","v":5},{"$f":"'BOSTON, DENNIS'!D56","v":3},{"$f":"'BOSTON, DENNIS'!E56","v":3},{"$f":"'BOSTON, DENNIS'!F56","v":3},{"$f":"'BOSTON, DENNIS'!G56","v":4},{"$f":"'BOSTON, DENNIS'!H56","v":4},{"$f":"'BOSTON, DENNIS'!I56","v":4},{"$f":"'BOSTON, DENNIS'!J56","v":3},33,{"$f":"'BOSTON, DENNIS'!L56","v":5},{"$f":"'BOSTON, DENNIS'!M56","v":3},{"$f":"'BOSTON, DENNIS'!N56","v":3},{"$f":"'BOSTON, DENNIS'!O56","v":3},{"$f":"'BOSTON, DENNIS'!P56","v":3},{"$f":"'BOSTON, DENNIS'!Q56","v":2},{"$f":"'BOSTON, DENNIS'!R56","v":5},{"$f":"'BOSTON, DENNIS'!S56","v":5},{"$f":"'BOSTON, DENNIS'!T56","v":3},32,65]
[{"$f":"'CARTER, RICK'!$A$2","v":"CARTER, RICK"},{"$f":"'CARTER, RICK'!B56","v":3},{"$f":"'CARTER, RICK'!C56","v":4},{"$f":"'CARTER, RICK'!D56","v":3},{"$f":"'CARTER, RICK'!E56","v":3},{"$f":"'CARTER, RICK'!F56","v":2},{"$f":"'CARTER, RICK'!G56","v":3},{"$f":"'CARTER, RICK'!H56","v":2},{"$f":"'CARTER, RICK'!I56","v":4},{"$f":"'CARTER, RICK'!J56","v":3},27,{"$f":"'CARTER, RICK'!L56","v":3},{"$f":"'CARTER, RICK'!M56","v":3},{"$f":"'CARTER, RICK'!N56","v":3},{"$f":"'CARTER, RICK'!O56","v":3},{"$f":"'CARTER, RICK'!P56","v":3},{"$f":"'CARTER, RICK'!Q56","v":2},{"$f":"'CARTER, RICK'!R56","v":4},{"$f":"'CARTER, RICK'!S56","v":3},{"$f":"'CARTER, RICK'!T56","v":3},27,54]
[{"$f":"'CUBIAS, DARRELL'!$A$2","v":"CUBIAS, DARRELL"},{"$f":"'CUBIAS, DARRELL'!B56","v":2},{"$f":"'CUBIAS, DARRELL'!C56","v":4},{"$f":"'CUBIAS, DARRELL'!D56","v":3},{"$f":"'CUBIAS, DARRELL'!E56","v":3},{"$f":"'CUBIAS, DARRELL'!F56","v":2},{"$f":"'CUBIAS, DARRELL'!G56","v":5},{"$f":"'CUBIAS, DARRELL'!H56","v":2},{"$f":"'CUBIAS, DARRELL'!I56","v":4},{"$f":"'CUBIAS, DARRELL'!J56","v":4},29,{"$f":"'CUBIAS, DARRELL'!L56","v":4},{"$f":"'CUBIAS, DARRELL'!M56","v":3},{"$f":"'CUBIAS, DARRELL'!N56","v":3},{"$f":"'CUBIAS, DARRELL'!O56","v":3},{"$f":"'CUBIAS, DARRELL'!P56","v":4},{"$f":"'CUBIAS, DARRELL'!Q56","v":2},{"$f":"'CUBIAS, DARRELL'!R56","v":4},{"$f":"'CUBIAS, DARRELL'!S56","v":3},{"$f":"'CUBIAS, DARRELL'!T56","v":4},30,59]
[{"$f":"'FISHER, CHRIS'!$A$2","v":"FISHER, CHRIS"},{"$f":"'FISHER, CHRIS'!B56","v":4},{"$f":"'FISHER, CHRIS'!C56","v":4},{"$f":"'FISHER, CHRIS'!D56","v":3},{"$f":"'FISHER, CHRIS'!E56","v":4},{"$f":"'FISHER, CHRIS'!F56","v":3},{"$f":"'FISHER, CHRIS'!G56","v":4},{"$f":"'FISHER, CHRIS'!H56","v":3},{"$f":"'FISHER, CHRIS'!I56","v":4},{"$f":"'FISHER, CHRIS'!J56","v":3},32,{"$f":"'FISHER, CHRIS'!L56","v":5},{"$f":"'FISHER, CHRIS'!M56","v":4},{"$f":"'FISHER, CHRIS'!N56","v":2},{"$f":"'FISHER, CHRIS'!O56","v":4},{"$f":"'FISHER, CHRIS'!P56","v":4},{"$f":"'FISHER, CHRIS'!Q56","v":3},{"$f":"'FISHER, CHRIS'!R56","v":5},{"$f":"'FISHER, CHRIS'!S56","v":4},{"$f":"'FISHER, CHRIS'!T56","v":4},35,{"$f":"SUM(K12+U12)","v":67}]
[{"$f":"'FLOYD, RON'!$A$2","v":"FLOYD, RON"},{"$f":"'FLOYD, RON'!B56","v":2},{"$f":"'FLOYD, RON'!C56","v":4},{"$f":"'FLOYD, RON'!D56","v":3},{"$f":"'FLOYD, RON'!E56","v":3},{"$f":"'FLOYD, RON'!F56","v":3},{"$f":"'FLOYD, RON'!G56","v":4},{"$f":"'FLOYD, RON'!H56","v":2},{"$f":"'FLOYD, RON'!I56","v":4},{"$f":"'FLOYD, RON'!J56","v":3},{"$f":"SUM(B13:J13)","v":28},{"$f":"'FLOYD, RON'!L56","v":3},{"$f":"'FLOYD, RON'!M56","v":3},{"$f":"'FLOYD, RON'!N56","v":3},{"$f":"'FLOYD, RON'!O56","v":3},{"$f":"'FLOYD, RON'!P56","v":4},{"$f":"'FLOYD, RON'!Q56","v":2},{"$f":"'FLOYD, RON'!R56","v":5},{"$f":"'FLOYD, RON'!S56","v":3},{"$f":"'FLOYD, RON'!T56","v":3},{"$f":"SUM(L13:T13)","v":29},{"$f":"SUM(K13+U13)","v":57}]
[{"$f":"'FOXX, DENNIS'!$A$2","v":"FOXX, DENNIS"},{"$f":"'FOXX, DENNIS'!B56","v":2},{"$f":"'FOXX, DENNIS'!C56","v":5},{"$f":"'FOXX, DENNIS'!D56","v":2},{"$f":"'FOXX, DENNIS'!E56","v":3},{"$f":"'FOXX, DENNIS'!F56","v":2},{"$f":"'FOXX, DENNIS'!G56","v":5},{"$f":"'FOXX, DENNIS'!H56","v":2},{"$f":"'FOXX, DENNIS'!I56","v":4},{"$f":"'FOXX, DENNIS'!J56","v":2},27,{"$f":"'FOXX, DENNIS'!L56","v":4},{"$f":"'FOXX, DENNIS'!M56","v":3},{"$f":"'FOXX, DENNIS'!N56","v":3},{"$f":"'FOXX, DENNIS'!O56","v":2},{"$f":"'FOXX, DENNIS'!P56","v":4},{"$f":"'FOXX, DENNIS'!Q56","v":2},{"$f":"'FOXX, DENNIS'!R56","v":4},{"$f":"'FOXX, DENNIS'!S56","v":4},{"$f":"'FOXX, DENNIS'!T56","v":3},29,56]
[{"$f":"'FRAZIER, BRUCE'!$A$2","v":"FRAZIER, BRUCE"},{"$f":"'FRAZIER, BRUCE'!B56","v":3},{"$f":"'FRAZIER, BRUCE'!C56","v":4},{"$f":"'FRAZIER, BRUCE'!D56","v":1},{"$f":"'FRAZIER, BRUCE'!E56","v":3},{"$f":"'FRAZIER, BRUCE'!F56","v":2},{"$f":"'FRAZIER, BRUCE'!G56","v":4},{"$f":"'FRAZIER, BRUCE'!H56","v":3},{"$f":"'FRAZIER, BRUCE'!I56","v":3},{"$f":"'FRAZIER, BRUCE'!J56","v":3},26,{"$f":"'FRAZIER, BRUCE'!L56","v":4},{"$f":"'FRAZIER, BRUCE'!M56","v":3},{"$f":"'FRAZIER, BRUCE'!N56","v":2},{"$f":"'FRAZIER, BRUCE'!O56","v":3},{"$f":"'FRAZIER, BRUCE'!P56","v":3},{"$f":"'FRAZIER, BRUCE'!Q56","v":2},{"$f":"'FRAZIER, BRUCE'!R56","v":4},{"$f":"'FRAZIER, BRUCE'!S56","v":3},{"$f":"'FRAZIER, BRUCE'!T56","v":3},27,53]
[{"$f":"'GARBE, WES'!$A$2","v":"GARBE, WES"},{"$f":"'GARBE, WES'!B56","v":3},{"$f":"'GARBE, WES'!C56","v":4},{"$f":"'GARBE, WES'!D56","v":3},{"$f":"'GARBE, WES'!E56","v":2},{"$f":"'GARBE, WES'!F56","v":3},{"$f":"'GARBE, WES'!G56","v":4},{"$f":"'GARBE, WES'!H56","v":3},{"$f":"'GARBE, WES'!I56","v":3},{"$f":"'GARBE, WES'!J56","v":3},{"$f":"SUM(B16:J16)","v":28},{"$f":"'GARBE, WES'!L56","v":4},{"$f":"'GARBE, WES'!M56","v":2},{"$f":"'GARBE, WES'!N56","v":3},{"$f":"'GARBE, WES'!O56","v":3},{"$f":"'GARBE, WES'!P56","v":4},{"$f":"'GARBE, WES'!Q56","v":2},{"$f":"'GARBE, WES'!R56","v":4},{"$f":"'GARBE, WES'!S56","v":3},{"$f":"'GARBE, WES'!T56","v":4},{"$f":"SUM(L16:T16)","v":29},57]
[{"$f":"'GONZALES, PABLO'!$A$2","v":"GONZALES, PABLO"},{"$f":"'GONZALES, PABLO'!B56","v":4},{"$f":"'GONZALES, PABLO'!C56","v":4},{"$f":"'GONZALES, PABLO'!D56","v":2},{"$f":"'GONZALES, PABLO'!E56","v":2},{"$f":"'GONZALES, PABLO'!F56","v":3},{"$f":"'GONZALES, PABLO'!G56","v":4},{"$f":"'GONZALES, PABLO'!H56","v":3},{"$f":"'GONZALES, PABLO'!I56","v":4},{"$f":"'GONZALES, PABLO'!J56","v":3},29,{"$f":"'GONZALES, PABLO'!L56","v":4},{"$f":"'GONZALES, PABLO'!M56","v":2},{"$f":"'GONZALES, PABLO'!N56","v":2},{"$f":"'GONZALES, PABLO'!O56","v":3},{"$f":"'GONZALES, PABLO'!P56","v":3},{"$f":"'GONZALES, PABLO'!Q56","v":2},{"$f":"'GONZALES, PABLO'!R56","v":4},{"$f":"'GONZALES, PABLO'!S56","v":4},{"$f":"'GONZALES, PABLO'!T56","v":3},27,56]
[{"$f":"'GONZALEZ, PAUL'!$A$2","v":"GONZALEZ, PAUL"},{"$f":"'GONZALEZ, PAUL'!B56","v":2},{"$f":"'GONZALEZ, PAUL'!C56","v":4},{"$f":"'GONZALEZ, PAUL'!D56","v":2},{"$f":"'GONZALEZ, PAUL'!E56","v":3},{"$f":"'GONZALEZ, PAUL'!F56","v":2},{"$f":"'GONZALEZ, PAUL'!G56","v":5},{"$f":"'GONZALEZ, PAUL'!H56","v":3},{"$f":"'GONZALEZ, PAUL'!I56","v":4},{"$f":"'GONZALEZ, PAUL'!J56","v":3},28,{"$f":"'GONZALEZ, PAUL'!L56","v":4},{"$f":"'GONZALEZ, PAUL'!M56","v":2},{"$f":"'GONZALEZ, PAUL'!N56","v":2},{"$f":"'GONZALEZ, PAUL'!O56","v":3},{"$f":"'GONZALEZ, PAUL'!P56","v":4},{"$f":"'GONZALEZ, PAUL'!Q56","v":2},{"$f":"'GONZALEZ, PAUL'!R56","v":4},{"$f":"'GONZALEZ, PAUL'!S56","v":4},{"$f":"'GONZALEZ, PAUL'!T56","v":3},28,56]
[{"$f":"'HARRIS, SEAN'!$A$2","v":"HARRIS, SEAN"},{"$f":"'HARRIS, SEAN'!B56","v":3},{"$f":"'HARRIS, SEAN'!C56","v":5},{"$f":"'HARRIS, SEAN'!D56","v":3},{"$f":"'HARRIS, SEAN'!E56","v":4},{"$f":"'HARRIS, SEAN'!F56","v":3},{"$f":"'HARRIS, SEAN'!G56","v":4},{"$f":"'HARRIS, SEAN'!H56","v":4},{"$f":"'HARRIS, SEAN'!I56","v":3},{"$f":"'HARRIS, SEAN'!J56","v":4},{"$f":"SUM(B19:J19)","v":33},{"$f":"'HARRIS, SEAN'!L56","v":4},{"$f":"'HARRIS, SEAN'!M56","v":4},{"$f":"'HARRIS, SEAN'!N56","v":3},{"$f":"'HARRIS, SEAN'!O56","v":4},{"$f":"'HARRIS, SEAN'!P56","v":3},{"$f":"'HARRIS, SEAN'!Q56","v":3},{"$f":"'HARRIS, SEAN'!R56","v":4},{"$f":"'HARRIS, SEAN'!S56","v":3},{"$f":"'HARRIS, SEAN'!T56","v":3},{"$f":"SUM(L19:T19)","v":31},64]
[{"$f":"'HIETT, STEVE'!$A$2","v":"HIETT, STEVE"},{"$f":"'HIETT, STEVE'!B56","v":3},{"$f":"'HIETT, STEVE'!C56","v":4},{"$f":"'HIETT, STEVE'!D56","v":2},{"$f":"'HIETT, STEVE'!E56","v":3},{"$f":"'HIETT, STEVE'!F56","v":3},{"$f":"'HIETT, STEVE'!G56","v":4},{"$f":"'HIETT, STEVE'!H56","v":3},{"$f":"'HIETT, STEVE'!I56","v":3},{"$f":"'HIETT, STEVE'!J56","v":3},28,{"$f":"'HIETT, STEVE'!L56","v":3},{"$f":"'HIETT, STEVE'!M56","v":3},{"$f":"'HIETT, STEVE'!N56","v":2},{"$f":"'HIETT, STEVE'!O56","v":4},{"$f":"'HIETT, STEVE'!P56","v":2},{"$f":"'HIETT, STEVE'!Q56","v":2},{"$f":"'HIETT, STEVE'!R56","v":4},{"$f":"'HIETT, STEVE'!S56","v":3},{"$f":"'HIETT, STEVE'!T56","v":2},25,53]
[{"$f":"'HOWARD, TIM'!$A$2","v":"HOWARD, TIM"},{"$f":"'HOWARD, TIM'!B56","v":3},{"$f":"'HOWARD, TIM'!C56","v":3},{"$f":"'HOWARD, TIM'!D56","v":3},{"$f":"'HOWARD, TIM'!E56","v":3},{"$f":"'HOWARD, TIM'!F56","v":3},{"$f":"'HOWARD, TIM'!G56","v":3},{"$f":"'HOWARD, TIM'!H56","v":3},{"$f":"'HOWARD, TIM'!I56","v":3},{"$f":"'HOWARD, TIM'!J56","v":3},27,{"$f":"'HOWARD, TIM'!L56","v":3},{"$f":"'HOWARD, TIM'!M56","v":3},{"$f":"'HOWARD, TIM'!N56","v":2},{"$f":"'HOWARD, TIM'!O56","v":3},{"$f":"'HOWARD, TIM'!P56","v":4},{"$f":"'HOWARD, TIM'!Q56","v":2},{"$f":"'HOWARD, TIM'!R56","v":4},{"$f":"'HOWARD, TIM'!S56","v":2},{"$f":"'HOWARD, TIM'!T56","v":3},26,53]
[{"$f":"'IRWIN, KEN'!$A$2","v":"IRWIN, KEN"},{"$f":"'IRWIN, KEN'!B56","v":4},{"$f":"'IRWIN, KEN'!C56","v":6},{"$f":"'IRWIN, KEN'!D56","v":4},{"$f":"'IRWIN, KEN'!E56","v":6},{"$f":"'IRWIN, KEN'!F56","v":5},{"$f":"'IRWIN, KEN'!G56","v":5},{"$f":"'IRWIN, KEN'!H56","v":6},{"$f":"'IRWIN, KEN'!I56","v":6},{"$f":"'IRWIN, KEN'!J56","v":3},45,{"$f":"'IRWIN, KEN'!L56","v":8},{"$f":"'IRWIN, KEN'!M56","v":4},{"$f":"'IRWIN, KEN'!N56","v":5},{"$f":"'IRWIN, KEN'!O56","v":5},{"$f":"'IRWIN, KEN'!P56","v":5},{"$f":"'IRWIN, KEN'!Q56","v":3},{"$f":"'IRWIN, KEN'!R56","v":8},{"$f":"'IRWIN, KEN'!S56","v":5},{"$f":"'IRWIN, KEN'!T56","v":5},48,93,null,null,null," "]
[{"$f":"'JOHNSON, RICO'!$A$2","v":"JOHNSON, RICO"},{"$f":"'JOHNSON, RICO'!B56","v":3},{"$f":"'JOHNSON, RICO'!C56","v":4},{"$f":"'JOHNSON, RICO'!D56","v":3},{"$f":"'JOHNSON, RICO'!E56","v":3},{"$f":"'JOHNSON, RICO'!F56","v":2},{"$f":"'JOHNSON, RICO'!G56","v":5},{"$f":"'JOHNSON, RICO'!H56","v":3},{"$f":"'JOHNSON, RICO'!I56","v":3},{"$f":"'JOHNSON, RICO'!J56","v":3},29,{"$f":"'JOHNSON, RICO'!L56","v":4},{"$f":"'JOHNSON, RICO'!M56","v":3},{"$f":"'JOHNSON, RICO'!N56","v":3},{"$f":"'JOHNSON, RICO'!O56","v":3},{"$f":"'JOHNSON, RICO'!P56","v":3},{"$f":"'JOHNSON, RICO'!Q56","v":2},{"$f":"'JOHNSON, RICO'!R56","v":4},{"$f":"'JOHNSON, RICO'!S56","v":3},{"$f":"'JOHNSON, RICO'!T56","v":3},{"$f":"SUM(L23:T23)","v":28},{"$f":"SUM(K23+U23)","v":57}]
[{"$f":"'KIDDER, PAT'!$A$2","v":"KIDDER, PAT"},{"$f":"'KIDDER, PAT'!B56","v":3},{"$f":"'KIDDER, PAT'!C56","v":4},{"$f":"'KIDDER, PAT'!D56","v":3},{"$f":"'KIDDER, PAT'!E56","v":3},{"$f":"'KIDDER, PAT'!F56","v":3},{"$f":"'KIDDER, PAT'!G56","v":4},{"$f":"'KIDDER, PAT'!H56","v":3},{"$f":"'KIDDER, PAT'!I56","v":3},{"$f":"'KIDDER, PAT'!J56","v":4},{"$f":"SUM(B24:J24)","v":30},{"$f":"'KIDDER, PAT'!L56","v":4},{"$f":"'KIDDER, PAT'!M56","v":4},{"$f":"'KIDDER, PAT'!N56","v":3},{"$f":"'KIDDER, PAT'!O56","v":4},{"$f":"'KIDDER, PAT'!P56","v":4},{"$f":"'KIDDER, PAT'!Q56","v":2},{"$f":"'KIDDER, PAT'!R56","v":4},{"$f":"'KIDDER, PAT'!S56","v":4},{"$f":"'KIDDER, PAT'!T56","v":4},{"$f":"SUM(L24:T24)","v":33},{"$f":"SUM(K24+U24)","v":63}]
[{"$f":"'KROHN, GARY'!$A$2","v":"KROHN, GARY"},{"$f":"'KROHN, GARY'!B56","v":4},{"$f":"'KROHN, GARY'!C56","v":2},{"$f":"'KROHN, GARY'!D56","v":2},{"$f":"'KROHN, GARY'!E56","v":3},{"$f":"'KROHN, GARY'!F56","v":2},{"$f":"'KROHN, GARY'!G56","v":3},{"$f":"'KROHN, GARY'!H56","v":2},{"$f":"'KROHN, GARY'!I56","v":3},{"$f":"'KROHN, GARY'!J56","v":2},{"$f":"SUM(B25:J25)","v":23},{"$f":"'KROHN, GARY'!L56","v":4},{"$f":"'KROHN, GARY'!M56","v":3},{"$f":"'KROHN, GARY'!N56","v":2},{"$f":"'KROHN, GARY'!O56","v":2},{"$f":"'KROHN, GARY'!P56","v":3},{"$f":"'KROHN, GARY'!Q56","v":2},{"$f":"'KROHN, GARY'!R56","v":4},{"$f":"'KROHN, GARY'!S56","v":3},{"$f":"'KROHN, GARY'!T56","v":2},{"$f":"SUM(L25:T25)","v":25},{"$f":"SUM(K25+U25)","v":48}]
[{"$f":"'LACHMAN, MARK'!$A$2","v":"LACHMAN, MARK"},{"$f":"'LACHMAN, MARK'!B56","v":3},{"$f":"'LACHMAN, MARK'!C56","v":4},{"$f":"'LACHMAN, MARK'!D56","v":3},{"$f":"'LACHMAN, MARK'!E56","v":3},{"$f":"'LACHMAN, MARK'!F56","v":3},{"$f":"'LACHMAN, MARK'!G56","v":4},{"$f":"'LACHMAN, MARK'!H56","v":3},{"$f":"'LACHMAN, MARK'!I56","v":3},{"$f":"'LACHMAN, MARK'!J56","v":3},{"$f":"SUM(B26:J26)","v":29},{"$f":"'LACHMAN, MARK'!L56","v":4},{"$f":"'LACHMAN, MARK'!M56","v":3},{"$f":"'LACHMAN, MARK'!N56","v":3},{"$f":"'LACHMAN, MARK'!O56","v":3},{"$f":"'LACHMAN, MARK'!P56","v":4},{"$f":"'LACHMAN, MARK'!Q56","v":2},{"$f":"'LACHMAN, MARK'!R56","v":4},{"$f":"'LACHMAN, MARK'!S56","v":3},{"$f":"'LACHMAN, MARK'!T56","v":4},{"$f":"SUM(L26:T26)","v":30},{"$f":"SUM(K26+U26)","v":59}]
[{"$f":"'LANGE, BRYAN'!$A$2","v":"LANGE, BRYAN"},{"$f":"'LANGE, BRYAN'!B56","v":4},{"$f":"'LANGE, BRYAN'!C56","v":4},{"$f":"'LANGE, BRYAN'!D56","v":2},{"$f":"'LANGE, BRYAN'!E56","v":3},{"$f":"'LANGE, BRYAN'!F56","v":3},{"$f":"'LANGE, BRYAN'!G56","v":5},{"$f":"'LANGE, BRYAN'!H56","v":3},{"$f":"'LANGE, BRYAN'!I56","v":4},{"$f":"'LANGE, BRYAN'!J56","v":2},{"$f":"SUM(B27:J27)","v":30},{"$f":"'LANGE, BRYAN'!L56","v":4},{"$f":"'LANGE, BRYAN'!M56","v":2},{"$f":"'LANGE, BRYAN'!N56","v":3},{"$f":"'LANGE, BRYAN'!O56","v":2},{"$f":"'LANGE, BRYAN'!P56","v":3},{"$f":"'LANGE, BRYAN'!Q56","v":2},{"$f":"'LANGE, BRYAN'!R56","v":4},{"$f":"'LANGE, BRYAN'!S56","v":4},{"$f":"'LANGE, BRYAN'!T56","v":2},{"$f":"SUM(L27:T27)","v":26},{"$f":"SUM(K27+U27)","v":56}]
[{"$f":"'LENAKAKIS, YIANNI'!$A$2","v":"LENAKAKIS, YIANNI"},{"$f":"'LENAKAKIS, YIANNI'!B56","v":3},{"$f":"'LENAKAKIS, YIANNI'!C56","v":4},{"$f":"'LENAKAKIS, YIANNI'!D56","v":3},{"$f":"'LENAKAKIS, YIANNI'!E56","v":4},{"$f":"'LENAKAKIS, YIANNI'!F56","v":3},{"$f":"'LENAKAKIS, YIANNI'!G56","v":3},{"$f":"'LENAKAKIS, YIANNI'!H56","v":3},{"$f":"'LENAKAKIS, YIANNI'!I56","v":3},{"$f":"'LENAKAKIS, YIANNI'!J56","v":2},28,{"$f":"'LENAKAKIS, YIANNI'!L56","v":4},{"$f":"'LENAKAKIS, YIANNI'!M56","v":3},{"$f":"'LENAKAKIS, YIANNI'!N56","v":3},{"$f":"'LENAKAKIS, YIANNI'!O56","v":3},{"$f":"'LENAKAKIS, YIANNI'!P56","v":4},{"$f":"'LENAKAKIS, YIANNI'!Q56","v":2},{"$f":"'LENAKAKIS, YIANNI'!R56","v":3},{"$f":"'LENAKAKIS, YIANNI'!S56","v":2},{"$f":"'LENAKAKIS, YIANNI'!T56","v":3},27,55]
[{"$f":"'MCCULLOUGH, DAN'!$A$2","v":"MCCULLOUGH, DAN"},{"$f":"'MCCULLOUGH, DAN'!B56","v":4},{"$f":"'MCCULLOUGH, DAN'!C56","v":4},{"$f":"'MCCULLOUGH, DAN'!D56","v":3},{"$f":"'MCCULLOUGH, DAN'!E56","v":4},{"$f":"'MCCULLOUGH, DAN'!F56","v":2},{"$f":"'MCCULLOUGH, DAN'!G56","v":4},{"$f":"'MCCULLOUGH, DAN'!H56","v":3},{"$f":"'MCCULLOUGH, DAN'!I56","v":3},{"$f":"'MCCULLOUGH, DAN'!J56","v":3},30,{"$f":"'MCCULLOUGH, DAN'!L56","v":4},{"$f":"'MCCULLOUGH, DAN'!M56","v":4},{"$f":"'MCCULLOUGH, DAN'!N56","v":2},{"$f":"'MCCULLOUGH, DAN'!O56","v":3},{"$f":"'MCCULLOUGH, DAN'!P56","v":3},{"$f":"'MCCULLOUGH, DAN'!Q56","v":2},{"$f":"'MCCULLOUGH, DAN'!R56","v":4},{"$f":"'MCCULLOUGH, DAN'!S56","v":3},{"$f":"'MCCULLOUGH, DAN'!T56","v":3},28,58]
[{"$f":"'MCELHATTON, THOMAS'!$A$2","v":"MCELHATTON, THOMAS"},{"$f":"'MCELHATTON, THOMAS'!B56","v":3},{"$f":"'MCELHATTON, THOMAS'!C56","v":5},{"$f":"'MCELHATTON, THOMAS'!D56","v":3},{"$f":"'MCELHATTON, THOMAS'!E56","v":3},{"$f":"'MCELHATTON, THOMAS'!F56","v":3},{"$f":"'MCELHATTON, THOMAS'!G56","v":4},{"$f":"'MCELHATTON, THOMAS'!H56","v":2},{"$f":"'MCELHATTON, THOMAS'!I56","v":4},{"$f":"'MCELHATTON, THOMAS'!J56","v":3},30,{"$f":"'MCELHATTON, THOMAS'!L56","v":4},{"$f":"'MCELHATTON, THOMAS'!M56","v":2},{"$f":"'MCELHATTON, THOMAS'!N56","v":3},{"$f":"'MCELHATTON, THOMAS'!O56","v":3},{"$f":"'MCELHATTON, THOMAS'!P56","v":4},{"$f":"'MCELHATTON, THOMAS'!Q56","v":1},{"$f":"'MCELHATTON, THOMAS'!R56","v":4},{"$f":"'MCELHATTON, THOMAS'!S56","v":3},{"$f":"'MCELHATTON, THOMAS'!T56","v":3},27,57]
[{"$f":"'MCGEE, TONY'!$A$2","v":"MCGEE, TONY"},{"$f":"'MCGEE, TONY'!B56","v":3},{"$f":"'MCGEE, TONY'!C56","v":5},{"$f":"'MCGEE, TONY'!D56","v":2},{"$f":"'MCGEE, TONY'!E56","v":3},{"$f":"'MCGEE, TONY'!F56","v":2},{"$f":"'MCGEE, TONY'!G56","v":4},{"$f":"'MCGEE, TONY'!H56","v":3},{"$f":"'MCGEE, TONY'!I56","v":3},{"$f":"'MCGEE, TONY'!J56","v":3},28,{"$f":"'MCGEE, TONY'!L56","v":4},{"$f":"'MCGEE, TONY'!M56","v":3},{"$f":"'MCGEE, TONY'!N56","v":3},{"$f":"'MCGEE, TONY'!O56","v":2},{"$f":"'MCGEE, TONY'!P56","v":4},{"$f":"'MCGEE, TONY'!Q56","v":1},{"$f":"'MCGEE, TONY'!R56","v":5},{"$f":"'MCGEE, TONY'!S56","v":3},{"$f":"'MCGEE, TONY'!T56","v":3},{"$f":"SUM(L31:T31)","v":28},{"$f":"SUM(K31+U31)","v":56}]
[{"$f":"'MCKERNAN, BRAD'!$A$2","v":"MCKERNAN, BRAD"},{"$f":"'MCKERNAN, BRAD'!B56","v":3},{"$f":"'MCKERNAN, BRAD'!C56","v":5},{"$f":"'MCKERNAN, BRAD'!D56","v":2},{"$f":"'MCKERNAN, BRAD'!E56","v":4},{"$f":"'MCKERNAN, BRAD'!F56","v":2},{"$f":"'MCKERNAN, BRAD'!G56","v":4},{"$f":"'MCKERNAN, BRAD'!H56","v":3},{"$f":"'MCKERNAN, BRAD'!I56","v":3},{"$f":"'MCKERNAN, BRAD'!J56","v":2},28,{"$f":"'MCKERNAN, BRAD'!L56","v":4},{"$f":"'MCKERNAN, BRAD'!M56","v":4},{"$f":"'MCKERNAN, BRAD'!N56","v":2},{"$f":"'MCKERNAN, BRAD'!O56","v":3},{"$f":"'MCKERNAN, BRAD'!P56","v":4},{"$f":"'MCKERNAN, BRAD'!Q56","v":2},{"$f":"'MCKERNAN, BRAD'!R56","v":4},{"$f":"'MCKERNAN, BRAD'!S56","v":3},{"$f":"'MCKERNAN, BRAD'!T56","v":3},29,57]
[{"$f":"'MONAGHAN, MILES'!$A$2","v":"MONAGHAN, MILES"},{"$f":"'MONAGHAN, MILES'!B56","v":4},{"$f":"'MONAGHAN, MILES'!C56","v":5},{"$f":"'MONAGHAN, MILES'!D56","v":3},{"$f":"'MONAGHAN, MILES'!E56","v":3},{"$f":"'MONAGHAN, MILES'!F56","v":3},{"$f":"'MONAGHAN, MILES'!G56","v":4},{"$f":"'MONAGHAN, MILES'!H56","v":3},{"$f":"'MONAGHAN, MILES'!I56","v":4},{"$f":"'MONAGHAN, MILES'!J56","v":3},32,{"$f":"'MONAGHAN, MILES'!L56","v":5},{"$f":"'MONAGHAN, MILES'!M56","v":3},{"$f":"'MONAGHAN, MILES'!N56","v":3},{"$f":"'MONAGHAN, MILES'!O56","v":3},{"$f":"'MONAGHAN, MILES'!P56","v":3},{"$f":"'MONAGHAN, MILES'!Q56","v":2},{"$f":"'MONAGHAN, MILES'!R56","v":5},{"$f":"'MONAGHAN, MILES'!S56","v":3},{"$f":"'MONAGHAN, MILES'!T56","v":2},29,61]
[{"$f":"'NELSON, TIMOTHY'!$A$2","v":"NELSON, TIMOTHY"},{"$f":"'NELSON, TIMOTHY'!B56","v":3},{"$f":"'NELSON, TIMOTHY'!C56","v":4},{"$f":"'NELSON, TIMOTHY'!D56","v":3},{"$f":"'NELSON, TIMOTHY'!E56","v":2},{"$f":"'NELSON, TIMOTHY'!F56","v":2},{"$f":"'NELSON, TIMOTHY'!G56","v":4},{"$f":"'NELSON, TIMOTHY'!H56","v":3},{"$f":"'NELSON, TIMOTHY'!I56","v":3},{"$f":"'NELSON, TIMOTHY'!J56","v":3},27,{"$f":"'NELSON, TIMOTHY'!L56","v":3},{"$f":"'NELSON, TIMOTHY'!M56","v":3},{"$f":"'NELSON, TIMOTHY'!N56","v":3},{"$f":"'NELSON, TIMOTHY'!O56","v":3},{"$f":"'NELSON, TIMOTHY'!P56","v":4},{"$f":"'NELSON, TIMOTHY'!Q56","v":2},{"$f":"'NELSON, TIMOTHY'!R56","v":5},{"$f":"'NELSON, TIMOTHY'!S56","v":4},{"$f":"'NELSON, TIMOTHY'!T56","v":1},28,55]
[{"$f":"'NORTH, MICHAEL'!$A$2","v":"NORTH, MICHAEL"},{"$f":"'NORTH, MICHAEL'!B56","v":3},{"$f":"'NORTH, MICHAEL'!C56","v":6},{"$f":"'NORTH, MICHAEL'!D56","v":3},{"$f":"'NORTH, MICHAEL'!E56","v":3},{"$f":"'NORTH, MICHAEL'!F56","v":3},{"$f":"'NORTH, MICHAEL'!G56","v":3},{"$f":"'NORTH, MICHAEL'!H56","v":3},{"$f":"'NORTH, MICHAEL'!I56","v":3},{"$f":"'NORTH, MICHAEL'!J56","v":3},30,{"$f":"'NORTH, MICHAEL'!L56","v":4},{"$f":"'NORTH, MICHAEL'!M56","v":3},{"$f":"'NORTH, MICHAEL'!N56","v":3},{"$f":"'NORTH, MICHAEL'!O56","v":3},{"$f":"'NORTH, MICHAEL'!P56","v":4},{"$f":"'NORTH, MICHAEL'!Q56","v":2},{"$f":"'NORTH, MICHAEL'!R56","v":4},{"$f":"'NORTH, MICHAEL'!S56","v":4},{"$f":"'NORTH, MICHAEL'!T56","v":4},{"$f":"SUM(L35:T35)","v":31},{"$f":"SUM(K35+U35)","v":61}]
[{"$f":"'OLMSTEAD, KEN'!$A$2","v":"OLMSTEAD, KEN"},{"$f":"'OLMSTEAD, KEN'!B56","v":4},{"$f":"'OLMSTEAD, KEN'!C56","v":4},{"$f":"'OLMSTEAD, KEN'!D56","v":3},{"$f":"'OLMSTEAD, KEN'!E56","v":3},{"$f":"'OLMSTEAD, KEN'!F56","v":3},{"$f":"'OLMSTEAD, KEN'!G56","v":4},{"$f":"'OLMSTEAD, KEN'!H56","v":2},{"$f":"'OLMSTEAD, KEN'!I56","v":2},{"$f":"'OLMSTEAD, KEN'!J56","v":3},28,{"$f":"'OLMSTEAD, KEN'!L56","v":3},{"$f":"'OLMSTEAD, KEN'!M56","v":3},{"$f":"'OLMSTEAD, KEN'!N56","v":3},{"$f":"'OLMSTEAD, KEN'!O56","v":2},{"$f":"'OLMSTEAD, KEN'!P56","v":3},{"$f":"'OLMSTEAD, KEN'!Q56","v":1},{"$f":"'OLMSTEAD, KEN'!R56","v":4},{"$f":"'OLMSTEAD, KEN'!S56","v":2},{"$f":"'OLMSTEAD, KEN'!T56","v":3},24,52]
[{"$f":"'PERRY, JAMES'!$A$2","v":"PERRY, JAMES"},{"$f":"'PERRY, JAMES'!B56","v":2},{"$f":"'PERRY, JAMES'!C56","v":5},{"$f":"'PERRY, JAMES'!D56","v":2},{"$f":"'PERRY, JAMES'!E56","v":3},{"$f":"'PERRY, JAMES'!F56","v":3},{"$f":"'PERRY, JAMES'!G56","v":5},{"$f":"'PERRY, JAMES'!H56","v":3},{"$f":"'PERRY, JAMES'!I56","v":3},{"$f":"'PERRY, JAMES'!J56","v":2},28,{"$f":"'PERRY, JAMES'!L56","v":4},{"$f":"'PERRY, JAMES'!M56","v":3},{"$f":"'PERRY, JAMES'!N56","v":2},{"$f":"'PERRY, JAMES'!O56","v":3},{"$f":"'PERRY, JAMES'!P56","v":3},{"$f":"'PERRY, JAMES'!Q56","v":1},{"$f":"'PERRY, JAMES'!R56","v":4},{"$f":"'PERRY, JAMES'!S56","v":4},{"$f":"'PERRY, JAMES'!T56","v":3},27,55]
[{"$f":"'POWELL, ED'!$A$2","v":"POWELL, ED"},{"$f":"'POWELL, ED'!B56","v":3},{"$f":"'POWELL, ED'!C56","v":5},{"$f":"'POWELL, ED'!D56","v":3},{"$f":"'POWELL, ED'!E56","v":3},{"$f":"'POWELL, ED'!F56","v":3},{"$f":"'POWELL, ED'!G56","v":5},{"$f":"'POWELL, ED'!H56","v":3},{"$f":"'POWELL, ED'!I56","v":4},{"$f":"'POWELL, ED'!J56","v":3},32,{"$f":"'POWELL, ED'!L56","v":4},{"$f":"'POWELL, ED'!M56","v":3},{"$f":"'POWELL, ED'!N56","v":3},{"$f":"'POWELL, ED'!O56","v":2},{"$f":"'POWELL, ED'!P56","v":4},{"$f":"'POWELL, ED'!Q56","v":2},{"$f":"'POWELL, ED'!R56","v":4},{"$f":"'POWELL, ED'!S56","v":4},{"$f":"'POWELL, ED'!T56","v":3},29,61]
[{"$f":"'PRZEPIORSKI, KARRY'!$A$2","v":"PRZEPIORSKI, KARRY"},{"$f":"'PRZEPIORSKI, KARRY'!B56","v":4},{"$f":"'PRZEPIORSKI, KARRY'!C56","v":4},{"$f":"'PRZEPIORSKI, KARRY'!D56","v":1},{"$f":"'PRZEPIORSKI, KARRY'!E56","v":3},{"$f":"'PRZEPIORSKI, KARRY'!F56","v":2},{"$f":"'PRZEPIORSKI, KARRY'!G56","v":4},{"$f":"'PRZEPIORSKI, KARRY'!H56","v":4},{"$f":"'PRZEPIORSKI, KARRY'!I56","v":3},{"$f":"'PRZEPIORSKI, KARRY'!J56","v":3},28,{"$f":"'PRZEPIORSKI, KARRY'!L56","v":4},{"$f":"'PRZEPIORSKI, KARRY'!M56","v":3},{"$f":"'PRZEPIORSKI, KARRY'!N56","v":2},{"$f":"'PRZEPIORSKI, KARRY'!O56","v":3},{"$f":"'PRZEPIORSKI, KARRY'!P56","v":3},{"$f":"'PRZEPIORSKI, KARRY'!Q56","v":3},{"$f":"'PRZEPIORSKI, KARRY'!R56","v":4},{"$f":"'PRZEPIORSKI, KARRY'!S56","v":3},{"$f":"'PRZEPIORSKI, KARRY'!T56","v":3},28,56]
[{"$f":"'REED, DAVID'!$A$2","v":"REED, DAVID"},{"$f":"'REED, DAVID'!B56","v":4},{"$f":"'REED, DAVID'!C56","v":5},{"$f":"'REED, DAVID'!D56","v":2},{"$f":"'REED, DAVID'!E56","v":4},{"$f":"'REED, DAVID'!F56","v":3},{"$f":"'REED, DAVID'!G56","v":5},{"$f":"'REED, DAVID'!H56","v":3},{"$f":"'REED, DAVID'!I56","v":4},{"$f":"'REED, DAVID'!J56","v":3},33,{"$f":"'REED, DAVID'!L56","v":4},{"$f":"'REED, DAVID'!M56","v":3},{"$f":"'REED, DAVID'!N56","v":3},{"$f":"'REED, DAVID'!O56","v":3},{"$f":"'REED, DAVID'!P56","v":4},{"$f":"'REED, DAVID'!Q56","v":3},{"$f":"'REED, DAVID'!R56","v":4},{"$f":"'REED, DAVID'!S56","v":4},{"$f":"'REED, DAVID'!T56","v":2},30,63]
[{"$f":"'RUSSI, BRYON'!$A$2","v":"RUSSI, BRYON"},{"$f":"'RUSSI, BRYON'!B56","v":2},{"$f":"'RUSSI, BRYON'!C56","v":5},{"$f":"'RUSSI, BRYON'!D56","v":2},{"$f":"'RUSSI, BRYON'!E56","v":2},{"$f":"'RUSSI, BRYON'!F56","v":2},{"$f":"'RUSSI, BRYON'!G56","v":5},{"$f":"'RUSSI, BRYON'!H56","v":3},{"$f":"'RUSSI, BRYON'!I56","v":4},{"$f":"'RUSSI, BRYON'!J56","v":3},28,{"$f":"'RUSSI, BRYON'!L56","v":4},{"$f":"'RUSSI, BRYON'!M56","v":2},{"$f":"'RUSSI, BRYON'!N56","v":3},{"$f":"'RUSSI, BRYON'!O56","v":3},{"$f":"'RUSSI, BRYON'!P56","v":4},{"$f":"'RUSSI, BRYON'!Q56","v":2},{"$f":"'RUSSI, BRYON'!R56","v":4},{"$f":"'RUSSI, BRYON'!S56","v":4},{"$f":"'RUSSI, BRYON'!T56","v":4},30,58]
[{"$f":"'SALCEDO, JOSE'!$A$2","v":"SALCEDO, JOSE"},{"$f":"'SALCEDO, JOSE'!B56","v":3},{"$f":"'SALCEDO, JOSE'!C56","v":5},{"$f":"'SALCEDO, JOSE'!D56","v":3},{"$f":"'SALCEDO, JOSE'!E56","v":2},{"$f":"'SALCEDO, JOSE'!F56","v":3},{"$f":"'SALCEDO, JOSE'!G56","v":4},{"$f":"'SALCEDO, JOSE'!H56","v":2},{"$f":"'SALCEDO, JOSE'!I56","v":4},{"$f":"'SALCEDO, JOSE'!J56","v":2},28,{"$f":"'SALCEDO, JOSE'!L56","v":3},{"$f":"'SALCEDO, JOSE'!M56","v":2},{"$f":"'SALCEDO, JOSE'!N56","v":2},{"$f":"'SALCEDO, JOSE'!O56","v":3},{"$f":"'SALCEDO, JOSE'!P56","v":4},{"$f":"'SALCEDO, JOSE'!Q56","v":2},{"$f":"'SALCEDO, JOSE'!R56","v":4},{"$f":"'SALCEDO, JOSE'!S56","v":3},{"$f":"'SALCEDO, JOSE'!T56","v":3},26,54]
[{"$f":"'SALINAS, ALONSO'!$A$2","v":"SALINAS, ALONSO"},{"$f":"'SALINAS, ALONSO'!B56","v":3},{"$f":"'SALINAS, ALONSO'!C56","v":4},{"$f":"'SALINAS, ALONSO'!D56","v":1},{"$f":"'SALINAS, ALONSO'!E56","v":3},{"$f":"'SALINAS, ALONSO'!F56","v":1},{"$f":"'SALINAS, ALONSO'!G56","v":5},{"$f":"'SALINAS, ALONSO'!H56","v":3},{"$f":"'SALINAS, ALONSO'!I56","v":4},{"$f":"'SALINAS, ALONSO'!J56","v":4},28,{"$f":"'SALINAS, ALONSO'!L56","v":4},{"$f":"'SALINAS, ALONSO'!M56","v":3},{"$f":"'SALINAS, ALONSO'!N56","v":2},{"$f":"'SALINAS, ALONSO'!O56","v":4},{"$f":"'SALINAS, ALONSO'!P56","v":4},{"$f":"'SALINAS, ALONSO'!Q56","v":2},{"$f":"'SALINAS, ALONSO'!R56","v":5},{"$f":"'SALINAS, ALONSO'!S56","v":2},{"$f":"'SALINAS, ALONSO'!T56","v":3},{"$f":"'SALINAS, ALONSO'!U30","v":46},74]
[{"$f":"'SCHALLER, MARK'!$A$2","v":"SCHALLER, MARK"},{"$f":"'SCHALLER, MARK'!B56","v":3},{"$f":"'SCHALLER, MARK'!C56","v":5},{"$f":"'SCHALLER, MARK'!D56","v":3},{"$f":"'SCHALLER, MARK'!E56","v":3},{"$f":"'SCHALLER, MARK'!F56","v":3},{"$f":"'SCHALLER, MARK'!G56","v":5},{"$f":"'SCHALLER, MARK'!H56","v":2},{"$f":"'SCHALLER, MARK'!I56","v":4},{"$f":"'SCHALLER, MARK'!J56","v":4},32,{"$f":"'SCHALLER, MARK'!L56","v":4},{"$f":"'SCHALLER, MARK'!M56","v":3},{"$f":"'SCHALLER, MARK'!N56","v":3},{"$f":"'SCHALLER, MARK'!O56","v":3},{"$f":"'SCHALLER, MARK'!P56","v":4},{"$f":"'SCHALLER, MARK'!Q56","v":2},{"$f":"'SCHALLER, MARK'!R56","v":4},{"$f":"'SCHALLER, MARK'!S56","v":4},{"$f":"'SCHALLER, MARK'!T56","v":3},{"$f":"SUM(L44:T44)","v":30},{"$f":"SUM(K44+U44)","v":62}]
[{"$f":"'SHIMIZU, YUTAKA'!$A$2","v":"SHIMIZU, YUTAKA"},{"$f":"'SHIMIZU, YUTAKA'!B56","v":3},{"$f":"'SHIMIZU, YUTAKA'!C56","v":5},{"$f":"'SHIMIZU, YUTAKA'!D56","v":3},{"$f":"'SHIMIZU, YUTAKA'!E56","v":3},{"$f":"'SHIMIZU, YUTAKA'!F56","v":2},{"$f":"'SHIMIZU, YUTAKA'!G56","v":4},{"$f":"'SHIMIZU, YUTAKA'!H56","v":2},{"$f":"'SHIMIZU, YUTAKA'!I56","v":4},{"$f":"'SHIMIZU, YUTAKA'!J56","v":2},28,{"$f":"'SHIMIZU, YUTAKA'!L56","v":5},{"$f":"'SHIMIZU, YUTAKA'!M56","v":3},{"$f":"'SHIMIZU, YUTAKA'!N56","v":3},{"$f":"'SHIMIZU, YUTAKA'!O56","v":3},{"$f":"'SHIMIZU, YUTAKA'!P56","v":4},{"$f":"'SHIMIZU, YUTAKA'!Q56","v":2},{"$f":"'SHIMIZU, YUTAKA'!R56","v":5},{"$f":"'SHIMIZU, YUTAKA'!S56","v":3},{"$f":"'SHIMIZU, YUTAKA'!T56","v":3},31,59]
[{"$f":"'SIERRA, JESSE'!$A$2","v":"SIERRA, JESSE"},{"$f":"'SIERRA, JESSE'!B56","v":3},{"$f":"'SIERRA, JESSE'!C56","v":5},{"$f":"'SIERRA, JESSE'!D56","v":2},{"$f":"'SIERRA, JESSE'!E56","v":3},{"$f":"'SIERRA, JESSE'!F56","v":2},{"$f":"'SIERRA, JESSE'!G56","v":3},{"$f":"'SIERRA, JESSE'!H56","v":2},{"$f":"'SIERRA, JESSE'!I56","v":4},{"$f":"'SIERRA, JESSE'!J56","v":3},27,{"$f":"'SIERRA, JESSE'!L56","v":3},{"$f":"'SIERRA, JESSE'!M56","v":3},{"$f":"'SIERRA, JESSE'!N56","v":3},{"$f":"'SIERRA, JESSE'!O56","v":3},{"$f":"'SIERRA, JESSE'!P56","v":3},{"$f":"'SIERRA, JESSE'!Q56","v":1},{"$f":"'SIERRA, JESSE'!R56","v":4},{"$f":"'SIERRA, JESSE'!S56","v":3},{"$f":"'SIERRA, JESSE'!T56","v":3},26,53]
[{"$f":"'SMITH, MICHAEL'!$A$2","v":"SMITH, MICHAEL"},{"$f":"'SMITH, MICHAEL'!B56","v":4},{"$f":"'SMITH, MICHAEL'!C56","v":5},{"$f":"'SMITH, MICHAEL'!D56","v":3},{"$f":"'SMITH, MICHAEL'!E56","v":3},{"$f":"'SMITH, MICHAEL'!F56","v":3},{"$f":"'SMITH, MICHAEL'!G56","v":5},{"$f":"'SMITH, MICHAEL'!H56","v":4},{"$f":"'SMITH, MICHAEL'!I56","v":4},{"$f":"'SMITH, MICHAEL'!J56","v":3},34,{"$f":"'SMITH, MICHAEL'!L56","v":4},{"$f":"'SMITH, MICHAEL'!M56","v":3},{"$f":"'SMITH, MICHAEL'!N56","v":2},{"$f":"'SMITH, MICHAEL'!O56","v":3},{"$f":"'SMITH, MICHAEL'!P56","v":4},{"$f":"'SMITH, MICHAEL'!Q56","v":2},{"$f":"'SMITH, MICHAEL'!R56","v":5},{"$f":"'SMITH, MICHAEL'!S56","v":4},{"$f":"'SMITH, MICHAEL'!T56","v":4},31,65]
[{"$f":"'SOUTO, ERIC'!$A$2","v":"SOUTO, ERIC"},{"$f":"'SOUTO, ERIC'!B56","v":4},{"$f":"'SOUTO, ERIC'!C56","v":5},{"$f":"'SOUTO, ERIC'!D56","v":3},{"$f":"'SOUTO, ERIC'!E56","v":4},{"$f":"'SOUTO, ERIC'!F56","v":2},{"$f":"'SOUTO, ERIC'!G56","v":3},{"$f":"'SOUTO, ERIC'!H56","v":3},{"$f":"'SOUTO, ERIC'!I56","v":4},{"$f":"'SOUTO, ERIC'!J56","v":3},31,{"$f":"'SOUTO, ERIC'!L56","v":4},{"$f":"'SOUTO, ERIC'!M56","v":4},{"$f":"'SOUTO, ERIC'!N56","v":3},{"$f":"'SOUTO, ERIC'!O56","v":2},{"$f":"'SOUTO, ERIC'!P56","v":3},{"$f":"'SOUTO, ERIC'!Q56","v":2},{"$f":"'SOUTO, ERIC'!R56","v":3},{"$f":"'SOUTO, ERIC'!S56","v":3},{"$f":"'SOUTO, ERIC'!T56","v":3},27,58]
[{"$f":"'SWEATT, BRIAN'!$A$2","v":"SWEATT, BRIAN"},{"$f":"'SWEATT, BRIAN'!B56","v":3},{"$f":"'SWEATT, BRIAN'!C56","v":4},{"$f":"'SWEATT, BRIAN'!D56","v":2},{"$f":"'SWEATT, BRIAN'!E56","v":3},{"$f":"'SWEATT, BRIAN'!F56","v":3},{"$f":"'SWEATT, BRIAN'!G56","v":3},{"$f":"'SWEATT, BRIAN'!H56","v":3},{"$f":"'SWEATT, BRIAN'!I56","v":3},{"$f":"'SWEATT, BRIAN'!J56","v":3},27,{"$f":"'SWEATT, BRIAN'!L56","v":3},{"$f":"'SWEATT, BRIAN'!M56","v":2},{"$f":"'SWEATT, BRIAN'!N56","v":2},{"$f":"'SWEATT, BRIAN'!O56","v":3},{"$f":"'SWEATT, BRIAN'!P56","v":3},{"$f":"'SWEATT, BRIAN'!Q56","v":2},{"$f":"'SWEATT, BRIAN'!R56","v":5},{"$f":"'SWEATT, BRIAN'!S56","v":3},{"$f":"'SWEATT, BRIAN'!T56","v":3},26,53]
[{"$f":"'TAYLOR, STEVE'!$A$2","v":"TAYLOR, STEVE"},{"$f":"'TAYLOR, STEVE'!B56","v":3},{"$f":"'TAYLOR, STEVE'!C56","v":4},{"$f":"'TAYLOR, STEVE'!D56","v":2},{"$f":"'TAYLOR, STEVE'!E56","v":3},{"$f":"'TAYLOR, STEVE'!F56","v":3},{"$f":"'TAYLOR, STEVE'!G56","v":4},{"$f":"'TAYLOR, STEVE'!H56","v":2},{"$f":"'TAYLOR, STEVE'!I56","v":4},{"$f":"'TAYLOR, STEVE'!J56","v":2},27,{"$f":"'TAYLOR, STEVE'!L56","v":4},{"$f":"'TAYLOR, STEVE'!M56","v":3},{"$f":"'TAYLOR, STEVE'!N56","v":3},{"$f":"'TAYLOR, STEVE'!O56","v":3},{"$f":"'TAYLOR, STEVE'!P56","v":4},{"$f":"'TAYLOR, STEVE'!Q56","v":3},{"$f":"'TAYLOR, STEVE'!R56","v":4},{"$f":"'TAYLOR, STEVE'!S56","v":3},{"$f":"'TAYLOR, STEVE'!T56","v":3},30,57]
[{"$f":"'THOMPSEN, NEIL'!$A$2","v":"THOMPSEN, NEIL"},{"$f":"'THOMPSEN, NEIL'!B56","v":2},{"$f":"'THOMPSEN, NEIL'!C56","v":5},{"$f":"'THOMPSEN, NEIL'!D56","v":2},{"$f":"'THOMPSEN, NEIL'!E56","v":3},{"$f":"'THOMPSEN, NEIL'!F56","v":3},{"$f":"'THOMPSEN, NEIL'!G56","v":4},{"$f":"'THOMPSEN, NEIL'!H56","v":3},{"$f":"'THOMPSEN, NEIL'!I56","v":4},{"$f":"'THOMPSEN, NEIL'!J56","v":3},29,{"$f":"'THOMPSEN, NEIL'!L56","v":4},{"$f":"'THOMPSEN, NEIL'!M56","v":3},{"$f":"'THOMPSEN, NEIL'!N56","v":3},{"$f":"'THOMPSEN, NEIL'!O56","v":2},{"$f":"'THOMPSEN, NEIL'!P56","v":3},{"$f":"'THOMPSEN, NEIL'!Q56","v":2},{"$f":"'THOMPSEN, NEIL'!R56","v":4},{"$f":"'THOMPSEN, NEIL'!S56","v":3},{"$f":"'THOMPSEN, NEIL'!T56","v":3},27,56]
[{"$f":"'VERHAAG, MARK'!$A$2","v":"VERHAAG, MARK"},{"$f":"'VERHAAG, MARK'!B56","v":4},{"$f":"'VERHAAG, MARK'!C56","v":4},{"$f":"'VERHAAG, MARK'!D56","v":3},{"$f":"'VERHAAG, MARK'!E56","v":3},{"$f":"'VERHAAG, MARK'!F56","v":3},{"$f":"'VERHAAG, MARK'!G56","v":5},{"$f":"'VERHAAG, MARK'!H56","v":3},{"$f":"'VERHAAG, MARK'!I56","v":4},{"$f":"'VERHAAG, MARK'!J56","v":3},32,{"$f":"'VERHAAG, MARK'!L56","v":4},{"$f":"'VERHAAG, MARK'!M56","v":4},{"$f":"'VERHAAG, MARK'!N56","v":2},{"$f":"'VERHAAG, MARK'!O56","v":3},{"$f":"'VERHAAG, MARK'!P56","v":4},{"$f":"'VERHAAG, MARK'!Q56","v":4},{"$f":"'VERHAAG, MARK'!R56","v":4},{"$f":"'VERHAAG, MARK'!S56","v":3},{"$f":"'VERHAAG, MARK'!T56","v":3},31,63]
[{"$f":"'WHARFF, HARRY'!$A$2","v":"WHARFF, HARRY"},{"$f":"'WHARFF, HARRY'!B56","v":4},{"$f":"'WHARFF, HARRY'!C56","v":5},{"$f":"'WHARFF, HARRY'!D56","v":3},{"$f":"'WHARFF, HARRY'!E56","v":3},{"$f":"'WHARFF, HARRY'!F56","v":3},{"$f":"'WHARFF, HARRY'!G56","v":3},{"$f":"'WHARFF, HARRY'!H56","v":3},{"$f":"'WHARFF, HARRY'!I56","v":3},{"$f":"'WHARFF, HARRY'!J56","v":3},30,{"$f":"'WHARFF, HARRY'!L56","v":5},{"$f":"'WHARFF, HARRY'!M56","v":3},{"$f":"'WHARFF, HARRY'!N56","v":2},{"$f":"'WHARFF, HARRY'!O56","v":3},{"$f":"'WHARFF, HARRY'!P56","v":3},{"$f":"'WHARFF, HARRY'!Q56","v":2},{"$f":"'WHARFF, HARRY'!R56","v":4},{"$f":"'WHARFF, HARRY'!S56","v":4},{"$f":"'WHARFF, HARRY'!T56","v":3},29,59]
[{"$f":"'WHARFF, JOHN'!$A$2","v":"WHARFF, JOHN"},{"$f":"'WHARFF, JOHN'!B56","v":3},{"$f":"'WHARFF, JOHN'!C56","v":5},{"$f":"'WHARFF, JOHN'!D56","v":3},{"$f":"'WHARFF, JOHN'!E56","v":2},{"$f":"'WHARFF, JOHN'!F56","v":3},{"$f":"'WHARFF, JOHN'!G56","v":4},{"$f":"'WHARFF, JOHN'!H56","v":3},{"$f":"'WHARFF, JOHN'!I56","v":4},{"$f":"'WHARFF, JOHN'!J56","v":4},31,{"$f":"'WHARFF, JOHN'!L56","v":4},{"$f":"'WHARFF, JOHN'!M56","v":4},{"$f":"'WHARFF, JOHN'!N56","v":3},{"$f":"'WHARFF, JOHN'!O56","v":4},{"$f":"'WHARFF, JOHN'!P56","v":4},{"$f":"'WHARFF, JOHN'!Q56","v":3},{"$f":"'WHARFF, JOHN'!R56","v":4},{"$f":"'WHARFF, JOHN'!S56","v":2},{"$f":"'WHARFF, JOHN'!T56","v":4},32,63]
[{"$f":"'WILSON, PAUL'!$A$2","v":"WILSON, PAUL"},{"$f":"'WILSON, PAUL'!B56","v":3},{"$f":"'WILSON, PAUL'!C56","v":4},{"$f":"'WILSON, PAUL'!D56","v":2},{"$f":"'WILSON, PAUL'!E56","v":3},{"$f":"'WILSON, PAUL'!F56","v":2},{"$f":"'WILSON, PAUL'!G56","v":4},{"$f":"'WILSON, PAUL'!H56","v":4},{"$f":"'WILSON, PAUL'!I56","v":4},{"$f":"'WILSON, PAUL'!J56","v":3},{"$f":"SUM(B55:J55)","v":29},{"$f":"'WILSON, PAUL'!L56","v":4},{"$f":"'WILSON, PAUL'!M56","v":3},{"$f":"'WILSON, PAUL'!N56","v":2},{"$f":"'WILSON, PAUL'!O56","v":3},{"$f":"'WILSON, PAUL'!P56","v":3},{"$f":"'WILSON, PAUL'!Q56","v":3},{"$f":"'WILSON, PAUL'!R56","v":4},{"$f":"'WILSON, PAUL'!S56","v":3},{"$f":"'WILSON, PAUL'!T56","v":3},28,57]

{"sheet":"ABLANK","index":2,"n_rows":34,"n_cols":22,"rows_kept":34,"cut":false,"hidden":false,"merged":[]}
[]
["ABLANK"]
["HOLE",1,2,3,4,5,6,7,8,9,"OUT",10,11,12,13,14,15,16,17,18,"IN","TOTAL"]
["PAR",4,5,3,4,3,5,4,4,4,36,5,4,3,4,4,3,5,4,4,36,72]
["NCGA 4-Ball",null,null,null,null,null,null,null,null,null,{"$f":"SUM(B5:J5)","v":0},null,null,null,null,null,null,null,null,null,{"$f":"SUM(L5:T5)","v":0},{"$f":"SUM(K5+U5)","v":0}]
["Super Bowl",null,null,null,null,null,null,null,null,null,0,null,null,null,null,null,null,null,null,null,{"$f":"SUM(L6:T6)","v":0},{"$f":"SUM(K6+U6)","v":0}]
["RGC 3-Club",null,null,null,null,null,null,null,null,null,0,null,null,null,null,null,null,null,null,null,{"$f":"SUM(L7:T7)","v":0},{"$f":"SUM(K7+U7)","v":0}]
["Zone 1",null,null,null,null,null,null,null,null,null,0,null,null,null,null,null,null,null,null,null,0,0]
["Zone 2",null,null,null,null,null,null,null,null,null,0,null,null,null,null,null,null,null,null,null,0,0]
["RGC Masters",null,null,null,null,null,null,null,null,null,0,null,null,null,null,null,null,null,null,null,0,0]
["Day on the Oaks 1",null,null,null,null,null,null,null,null,null,0,null,null,null,null,null,null,null,null,null,0,0]
["54 Hole Individual 1",null,null,null,null,null,null,null,null,null,0,null,null,null,null,null,null,null,null,null,0,0]
["55 Hole Individual 2",null,null,null,null,null,null,null,null,null,0,null,null,null,null,null,null,null,null,null,0,0]
["56 Hole Individual 3",null,null,null,null,null,null,null,null,null,0,null,null,null,null,null,null,null,null,null,0,0]
["Senior 4-Ball",null,null,null,null,null,null,null,null,null,0,null,null,null,null,null,null,null,null,null,0,0]
["Day on the Oaks 2",null,null,null,null,null,null,null,null,null,0,null,null,null,null,null,null,null,null,null,0,0]
["Memorial",null,null,null,null,null,null,null,null,null,0,null,null,null,null,null,null,null,null,null,0,0]
["Day on the Oaks 3",null,null,null,null,null,null,null,null,null,0,null,null,null,null,null,null,null,null,null,0,0]
["54 Hole Team 1",null,null,null,null,null,null,null,null,null,0,null,null,null,null,null,null,null,null,null,0,0]
["Day on the Oaks 4",null,null,null,null,null,null,null,null,null,0,null,null,null,null,null,null,null,null,null,0,0]
["Rose Cup",null,null,null,null,null,null,null,null,null,0,null,null,null,null,null,null,null,null,null,0,0]
["Day on the Oaks 5",null,null,null,null,null,null,null,null,null,0,null,null,null,null,null,null,null,null,null,0,0]
["Day on the Oaks 6",null,null,null,null,null,null,null,null,null,0,null,null,null,null,null,null,null,null,null,0,0]
["Labor Day",null,null,null,null,null,null,null,null,null,0,null,null,null,null,null,null,null,null,null,0,0]
["Club Qualify",null,null,null,null,null,null,null,null,null,0,null,null,null,null,null,null,null,null,null,{"$f":"SUM(L25:T25)","v":0},{"$f":"SUM(K25+U25)","v":0}]
["Past Presidents",null,null,null,null,null,null,null,null,null,0,null,null,null,null,null,null,null,null,null,0,0]
["Turkey Shoot",null,null,null,null,null,null,null,null,null,0,null,null,null,null,null,null,null,null,null,0,0]
["Eclectic Final ",null,null,null,null,null,null,null,null,null,0,null,null,null,null,null,null,null,null,null,0,0]
[]
["Low Score",{"$f":"MIN(B5:B28)","v":0},0,0,0,0,0,0,0,0,{"$f":"SUM(B30:J30)","v":0},{"$f":"MIN(L5:L28)","v":0},0,0,0,0,0,0,0,0,0,0]
["Average",{"$f":"AVERAGE(B5:B28)","v":{"$error":"#DIV/0!"}},{"$error":"#DIV/0!"},{"$error":"#DIV/0!"},{"$error":"#DIV/0!"},{"$error":"#DIV/0!"},{"$error":"#DIV/0!"},{"$error":"#DIV/0!"},{"$error":"#DIV/0!"},{"$error":"#DIV/0!"},null,{"$f":"AVERAGE(L5:L28)","v":{"$error":"#DIV/0!"}},{"$f":"AVERAGE(M5:M28)","v":{"$error":"#DIV/0!"}},{"$error":"#DIV/0!"},{"$error":"#DIV/0!"},{"$error":"#DIV/0!"},{"$error":"#DIV/0!"},{"$error":"#DIV/0!"},{"$error":"#DIV/0!"},{"$error":"#DIV/0!"}]
[]
["Questions?  "]
["Call Gary Krohn 916-782-3579 or email handicapper@rosevillegolfclub.com"]

{"sheet":"ALLEN, RON","index":3,"n_rows":56,"n_cols":24,"rows_kept":56,"cut":false,"hidden":false,"merged":[]}
[]
["ALLEN, RON",null,null,null,null,null,null,null,null,null,null,null,null,null,null,null,null,null,null,null,null,null,"HANDICAP"]
["HOLE",1,2,3,4,5,6,7,8,9,"OUT",10,11,12,13,14,15,16,17,18,"IN","TOTAL"]
["HANDICAP",8,14,18,6,16,10,4,12,2,null,9,5,17,3,15,7,13,11,1]
["PAR",4,5,3,4,3,5,4,4,4,36,5,4,3,4,4,3,5,4,4,36,72]
["1 Jan 28 - NCGA 4-Ball",4,5,3,5,5,7,4,6,5,{"$f":"SUM(B6:J6)","v":44},5,7,4,4,6,4,4,5,5,{"$f":"SUM(L6:T6)","v":44},{"$f":"SUM(K6+U6)","v":88}]
["NET",{"$f":"B6-(B$4<=MOD($W7,18))-INT($W7/18)","v":3},{"$f":"C6-(C$4<=MOD($W7,18))-INT($W7/18)","v":5},3,4,5,6,3,6,4,39,{"$f":"L6-(L$4<=MOD($W7,18))-INT($W7/18)","v":4},{"$f":"M6-(M$4<=MOD($W7,18))-INT($W7/18)","v":6},{"$f":"N6-(N$4<=MOD($W7,18))-INT($W7/18)","v":4},{"$f":"O6-(O$4<=MOD($W7,18))-INT($W7/18)","v":3},{"$f":"P6-(P$4<=MOD($W7,18))-INT($W7/18)","v":6},{"$f":"Q6-(Q$4<=MOD($W7,18))-INT($W7/18)","v":3},{"$f":"R6-(R$4<=MOD($W7,18))-INT($W7/18)","v":4},{"$f":"S6-(S$4<=MOD($W7,18))-INT($W7/18)","v":5},{"$f":"T6-(T$4<=MOD($W7,18))-INT($W7/18)","v":4},39,78,10]
["2 Feb 11 - Super Bowl",5,6,3,4,4,7,5,4,5,43,6,5,4,4,3,3,5,5,5,40,83]
["NET",{"$f":"B8-(B$4<=MOD($W9,18))-INT($W9/18)","v":4},{"$f":"C8-(C$4<=MOD($W9,18))-INT($W9/18)","v":6},{"$f":"D8-(D$4<=MOD($W9,18))-INT($W9/18)","v":3},{"$f":"E8-(E$4<=MOD($W9,18))-INT($W9/18)","v":3},{"$f":"F8-(F$4<=MOD($W9,18))-INT($W9/18)","v":4},{"$f":"G8-(G$4<=MOD($W9,18))-INT($W9/18)","v":6},{"$f":"H8-(H$4<=MOD($W9,18))-INT($W9/18)","v":4},{"$f":"I8-(I$4<=MOD($W9,18))-INT($W9/18)","v":4},{"$f":"J8-(J$4<=MOD($W9,18))-INT($W9/18)","v":4},38,{"$f":"L8-(L$4<=MOD($W9,18))-INT($W9/18)","v":5},{"$f":"M8-(M$4<=MOD($W9,18))-INT($W9/18)","v":4},{"$f":"N8-(N$4<=MOD($W9,18))-INT($W9/18)","v":4},{"$f":"O8-(O$4<=MOD($W9,18))-INT($W9/18)","v":3},{"$f":"P8-(P$4<=MOD($W9,18))-INT($W9/18)","v":3},{"$f":"Q8-(Q$4<=MOD($W9,18))-INT($W9/18)","v":2},{"$f":"R8-(R$4<=MOD($W9,18))-INT($W9/18)","v":5},{"$f":"S8-(S$4<=MOD($W9,18))-INT($W9/18)","v":5},{"$f":"T8-(T$4<=MOD($W9,18))-INT($W9/18)","v":4},35,73,10]
["3 Feb 26 - Modified Stableford",4,5,3,6,4,6,4,4,7,43,7,5,6,6,5,5,7,3,5,49,92]
["NET",{"$f":"B10-(B$4<=MOD($W11,18))-INT($W11/18)","v":3},5,3,5,4,5,3,4,6,38,{"$f":"L10-(L$4<=MOD($W11,18))-INT($W11/18)","v":6},{"$f":"M10-(M$4<=MOD($W11,18))-INT($W11/18)","v":4},6,5,5,4,7,3,4,44,82,10]
["4 Mar 25 - Zone Qualifier Rd 1",5,4,3,8,3,6,5,5,4,43,5,4,3,6,5,3,5,5,5,41,84]
["NET",{"$f":"B12-(B$4<=MOD($W13,18))-INT($W13/18)","v":4},4,3,7,3,5,4,5,3,38,{"$f":"L12-(L$4<=MOD($W13,18))-INT($W13/18)","v":4},{"$f":"M12-(M$4<=MOD($W13,18))-INT($W13/18)","v":3},3,5,5,2,5,4,4,35,73,11]
["5 Mar 26 - Zone Qualifier Rd 2",5,6,4,6,3,6,6,5,4,45,5,5,4,4,4,4,5,5,4,40,85]
["NET",{"$f":"B14-(B$4<=MOD($W15,18))-INT($W15/18)","v":4},6,4,5,3,5,5,5,3,40,{"$f":"L14-(L$4<=MOD($W15,18))-INT($W15/18)","v":4},{"$f":"M14-(M$4<=MOD($W15,18))-INT($W15/18)","v":4},4,3,4,3,5,4,3,34,74,11]
["6 Apr 8 - RGC Masters",6,5,4,5,3,5,5,5,4,42,5,6,3,5,4,3,5,5,6,42,84]
["NET",{"$f":"B16-(B$4<=MOD($W17,18))-INT($W17/18)","v":5},5,4,4,3,4,4,5,3,37,{"$f":"L16-(L$4<=MOD($W17,18))-INT($W17/18)","v":4},{"$f":"M16-(M$4<=MOD($W17,18))-INT($W17/18)","v":5},3,4,4,2,5,5,5,37,74,10]
["7 Apr 11 - Day on the Oaks 1",null,null,null,null,null,null,null,null,null,0,null,null,null,null,null,null,null,null,null,0,0]
["NET",null,null,null,null,null,null,null,null,null,0,null,null,null,null,null,null,null,null,null,0,0]
["8 Apr 15 - 54 Hole Individual Rd 1",6,4,4,5,3,4,5,5,4,40,5,4,4,5,4,4,5,5,6,42,82]
["NET",{"$f":"B20-(B$4<=MOD($W21,18))-INT($W21/18)","v":5},{"$f":"C20-(C$4<=MOD($W21,18))-INT($W21/18)","v":4},4,4,3,3,4,5,3,35,{"$f":"L20-(L$4<=MOD($W21,18))-INT($W21/18)","v":4},{"$f":"M20-(M$4<=MOD($W21,18))-INT($W21/18)","v":3},4,4,4,3,5,5,5,37,72,10]
["9 Apr 16 - 54 Hole Individual Rd 2",4,5,2,7,3,6,5,5,4,41,4,6,4,5,4,3,5,4,6,41,82]
["NET",{"$f":"B22-(B$4<=MOD($W23,18))-INT($W23/18)","v":3},{"$f":"C22-(C$4<=MOD($W23,18))-INT($W23/18)","v":5},2,6,3,5,4,5,3,36,{"$f":"L22-(L$4<=MOD($W23,18))-INT($W23/18)","v":3},{"$f":"M22-(M$4<=MOD($W23,18))-INT($W23/18)","v":5},4,4,4,2,5,4,5,36,72,10]
["10 Apr 22 - 54 Hole Individual Rd 3",5,4,3,6,3,6,5,5,4,41,6,6,4,4,5,3,7,5,4,44,85]
["NET",{"$f":"B24-(B$4<=MOD($W25,18))-INT($W25/18)","v":4},{"$f":"C24-(C$4<=MOD($W25,18))-INT($W25/18)","v":4},3,5,3,5,4,5,3,36,{"$f":"L24-(L$4<=MOD($W25,18))-INT($W25/18)","v":5},5,4,3,5,2,7,5,3,39,75,10]
["11 May 7 - Senior 4-Ball Qualifier",5,6,3,5,3,5,4,3,5,39,4,5,2,5,4,5,5,4,3,37,76,null," "]
["NET",{"$f":"B26-(B$4<=MOD($W27,18))-INT($W27/18)","v":4},6,3,4,3,5,3,3,4,35,{"$f":"L26-(L$4<=MOD($W27,18))-INT($W27/18)","v":4},{"$f":"M26-(M$4<=MOD($W27,18))-INT($W27/18)","v":4},2,4,4,4,5,4,2,33,68,8]
["12 May 16 - Day on the Oaks 2",null,null,null,null,null,null,null,null,null,0,null,null,null,null,null,null,null,null,null,0,0]
["NET",null,null,null,null,null,null,null,null,null,0,null,null,null,null,null,null,null,null,null,0,0]
["13 May 28 - Memorial",8,5,2,6,3,6,4,4,5,43,8,5,2,6,3,6,4,4,5,43,86]
["NET",{"$f":"B30-(B$4<=MOD($W31,18))-INT($W31/18)","v":7},{"$f":"C30-(C$4<=MOD($W31,18))-INT($W31/18)","v":5},2,5,3,6,3,4,4,39,{"$f":"L30-(L$4<=MOD($W31,18))-INT($W31/18)","v":8},{"$f":"M30-(M$4<=MOD($W31,18))-INT($W31/18)","v":4},2,5,3,5,4,4,4,39,78,8]
["14 Jun 10 - 54 Hole Team Rd 1",4,4,5,3,6,6,4,4,4,40,5,5,2,4,4,5,7,5,6,43,83]
["NET",{"$f":"B32-(B$4<=MOD($W33,18))-INT($W33/18)","v":3},4,5,2,6,6,3,4,3,36,{"$f":"L32-(L$4<=MOD($W33,18))-INT($W33/18)","v":5},{"$f":"M32-(M$4<=MOD($W33,18))-INT($W33/18)","v":4},2,3,4,4,7,5,5,39,75,8]
["15 Jun 27 - Day on the Oaks 3",null,null,null,null,null,null,null,null,null,0,null,null,null,null,null,null,null,null,null,0,0]
["NET",null,null,null,null,null,null,null,null,null,0,null,null,null,null,null,null,null,null,null,0,0]
["17 Jul 11 - Day on the Oaks 4",null,null,null,null,null,null,null,null,null,0,null,null,null,null,null,null,null,null,null,0,0]
["NET",null,null,null,null,null,null,null,null,null,0,null,null,null,null,null,null,null,null,null,0,0]
["18 Aug 1 - Day on the Oaks 5",null,null,null,null,null,null,null,null,null,0,null,null,null,null,null,null,null,null,null,0,0]
["NET",null,null,null,null,null,null,null,null,null,0,null,null,null,null,null,null,null,null,null,0,0]
["19 Aug 13 - Rose Cup Qualifier",null,null,null,null,null,null,null,null,null,0,null,null,null,null,null,null,null,null,null,0,0]
["NET",null,null,null,null,null,null,null,null,null,0,null,null,null,null,null,null,null,null,null,0,0]
["20 Aug 29 - Day on the Oaks 6",null,null,null,null,null,null,null,null,null,0,null,null,null,null,null,null,null,null,null,0,0]
["NET",null,null,null,null,null,null,null,null,null,0,null,null,null,null,null,null,null,null,null,0,0]
["21 Sep 3 - Labor Day",null,null,null,null,null,null,null,null,null,0,null,null,null,null,null,null,null,null,null,0,0]
["NET",null,null,null,null,null,null,null,null,null,0,null,null,null,null,null,null,null,null,null,0,0]
["22 Oct 21 - Past Presidents",null,null,null,null,null,null,null,null,null,0,null,null,null,null,null,null,null,null,null,0,0]
["NET",null,null,null,null,null,null,null,null,null,0,null,null,null,null,null,null,null,null,null,0,0]
["23 Nov 12 - Turkey Shoot",null,null,null,null,null,null,null,null,null,0,null,null,null,null,null,null,null,null,null,0,0]
["NET",null,null,null,null,null,null,null,null,null,0,null,null,null,null,null,null,null,null,null,0,0]
["24 Dec 2 - Eclectic Final ",null,null,null,null,null,null,null,null,null,0,null,null,null,null,null,null,null,null,null,0,0]
["NET",null,null,null,null,null,null,null,null,null,0,null,null,null,null,null,null,null,null,null,0,0]
[null,null,null,null,null,null,null,null,null,null,0,null,null,null,null,null,null,null,null,null,0,0]
[null,null,null,null,null,null,null,null,null,null,0,null,null,null,null,null,null,null,null,null,0,0]
[]
["Low Gross Score",{"$f":"MIN(B6,B8,B10,B12,B14,B16,B18,B20,B22,B24,B26,B28,B30,32,B34,B36,B38,B40,B42,B44,B46,B48,B50,B52)","v":4},{"$f":"MIN(C6,C8,C10,C12,C14,C16,C18,C20,C22,C24,C26,C28,C30,32,C34,C36,C38,C40,C42,C44,C46,C48,C50,C52)","v":4},2,4,3,4,4,3,4,{"$f":"SUM(B55:J55)","v":32},{"$f":"MIN(L6,L8,L10,L12,L14,L16,L18,L20,L22,L24,L26,L28,L30,32,L34,L36,L38,L40,L42,L44,L46,L48,L50,L52)","v":4},4,2,4,3,3,4,3,3,{"$f":"SUM(L55:T55)","v":30},{"$f":"SUM(K55+U55)","v":62}]
["Low Net Score",{"$f":"MIN(B7,B9,B11,B13,B15,B17,B19,B21,B23,B25,B27,B29,B31,B33,B35,B37,B39,B41,B43,B45,B47,B49,B51,B53)","v":3},{"$f":"MIN(C7,C9,C11,C13,C15,C17,C19, C21,C23,C25,C27,C29,C31,C33,C35,C37,C39,C41,C43,C45,C47,C49,C51,C53)","v":4},2,2,3,3,3,3,3,26,{"$f":"MIN(L7,L9,L11,L13,L15,L17,L19, L21,L23,L25,L27,L29,L31,L33,L35,L37,L39,L41,L43,L45,L47,L49,L51,L53)","v":3},3,2,3,3,2,4,3,2,25,51]

{"sheet":"ANDERSON, JEREMY","index":4,"n_rows":56,"n_cols":23,"rows_kept":56,"cut":false,"hidden":false,"merged":[]}
[]
["ANDERSON, JEREMY",null,null,null,null,null,null,null,null,null,null,null,null,null,null,null,null,null,null,null,null,null,"HANDICAP"]
["HOLE",1,2,3,4,5,6,7,8,9,"OUT",10,11,12,13,14,15,16,17,18,"IN","TOTAL"]
["HANDICAP",8,14,18,6,16,10,4,12,2,null,9,5,17,3,15,7,13,11,1]
["PAR",4,5,3,4,3,5,4,4,4,36,5,4,3,4,4,3,5,4,4,36,72]
["1 Jan 28 - NCGA 4-Ball",null,null,null,null,null,null,null,null,null,{"$f":"SUM(B6:J6)","v":0},null,null,null,null,null,null,null,null,null,{"$f":"SUM(L6:T6)","v":0},{"$f":"SUM(K6+U6)","v":0}]
["NET",null,null,null,null,null,null,null,null,null,0,null,null,null,null,null,null,null,null,null,0,0]
["2 Feb 11 - Super Bowl",null,null,null,null,null,null,null,null,null,0,null,null,null,null,null,null,null,null,null,0,0]
["NET",null,null,null,null,null,null,null,null,null,0,null,null,null,null,null,null,null,null,null,0,0]
["3 Feb 26 - Modified Stableford",4,6,4,5,3,5,5,4,5,41,6,6,4,4,4,5,5,3,4,41,82]
["NET",{"$f":"B10-(B$4<=MOD($W11,18))-INT($W11/18)","v":4},{"$f":"C10-(C$4<=MOD($W11,18))-INT($W11/18)","v":6},4,5,3,5,4,4,4,39,{"$f":"L10-(L$4<=MOD($W11,18))-INT($W11/18)","v":6},{"$f":"M10-(M$4<=MOD($W11,18))-INT($W11/18)","v":5},4,3,4,5,5,3,3,38,77,5]
["4 Mar 25 - Zone Qualifier Rd 1",null,null,null,null,null,null,null,null,null,0,null,null,null,null,null,null,null,null,null,0,0]
["NET",null,null,null,null,null,null,null,null,null,0,null,null,null,null,null,null,null,null,null,0,0]
["5 Mar 26 - Zone Qualifier Rd 2",null,null,null,null,null,null,null,null,null,0,null,null,null,null,null,null,null,null,null,0,0]
["NET",null,null,null,null,null,null,null,null,null,0,null,null,null,null,null,null,null,null,null,0,0]
["6 Apr 8 - RGC Masters",4,6,3,4,3,6,4,6,4,40,6,4,3,5,5,4,5,5,5,42,82]
["NET",{"$f":"B16-(B$4<=MOD($W17,18))-INT($W17/18)","v":4},{"$f":"C16-(C$4<=MOD($W17,18))-INT($W17/18)","v":6},3,4,3,6,3,6,3,38,{"$f":"L16-(L$4<=MOD($W17,18))-INT($W17/18)","v":6},{"$f":"M16-(M$4<=MOD($W17,18))-INT($W17/18)","v":3},3,4,5,4,5,5,4,39,77,5]
["7 Apr 11 - Day on the Oaks 1",null,null,null,null,null,null,null,null,null,0,null,null,null,null,null,null,null,null,null,0,0]
["NET",null,null,null,null,null,null,null,null,null,0,null,null,null,null,null,null,null,null,null,0,0]
["8 Apr 15 - 54 Hole Individual Rd 1",6,5,3,3,3,6,4,5,6,41,6,4,4,4,5,4,6,4,4,41,82]
["NET",{"$f":"B20-(B$4<=MOD($W21,18))-INT($W21/18)","v":6},{"$f":"C20-(C$4<=MOD($W21,18))-INT($W21/18)","v":5},3,3,3,6,3,5,5,39,{"$f":"L20-(L$4<=MOD($W21,18))-INT($W21/18)","v":6},{"$f":"M20-(M$4<=MOD($W21,18))-INT($W21/18)","v":3},4,3,5,4,6,4,3,38,77,5]
["9 Apr 16 - 54 Hole Individual Rd 2",4,6,5,4,3,5,4,5,4,40,5,5,3,5,4,3,7,5,5,42,82]
["NET",{"$f":"B22-(B$4<=MOD($W23,18))-INT($W23/18)","v":4},{"$f":"C22-(C$4<=MOD($W23,18))-INT($W23/18)","v":6},5,4,3,5,3,5,3,38,{"$f":"L22-(L$4<=MOD($W23,18))-INT($W23/18)","v":5},{"$f":"M22-(M$4<=MOD($W23,18))-INT($W23/18)","v":4},3,4,4,3,7,5,4,39,77,5]
["10 Apr 22 - 54 Hole Individual Rd 3",7,5,3,5,4,6,4,5,4,43,5,6,4,4,4,3,5,5,4,40,83]
["NET",{"$f":"B24-(B$4<=MOD($W25,18))-INT($W25/18)","v":7},{"$f":"C24-(C$4<=MOD($W25,18))-INT($W25/18)","v":5},3,5,4,6,3,5,3,41,{"$f":"L24-(L$4<=MOD($W25,18))-INT($W25/18)","v":5},{"$f":"M24-(M$4<=MOD($W25,18))-INT($W25/18)","v":5},4,3,4,3,5,5,3,37,78,5]
["11 May 7 - Senior 4-Ball Qualifier",null,null,null,null,null,null,null,null,null,0,null,null,null,null,null,null,null,null,null,0,0]
["NET",null,null,null,null,null,null,null,null,null,0,null,null,null,null,null,null,null,null,null,0,0]
["12 May 16 - Day on the Oaks 2",5,6,4,4,3,5,5,4,6,42,5,5,2,4,5,4,5,4,6,40,82]
["NET",{"$f":"B28-(B$4<=MOD($W29,18))-INT($W29/18)","v":4},{"$f":"C28-(C$4<=MOD($W29,18))-INT($W29/18)","v":6},4,3,3,5,4,4,5,38,{"$f":"L28-(L$4<=MOD($W29,18))-INT($W29/18)","v":5},{"$f":"M28-(M$4<=MOD($W29,18))-INT($W29/18)","v":4},2,3,5,3,5,4,5,36,74,8]
["13 May 28 - Memorial",5,6,2,5,3,6,6,4,5,42,4,6,3,5,3,4,5,5,5,40,82]
["NET",{"$f":"B30-(B$4<=MOD($W31,18))-INT($W31/18)","v":4},6,2,4,3,6,5,4,4,38,{"$f":"L30-(L$4<=MOD($W31,18))-INT($W31/18)","v":4},{"$f":"M30-(M$4<=MOD($W31,18))-INT($W31/18)","v":5},3,4,3,3,5,5,4,36,74,8]
["14 Jun 10 - 54 Hole Team Rd 1",null,null,null,null,null,null,null,null,null,0,null,null,null,null,null,null,null,null,null,0,0]
["NET",null,null,null,null,null,null,null,null,null,0,null,null,null,null,null,null,null,null,null,0,0]
["15 Jun 27 - Day on the Oaks 3",null,null,null,null,null,null,null,null,null,0,null,null,null,null,null,null,null,null,null,0,0]
["NET",null,null,null,null,null,null,null,null,null,0,null,null,null,null,null,null,null,null,null,0,0]
["17 Jul 11 - Day on the Oaks 4",null,null,null,null,null,null,null,null,null,0,null,null,null,null,null,null,null,null,null,0,0]
["NET",null,null,null,null,null,null,null,null,null,0,null,null,null,null,null,null,null,null,null,0,0]
["18 Aug 1 - Day on the Oaks 5",null,null,null,null,null,null,null,null,null,0,null,null,null,null,null,null,null,null,null,0,0]
["NET",null,null,null,null,null,null,null,null,null,0,null,null,null,null,null,null,null,null,null,0,0]
["19 Aug 13 - Rose Cup Qualifier",null,null,null,null,null,null,null,null,null,0,null,null,null,null,null,null,null,null,null,0,0]
["NET",null,null,null,null,null,null,null,null,null,0,null,null,null,null,null,null,null,null,null,0,0]
["20 Aug 29 - Day on the Oaks 6",null,null,null,null,null,null,null,null,null,0,null,null,null,null,null,null,null,null,null,0,0]
["NET",null,null,null,null,null,null,null,null,null,0,null,null,null,null,null,null,null,null,null,0,0]
["21 Sep 3 - Labor Day",null,null,null,null,null,null,null,null,null,0,null,null,null,null,null,null,null,null,null,0,0]
["NET",null,null,null,null,null,null,null,null,null,0,null,null,null,null,null,null,null,null,null,0,0]
["22 Oct 21 - Past Presidents",null,null,null,null,null,null,null,null,null,0,null,null,null,null,null,null,null,null,null,0,0]
["NET",null,null,null,null,null,null,null,null,null,0,null,null,null,null,null,null,null,null,null,0,0]
["23 Nov 12 - Turkey Shoot",null,null,null,null,null,null,null,null,null,0,null,null,null,null,null,null,null,null,null,0,0]
["NET",null,null,null,null,null,null,null,null,null,0,null,null,null,null,null,null,null,null,null,0,0]
["24 Dec 2 - Eclectic Final ",null,null,null,null,null,null,null,null,null,0,null,null,null,null,null,null,null,null,null,0,0]
["NET",null,null,null,null,null,null,null,null,null,0,null,null,null,null,null,null,null,null,null,0,0]
[null,null,null,null,null,null,null,null,null,null,0,null,null,null,null,null,null,null,null,null,0,0]
[null,null,null,null,null,null,null,null,null,null,0,null,null,null,null,null,null,null,null,null,0,0]
[]
["Low Gross Score",{"$f":"MIN(B6,B8,B10,B12,B14,B16,B18,B20,B22,B24,B26,B28,B30,32,B34,B36,B38,B40,B42,B44,B46,B48,B50,B52)","v":4},{"$f":"MIN(C6,C8,C10,C12,C14,C16,C18,C20,C22,C24,C26,C28,C30,32,C34,C36,C38,C40,C42,C44,C46,C48,C50,C52)","v":5},2,3,3,5,4,4,4,{"$f":"SUM(B55:J55)","v":34},{"$f":"MIN(L6,L8,L10,L12,L14,L16,L18,L20,L22,L24,L26,L28,L30,32,L34,L36,L38,L40,L42,L44,L46,L48,L50,L52)","v":4},4,2,4,3,3,5,3,4,{"$f":"SUM(L55:T55)","v":32},{"$f":"SUM(K55+U55)","v":66}]
["Low Net Score",{"$f":"MIN(B7,B9,B11,B13,B15,B17,B19,B21,B23,B25,B27,B29,B31,B33,B35,B37,B39,B41,B43,B45,B47,B49,B51,B53)","v":4},{"$f":"MIN(C7,C9,C11,C13,C15,C17,C19, C21,C23,C25,C27,C29,C31,C33,C35,C37,C39,C41,C43,C45,C47,C49,C51,C53)","v":5},2,3,3,5,3,4,3,32,{"$f":"MIN(L7,L9,L11,L13,L15,L17,L19, L21,L23,L25,L27,L29,L31,L33,L35,L37,L39,L41,L43,L45,L47,L49,L51,L53)","v":4},3,2,3,3,3,5,3,3,29,61]

{"sheet":"ARRELLANO, DAVE","index":5,"n_rows":56,"n_cols":23,"rows_kept":56,"cut":false,"hidden":false,"merged":[]}
[]
["ARRELLANO, DAVE",null,null,null,null,null,null,null,null,null,null,null,null,null,null,null,null,null,null,null,null,null,"HANDICAP"]
["HOLE",1,2,3,4,5,6,7,8,9,"OUT",10,11,12,13,14,15,16,17,18,"IN","TOTAL"]
["HANDICAP",8,14,18,6,16,10,4,12,2,null,9,5,17,3,15,7,13,11,1]
["PAR",4,5,3,4,3,5,4,4,4,36,5,4,3,4,4,3,5,4,4,36,72]
["1 Jan 28 - NCGA 4-Ball",6,6,4,5,3,7,4,4,4,{"$f":"SUM(B6:J6)","v":43},5,5,4,4,5,4,6,5,6,{"$f":"SUM(L6:T6)","v":44},{"$f":"SUM(K6+U6)","v":87}]
["NET",{"$f":"B6-(B$4<=MOD($W7,18))-INT($W7/18)","v":6},{"$f":"C6-(C$4<=MOD($W7,18))-INT($W7/18)","v":6},4,4,3,7,3,4,3,40,{"$f":"L6-(L$4<=MOD($W7,18))-INT($W7/18)","v":5},4,4,3,5,3,6,5,5,40,80,7]
["2 Feb 11 - Super Bowl",6,6,3,6,3,7,5,5,5,46,5,6,4,6,4,4,6,6,5,46,92]
["NET",{"$f":"B8-(B$4<=MOD($W9,18))-INT($W9/18)","v":6},{"$f":"C8-(C$4<=MOD($W9,18))-INT($W9/18)","v":6},3,5,3,7,4,5,4,43,{"$f":"L8-(L$4<=MOD($W9,18))-INT($W9/18)","v":5},{"$f":"M8-(M$4<=MOD($W9,18))-INT($W9/18)","v":5},4,5,4,3,6,6,4,42,85,7]
["3 Feb 26 - Modified Stableford",5,7,5,5,5,6,5,6,4,48,7,7,4,5,4,4,5,4,5,45,93]
["NET",{"$f":"B10-(B$4<=MOD($W11,18))-INT($W11/18)","v":5},7,5,4,5,6,4,6,3,45,{"$f":"L10-(L$4<=MOD($W11,18))-INT($W11/18)","v":7},{"$f":"M10-(M$4<=MOD($W11,18))-INT($W11/18)","v":6},4,4,4,3,5,4,4,41,86,7]
["4 Mar 25 - Zone Qualifier Rd 1",6,6,4,8,3,5,5,5,3,45,7,6,5,6,5,3,5,5,5,47,92]
["NET",{"$f":"B12-(B$4<=MOD($W13,18))-INT($W13/18)","v":6},6,4,7,3,5,4,5,2,42,{"$f":"L12-(L$4<=MOD($W13,18))-INT($W13/18)","v":7},{"$f":"M12-(M$4<=MOD($W13,18))-INT($W13/18)","v":5},5,5,5,2,5,5,4,43,85,7]
["5 Mar 26 - Zone Qualifier Rd 2",5,5,3,5,3,7,5,5,5,43,6,5,4,5,4,4,5,4,6,43,86]
["NET",{"$f":"B14-(B$4<=MOD($W15,18))-INT($W15/18)","v":5},5,3,4,3,7,4,5,4,40,{"$f":"L14-(L$4<=MOD($W15,18))-INT($W15/18)","v":6},{"$f":"M14-(M$4<=MOD($W15,18))-INT($W15/18)","v":4},4,4,4,3,5,4,5,39,79,7]
["6 Apr 8 - RGC Masters",4,5,3,6,3,5,7,4,6,43,5,5,4,5,6,4,5,4,6,44,87]
["NET",{"$f":"B16-(B$4<=MOD($W17,18))-INT($W17/18)","v":3},5,3,5,3,5,6,4,5,39,{"$f":"L16-(L$4<=MOD($W17,18))-INT($W17/18)","v":5},{"$f":"M16-(M$4<=MOD($W17,18))-INT($W17/18)","v":4},4,4,6,3,5,4,5,40,79,8]
["7 Apr 11 - Day on the Oaks 1",null,null,null,null,null,null,null,null,null,0,null,null,null,null,null,null,null,null,null,0,0]
["NET",null,null,null,null,null,null,null,null,null,0,null,null,null,null,null,null,null,null,null,0,0]
["8 Apr 15 - 54 Hole Individual Rd 1",null,null,null,null,null,null,null,null,null,0,null,null,null,null,null,null,null,null,null,0,0]
["NET",null,null,null,null,null,null,null,null,null,0,null,null,null,null,null,null,null,null,null,0,0]
["9 Apr 16 - 54 Hole Individual Rd 2",null,null,null,null,null,null,null,null,null,0,null,null,null,null,null,null,null,null,null,0,0]
["NET",null,null,null,null,null,null,null,null,null,0,null,null,null,null,null,null,null,null,null,0,0]
["10 Apr 22 - 54 Hole Individual Rd 3",null,null,null,null,null,null,null,null,null,0,null,null,null,null,null,null,null,null,null,0,0]
["NET",null,null,null,null,null,null,null,null,null,0,null,null,null,null,null,null,null,null,null,0,0]
["11 May 7 - Senior 4-Ball Qualifier",4,6,5,4,4,5,5,5,5,43,6,6,3,5,5,3,5,5,5,43,86]
["NET",{"$f":"B26-(B$4<=MOD($W27,18))-INT($W27/18)","v":3},{"$f":"C26-(C$4<=MOD($W27,18))-INT($W27/18)","v":6},5,3,4,5,4,5,4,39,{"$f":"L26-(L$4<=MOD($W27,18))-INT($W27/18)","v":6},{"$f":"M26-(M$4<=MOD($W27,18))-INT($W27/18)","v":5},3,4,5,2,5,5,4,39,78,8]
["12 May 16 - Day on the Oaks 2",null,null,null,null,null,null,null,null,null,0,null,null,null,null,null,null,null,null,null,0,0]
["NET",null,null,null,null,null,null,null,null,null,0,null,null,null,null,null,null,null,null,null,0,0]
["13 May 28 - Memorial",5,5,4,6,3,6,4,4,7,44,6,5,3,5,5,4,5,6,5,44,88]
["NET",{"$f":"B30-(B$4<=MOD($W31,18))-INT($W31/18)","v":4},{"$f":"C30-(C$4<=MOD($W31,18))-INT($W31/18)","v":5},4,5,3,5,3,4,6,39,{"$f":"L30-(L$4<=MOD($W31,18))-INT($W31/18)","v":5},{"$f":"M30-(M$4<=MOD($W31,18))-INT($W31/18)","v":4},3,4,5,3,5,6,4,39,78,10]
["14 Jun 10 - 54 Hole Team Rd 1",4,5,3,4,4,5,5,5,6,41,5,5,3,6,4,3,4,4,5,39,80]
["NET",{"$f":"B32-(B$4<=MOD($W33,18))-INT($W33/18)","v":3},5,3,3,4,4,4,5,5,36,{"$f":"L32-(L$4<=MOD($W33,18))-INT($W33/18)","v":4},{"$f":"M32-(M$4<=MOD($W33,18))-INT($W33/18)","v":4},3,5,4,2,4,4,4,34,70,10]
["15 Jun 27 - Day on the Oaks 3",null,null,null,null,null,null,null,null,null,0,null,null,null,null,null,null,null,null,null,0,0]
["NET",null,null,null,null,null,null,null,null,null,0,null,null,null,null,null,null,null,null,null,0,0]
["17 Jul 11 - Day on the Oaks 4",null,null,null,null,null,null,null,null,null,0,null,null,null,null,null,null,null,null,null,0,0]
["NET",null,null,null,null,null,null,null,null,null,0,null,null,null,null,null,null,null,null,null,0,0]
["18 Aug 1 - Day on the Oaks 5",null,null,null,null,null,null,null,null,null,0,null,null,null,null,null,null,null,null,null,0,0]
["NET",null,null,null,null,null,null,null,null,null,0,null,null,null,null,null,null,null,null,null,0,0]
["19 Aug 13 - Rose Cup Qualifier",null,null,null,null,null,null,null,null,null,0,null,null,null,null,null,null,null,null,null,0,0]
["NET",null,null,null,null,null,null,null,null,null,0,null,null,null,null,null,null,null,null,null,0,0]
["20 Aug 29 - Day on the Oaks 6",null,null,null,null,null,null,null,null,null,0,null,null,null,null,null,null,null,null,null,0,0]
["NET",null,null,null,null,null,null,null,null,null,0,null,null,null,null,null,null,null,null,null,0,0]
["21 Sep 3 - Labor Day",null,null,null,null,null,null,null,null,null,0,null,null,null,null,null,null,null,null,null,0,0]
["NET",null,null,null,null,null,null,null,null,null,0,null,null,null,null,null,null,null,null,null,0,0]
["22 Oct 21 - Past Presidents",null,null,null,null,null,null,null,null,null,0,null,null,null,null,null,null,null,null,null,0,0]
["NET",null,null,null,null,null,null,null,null,null,0,null,null,null,null,null,null,null,null,null,0,0]
["23 Nov 12 - Turkey Shoot",null,null,null,null,null,null,null,null,null,0,null,null,null,null,null,null,null,null,null,0,0]
["NET",null,null,null,null,null,null,null,null,null,0,null,null,null,null,null,null,null,null,null,0,0]
["24 Dec 2 - Eclectic Final ",null,null,null,null,null,null,null,null,null,0,null,null,null,null,null,null,null,null,null,0,0]
["NET",null,null,null,null,null,null,null,null,null,0,null,null,null,null,null,null,null,null,null,0,0]
[null,null,null,null,null,null,null,null,null,null,0,null,null,null,null,null,null,null,null,null,0,0]
[null,null,null,null,null,null,null,null,null,null,0,null,null,null,null,null,null,null,null,null,0,0]
[]
["Low Gross Score",{"$f":"MIN(B6,B8,B10,B12,B14,B16,B18,B20,B22,B24,B26,B28,B30,32,B34,B36,B38,B40,B42,B44,B46,B48,B50,B52)","v":4},{"$f":"MIN(C6,C8,C10,C12,C14,C16,C18,C20,C22,C24,C26,C28,C30,32,C34,C36,C38,C40,C42,C44,C46,C48,C50,C52)","v":5},3,4,3,5,4,4,3,{"$f":"SUM(B55:J55)","v":35},{"$f":"MIN(L6,L8,L10,L12,L14,L16,L18,L20,L22,L24,L26,L28,L30,32,L34,L36,L38,L40,L42,L44,L46,L48,L50,L52)","v":5},5,3,4,4,3,5,4,5,{"$f":"SUM(L55:T55)","v":38},{"$f":"SUM(K55+U55)","v":73}]
["Low Net Score",{"$f":"MIN(B7,B9,B11,B13,B15,B17,B19,B21,B23,B25,B27,B29,B31,B33,B35,B37,B39,B41,B43,B45,B47,B49,B51,B53)","v":3},{"$f":"MIN(C7,C9,C11,C13,C15,C17,C19, C21,C23,C25,C27,C29,C31,C33,C35,C37,C39,C41,C43,C45,C47,C49,C51,C53)","v":5},3,3,3,4,3,4,2,30,{"$f":"MIN(L7,L9,L11,L13,L15,L17,L19, L21,L23,L25,L27,L29,L31,L33,L35,L37,L39,L41,L43,L45,L47,L49,L51,L53)","v":4},4,3,3,4,2,4,4,4,32,62]

{"sheet":"ARMBRUST, KEN","index":6,"n_rows":56,"n_cols":23,"rows_kept":56,"cut":false,"hidden":false,"merged":[]}
[]
["ARMBRUST, KEN",null,null,null,null,null,null,null,null,null,null,null,null,null,null,null,null,null,null,null,null,null,"HANDICAP"]
["HOLE",1,2,3,4,5,6,7,8,9,"OUT",10,11,12,13,14,15,16,17,18,"IN","TOTAL"]
["HANDICAP",8,14,18,6,16,10,4,12,2,null,9,5,17,3,15,7,13,11,1]
["PAR",4,5,3,4,3,5,4,4,4,36,5,4,3,4,4,3,5,4,4,36,72]
["1 Jan 28 - NCGA 4-Ball",null,null,null,null,null,null,null,null,null,{"$f":"SUM(B6:J6)","v":0},null,null,null,null,null,null,null,null,null,{"$f":"SUM(L6:T6)","v":0},{"$f":"SUM(K6+U6)","v":0}]
["NET",null,null,null,null,null,null,null,null,null,0,null,null,null,null,null,null,null,null,null,0,0]
["2 Feb 11 - Super Bowl",null,null,null,null,null,null,null,null,null,0,null,null,null,null,null,null,null,null,null,0,0]
["NET",null,null,null,null,null,null,null,null,null,0,null,null,null,null,null,null,null,null,null,0,0]
["3 Feb 26 - Modified Stableford",null,null,null,null,null,null,null,null,null,0,null,null,null,null,null,null,null,null,null,0,0]
["NET",null,null,null,null,null,null,null,null,null,0,null,null,null,null,null,null,null,null,null,0,0]
["4 Mar 25 - Zone Qualifier Rd 1",null,null,null,null,null,null,null,null,null,0,null,null,null,null,null,null,null,null,null,0,0]
["NET",null,null,null,null,null,null,null,null,null,0,null,null,null,null,null,null,null,null,null,0,0]
["5 Mar 26 - Zone Qualifier Rd 2",null,null,null,null,null,null,null,null,null,0,null,null,null,null,null,null,null,null,null,0,0]
["NET",null,null,null,null,null,null,null,null,null,0,null,null,null,null,null,null,null,null,null,0,0]
["6 Apr 8 - RGC Masters",null,null,null,null,null,null,null,null,null,0,null,null,null,null,null,null,null,null,null,0,0]
["NET",null,null,null,null,null,null,null,null,null,0,null,null,null,null,null,null,null,null,null,0,0]
["7 Apr 11 - Day on the Oaks 1",null,null,null,null,null,null,null,null,null,0,null,null,null,null,null,null,null,null,null,0,0]
["NET",null,null,null,null,null,null,null,null,null,0,null,null,null,null,null,null,null,null,null,0,0]
["8 Apr 15 - 54 Hole Individual Rd 1",null,null,null,null,null,null,null,null,null,0,null,null,null,null,null,null,null,null,null,0,0]
["NET",null,null,null,null,null,null,null,null,null,0,null,null,null,null,null,null,null,null,null,0,0]
["9 Apr 16 - 54 Hole Individual Rd 2",null,null,null,null,null,null,null,null,null,0,null,null,null,null,null,null,null,null,null,0,0]
["NET",null,null,null,null,null,null,null,null,null,0,null,null,null,null,null,null,null,null,null,0,0]
["10 Apr 22 - 54 Hole Individual Rd 3",null,null,null,null,null,null,null,null,null,0,null,null,null,null,null,null,null,null,null,0,0]
["NET",null,null,null,null,null,null,null,null,null,0,null,null,null,null,null,null,null,null,null,0,0]
["11 May 7 - Senior 4-Ball Qualifier",null,null,null,null,null,null,null,null,null,0,null,null,null,null,null,null,null,null,null,0,0]
["NET",null,null,null,null,null,null,null,null,null,0,null,null,null,null,null,null,null,null,null,0,0]
["12 May 16 - Day on the Oaks 2",null,null,null,null,null,null,null,null,null,0,null,null,null,null,null,null,null,null,null,0,0]
["NET",null,null,null,null,null,null,null,null,null,0,null,null,null,null,null,null,null,null,null,0,0]
["13 May 28 - Memorial",4,6,4,5,3,6,5,4,5,42,6,6,4,4,6,5,6,5,5,47,89]
["NET",{"$f":"B30-(B$4<=MOD($W31,18))-INT($W31/18)","v":3},{"$f":"C30-(C$4<=MOD($W31,18))-INT($W31/18)","v":6},4,4,3,5,4,3,4,36,{"$f":"L30-(L$4<=MOD($W31,18))-INT($W31/18)","v":5},{"$f":"M30-(M$4<=MOD($W31,18))-INT($W31/18)","v":5},4,3,6,4,6,4,4,41,77,12]
["14 Jun 10 - 54 Hole Team Rd 1",null,null,null,null,null,null,null,null,null,0,null,null,null,null,null,null,null,null,null,0,0]
["NET",null,null,null,null,null,null,null,null,null,0,null,null,null,null,null,null,null,null,null,0,0]
["15 Jun 27 - Day on the Oaks 3",null,null,null,null,null,null,null,null,null,0,null,null,null,null,null,null,null,null,null,0,0]
["NET",null,null,null,null,null,null,null,null,null,0,null,null,null,null,null,null,null,null,null,0,0]
["17 Jul 11 - Day on the Oaks 4",null,null,null,null,null,null,null,null,null,0,null,null,null,null,null,null,null,null,null,0,0]
["NET",null,null,null,null,null,null,null,null,null,0,null,null,null,null,null,null,null,null,null,0,0]
["18 Aug 1 - Day on the Oaks 5",null,null,null,null,null,null,null,null,null,0,null,null,null,null,null,null,null,null,null,0,0]
["NET",null,null,null,null,null,null,null,null,null,0,null,null,null,null,null,null,null,null,null,0,0]
["19 Aug 13 - Rose Cup Qualifier",null,null,null,null,null,null,null,null,null,0,null,null,null,null,null,null,null,null,null,0,0]
["NET",null,null,null,null,null,null,null,null,null,0,null,null,null,null,null,null,null,null,null,0,0]
["20 Aug 29 - Day on the Oaks 6",null,null,null,null,null,null,null,null,null,0,null,null,null,null,null,null,null,null,null,0,0]
["NET",null,null,null,null,null,null,null,null,null,0,null,null,null,null,null,null,null,null,null,0,0]
["21 Sep 3 - Labor Day",null,null,null,null,null,null,null,null,null,0,null,null,null,null,null,null,null,null,null,0,0]
["NET",null,null,null,null,null,null,null,null,null,0,null,null,null,null,null,null,null,null,null,0,0]
["22 Oct 21 - Past Presidents",null,null,null,null,null,null,null,null,null,0,null,null,null,null,null,null,null,null,null,0,0]
["NET",null,null,null,null,null,null,null,null,null,0,null,null,null,null,null,null,null,null,null,0,0]
["23 Nov 12 - Turkey Shoot",null,null,null,null,null,null,null,null,null,0,null,null,null,null,null,null,null,null,null,0,0]
["NET",null,null,null,null,null,null,null,null,null,0,null,null,null,null,null,null,null,null,null,0,0]
["24 Dec 2 - Eclectic Final ",null,null,null,null,null,null,null,null,null,0,null,null,null,null,null,null,null,null,null,0,0]
["NET",null,null,null,null,null,null,null,null,null,0,null,null,null,null,null,null,null,null,null,0,0]
[null,null,null,null,null,null,null,null,null,null,0,null,null,null,null,null,null,null,null,null,0,0]
[null,null,null,null,null,null,null,null,null,null,0,null,null,null,null,null,null,null,null,null,0,0]
[]
["Low Gross Score",{"$f":"MIN(B6,B8,B10,B12,B14,B16,B18,B20,B22,B24,B26,B28,B30,32,B34,B36,B38,B40,B42,B44,B46,B48,B50,B52)","v":4},{"$f":"MIN(C6,C8,C10,C12,C14,C16,C18,C20,C22,C24,C26,C28,C30,32,C34,C36,C38,C40,C42,C44,C46,C48,C50,C52)","v":6},4,5,3,6,5,4,5,{"$f":"SUM(B55:J55)","v":42},{"$f":"MIN(L6,L8,L10,L12,L14,L16,L18,L20,L22,L24,L26,L28,L30,32,L34,L36,L38,L40,L42,L44,L46,L48,L50,L52)","v":6},6,4,4,6,5,6,5,5,{"$f":"SUM(L55:T55)","v":47},{"$f":"SUM(K55+U55)","v":89}]
["Low Net Score",{"$f":"MIN(B7,B9,B11,B13,B15,B17,B19,B21,B23,B25,B27,B29,B31,B33,B35,B37,B39,B41,B43,B45,B47,B49,B51,B53)","v":3},{"$f":"MIN(C7,C9,C11,C13,C15,C17,C19, C21,C23,C25,C27,C29,C31,C33,C35,C37,C39,C41,C43,C45,C47,C49,C51,C53)","v":6},4,4,3,5,4,3,4,36,{"$f":"MIN(L7,L9,L11,L13,L15,L17,L19, L21,L23,L25,L27,L29,L31,L33,L35,L37,L39,L41,L43,L45,L47,L49,L51,L53)","v":5},5,4,3,6,4,6,4,4,41,77]

{"sheet":"BILLS, DAVID","index":7,"n_rows":56,"n_cols":23,"rows_kept":56,"cut":false,"hidden":false,"merged":[]}
[]
["BILLS, DAVID",null,null,null,null,null,null,null,null,null,null,null,null,null,null,null,null,null,null,null,null,null,"HANDICAP"]
["HOLE",1,2,3,4,5,6,7,8,9,"OUT",10,11,12,13,14,15,16,17,18,"IN","TOTAL"]
["HANDICAP",8,14,18,6,16,10,4,12,2,null,9,5,17,3,15,7,13,11,1]
["PAR",4,5,3,4,3,5,4,4,4,36,5,4,3,4,4,3,5,4,4,36,72]
["1 Jan 28 - NCGA 4-Ball",5,6,3,4,2,4,5,4,5,{"$f":"SUM(B6:J6)","v":38},5,5,4,4,5,3,4,4,4,{"$f":"SUM(L6:T6)","v":38},{"$f":"SUM(K6+U6)","v":76}]
["NET",{"$f":"B6-(B$4<=MOD($W7,18))-INT($W7/18)","v":5},{"$f":"C6-(C$4<=MOD($W7,18))-INT($W7/18)","v":6},4,4,2,4,5,4,5,39,{"$f":"L6-(L$4<=MOD($W7,18))-INT($W7/18)","v":5},5,5,4,5,3,4,4,4,39,78,-2]
["2 Feb 11 - Super Bowl",4,5,3,4,4,4,4,3,4,35,5,3,3,5,4,4,5,4,4,37,72]
["NET",{"$f":"B8-(B$4<=MOD($W9,18))-INT($W9/18)","v":4},{"$f":"C8-(C$4<=MOD($W9,18))-INT($W9/18)","v":5},4,4,4,4,4,3,4,36,{"$f":"L8-(L$4<=MOD($W9,18))-INT($W9/18)","v":5},{"$f":"M8-(M$4<=MOD($W9,18))-INT($W9/18)","v":3},4,5,4,4,5,4,4,38,74,-2]
["3 Feb 26 - Modified Stableford",4,5,3,3,3,5,4,4,4,35,4,4,3,4,4,3,4,6,4,36,71]
["NET",{"$f":"B10-(B$4<=MOD($W11,18))-INT($W11/18)","v":4},5,4,3,4,5,4,4,4,37,{"$f":"L10-(L$4<=MOD($W11,18))-INT($W11/18)","v":4},{"$f":"M10-(M$4<=MOD($W11,18))-INT($W11/18)","v":4},4,4,5,3,4,6,4,38,75,-4]
["4 Mar 25 - Zone Qualifier Rd 1",4,5,3,4,4,4,5,4,5,38,5,4,3,4,5,3,5,5,4,38,76]
["NET",{"$f":"B12-(B$4<=MOD($W13,18))-INT($W13/18)","v":4},5,4,4,5,4,5,4,5,40,{"$f":"L12-(L$4<=MOD($W13,18))-INT($W13/18)","v":5},{"$f":"M12-(M$4<=MOD($W13,18))-INT($W13/18)","v":4},4,4,5,3,5,5,4,39,79,-3]
["5 Mar 26 - Zone Qualifier Rd 2",4,5,5,4,3,5,4,4,3,37,5,5,3,4,4,3,4,5,6,39,76]
["NET",{"$f":"B14-(B$4<=MOD($W15,18))-INT($W15/18)","v":4},5,6,4,4,5,4,4,3,39,{"$f":"L14-(L$4<=MOD($W15,18))-INT($W15/18)","v":5},{"$f":"M14-(M$4<=MOD($W15,18))-INT($W15/18)","v":5},4,4,4,3,4,5,6,40,79,-3]
["6 Apr 8 - RGC Masters",4,5,2,4,3,5,5,3,4,35,4,4,3,4,4,4,5,4,3,35,70]
["NET",{"$f":"B16-(B$4<=MOD($W17,18))-INT($W17/18)","v":4},5,3,4,4,5,5,3,4,37,{"$f":"L16-(L$4<=MOD($W17,18))-INT($W17/18)","v":4},{"$f":"M16-(M$4<=MOD($W17,18))-INT($W17/18)","v":4},4,4,4,4,5,4,3,36,73,-3]
["7 Apr 11 - Day on the Oaks 1",4,6,3,4,2,5,4,4,4,36,4,4,3,4,4,3,4,4,4,34,70]
["NET",{"$f":"B18-(B$4<=MOD($W19,18))-INT($W19/18)","v":4},6,4,4,3,5,4,4,4,38,{"$f":"L18-(L$4<=MOD($W19,18))-INT($W19/18)","v":4},{"$f":"M18-(M$4<=MOD($W19,18))-INT($W19/18)","v":4},4,4,4,3,4,4,4,35,73,-3]
["8 Apr 15 - 54 Hole Individual Rd 1",4,5,3,4,3,4,4,5,4,36,5,3,3,4,4,4,5,4,4,36,72]
["NET",{"$f":"B20-(B$4<=MOD($W21,18))-INT($W21/18)","v":4},5,4,4,4,4,4,5,4,38,{"$f":"L20-(L$4<=MOD($W21,18))-INT($W21/18)","v":5},{"$f":"M20-(M$4<=MOD($W21,18))-INT($W21/18)","v":3},4,4,4,4,5,4,4,37,75,-3]
["9 Apr 16 - 54 Hole Individual Rd 2",5,5,4,4,3,5,4,4,6,40,4,4,4,4,5,3,4,3,5,36,76]
["NET",{"$f":"B22-(B$4<=MOD($W23,18))-INT($W23/18)","v":5},5,5,4,4,5,4,4,6,42,{"$f":"L22-(L$4<=MOD($W23,18))-INT($W23/18)","v":4},{"$f":"M22-(M$4<=MOD($W23,18))-INT($W23/18)","v":4},5,4,5,3,4,3,5,37,79,-3]
["10 Apr 22 - 54 Hole Individual Rd 3",4,5,2,4,3,6,3,4,3,34,4,4,3,2,4,3,4,3,4,31,65]
["NET",{"$f":"B24-(B$4<=MOD($W25,18))-INT($W25/18)","v":4},5,3,4,4,6,3,4,3,36,{"$f":"L24-(L$4<=MOD($W25,18))-INT($W25/18)","v":4},{"$f":"M24-(M$4<=MOD($W25,18))-INT($W25/18)","v":4},4,2,4,3,4,3,4,32,68,-3]
["11 May 7 - Senior 4-Ball Qualifier",5,4,3,4,3,5,4,4,4,36,4,4,3,4,4,3,4,4,4,34,70]
["NET",{"$f":"B26-(B$4<=MOD($W27,18))-INT($W27/18)","v":5},5,4,4,4,5,4,4,4,39,{"$f":"L26-(L$4<=MOD($W27,18))-INT($W27/18)","v":4},{"$f":"M26-(M$4<=MOD($W27,18))-INT($W27/18)","v":4},4,4,5,3,5,4,4,37,76,-6]
["12 May 16 - Day on the Oaks 2",5,5,3,4,2,4,4,4,4,35,5,4,3,6,6,4,5,4,5,42,77]
["NET",{"$f":"B28-(B$4<=MOD($W29,18))-INT($W29/18)","v":5},5,4,4,3,4,4,4,4,37,{"$f":"L28-(L$4<=MOD($W29,18))-INT($W29/18)","v":5},{"$f":"M28-(M$4<=MOD($W29,18))-INT($W29/18)","v":4},4,6,7,4,5,4,5,44,81,-4]
["13 May 28 - Memorial",4,7,2,3,3,5,4,4,4,36,5,4,3,4,3,4,5,3,5,36,72]
["NET",{"$f":"B30-(B$4<=MOD($W31,18))-INT($W31/18)","v":4},7,3,3,4,5,4,4,4,38,{"$f":"L30-(L$4<=MOD($W31,18))-INT($W31/18)","v":5},{"$f":"M30-(M$4<=MOD($W31,18))-INT($W31/18)","v":4},4,4,4,4,5,3,5,38,76,-4]
["14 Jun 10 - 54 Hole Team Rd 1",3,4,3,3,3,6,3,4,4,33,4,4,3,4,4,3,5,4,4,35,68]
["NET",{"$f":"B32-(B$4<=MOD($W33,18))-INT($W33/18)","v":3},4,4,3,4,6,3,4,4,35,{"$f":"L32-(L$4<=MOD($W33,18))-INT($W33/18)","v":4},{"$f":"M32-(M$4<=MOD($W33,18))-INT($W33/18)","v":4},4,4,5,3,5,4,4,37,72,-4]
["15 Jun 27 - Day on the Oaks 3",4,6,4,5,3,5,4,5,5,41,5,5,3,4,5,3,5,4,5,39,80]
["NET",{"$f":"B34-(B$4<=MOD($W35,18))-INT($W35/18)","v":4},6,5,5,3,5,4,5,5,42,{"$f":"L34-(L$4<=MOD($W35,18))-INT($W35/18)","v":5},{"$f":"M34-(M$4<=MOD($W35,18))-INT($W35/18)","v":5},4,4,5,3,5,4,5,40,82,-2]
["17 Jul 11 - Day on the Oaks 4",5,4,4,4,2,5,5,5,4,38,5,4,3,4,3,3,4,4,4,34,72]
["NET",{"$f":"B36-(B$4<=MOD($W37,18))-INT($W37/18)","v":5},4,5,4,2,5,5,5,4,39,{"$f":"L36-(L$4<=MOD($W37,18))-INT($W37/18)","v":5},{"$f":"M36-(M$4<=MOD($W37,18))-INT($W37/18)","v":4},4,4,3,3,4,4,4,35,74,-2]
["18 Aug 1 - Day on the Oaks 5",5,7,3,3,4,6,4,4,4,40,4,4,3,4,3,4,3,6,5,36,76]
["NET",{"$f":"B38-(B$4<=MOD($W39,18))-INT($W39/18)","v":5},7,4,3,4,6,4,4,4,41,{"$f":"L38-(L$4<=MOD($W39,18))-INT($W39/18)","v":4},{"$f":"M38-(M$4<=MOD($W39,18))-INT($W39/18)","v":4},4,4,3,4,3,6,5,37,78,-2]
["19 Aug 13 - Rose Cup Qualifier",null,null,null,null,null,null,null,null,null,0,null,null,null,null,null,null,null,null,null,0,0]
["NET",null,null,null,null,null,null,null,null,null,0,null,null,null,null,null,null,null,null,null,0,0]
["20 Aug 29 - Day on the Oaks 6",null,null,null,null,null,null,null,null,null,0,null,null,null,null,null,null,null,null,null,0,0]
["NET",null,null,null,null,null,null,null,null,null,0,null,null,null,null,null,null,null,null,null,0,0]
["21 Sep 3 - Labor Day",null,null,null,null,null,null,null,null,null,0,null,null,null,null,null,null,null,null,null,0,0]
["NET",null,null,null,null,null,null,null,null,null,0,null,null,null,null,null,null,null,null,null,0,0]
["22 Oct 21 - Past Presidents",null,null,null,null,null,null,null,null,null,0,null,null,null,null,null,null,null,null,null,0,0]
["NET",null,null,null,null,null,null,null,null,null,0,null,null,null,null,null,null,null,null,null,0,0]
["23 Nov 12 - Turkey Shoot",null,null,null,null,null,null,null,null,null,0,null,null,null,null,null,null,null,null,null,0,0]
["NET",null,null,null,null,null,null,null,null,null,0,null,null,null,null,null,null,null,null,null,0,0]
["24 Dec 2 - Eclectic Final ",null,null,null,null,null,null,null,null,null,0,null,null,null,null,null,null,null,null,null,0,0]
["NET",null,null,null,null,null,null,null,null,null,0,null,null,null,null,null,null,null,null,null,0,0]
[null,null,null,null,null,null,null,null,null,null,0,null,null,null,null,null,null,null,null,null,0,0]
[null,null,null,null,null,null,null,null,null,null,0,null,null,null,null,null,null,null,null,null,0,0]
[]
["Low Gross Score",{"$f":"MIN(B6,B8,B10,B12,B14,B16,B18,B20,B22,B24,B26,B28,B30,32,B34,B36,B38,B40,B42,B44,B46,B48,B50,B52)","v":4},{"$f":"MIN(C6,C8,C10,C12,C14,C16,C18,C20,C22,C24,C26,C28,C30,32,C34,C36,C38,C40,C42,C44,C46,C48,C50,C52)","v":4},2,3,2,4,3,3,3,{"$f":"SUM(B55:J55)","v":28},{"$f":"MIN(L6,L8,L10,L12,L14,L16,L18,L20,L22,L24,L26,L28,L30,32,L34,L36,L38,L40,L42,L44,L46,L48,L50,L52)","v":4},3,3,2,3,3,3,3,3,{"$f":"SUM(L55:T55)","v":27},{"$f":"SUM(K55+U55)","v":55}]
["Low Net Score",{"$f":"MIN(B7,B9,B11,B13,B15,B17,B19,B21,B23,B25,B27,B29,B31,B33,B35,B37,B39,B41,B43,B45,B47,B49,B51,B53)","v":3},{"$f":"MIN(C7,C9,C11,C13,C15,C17,C19, C21,C23,C25,C27,C29,C31,C33,C35,C37,C39,C41,C43,C45,C47,C49,C51,C53)","v":4},3,3,2,4,3,3,3,28,{"$f":"MIN(L7,L9,L11,L13,L15,L17,L19, L21,L23,L25,L27,L29,L31,L33,L35,L37,L39,L41,L43,L45,L47,L49,L51,L53)","v":4},3,4,2,3,3,3,3,3,28,56]

{"sheet":"BOSTON, DENNIS","index":8,"n_rows":56,"n_cols":23,"rows_kept":56,"cut":false,"hidden":false,"merged":[]}
[]
["BOSTON, DENNIS",null,null,null,null,null,null,null,null,null,null,null,null,null,null,null,null,null,null,null,null,null,"HANDICAP"]
["HOLE",1,2,3,4,5,6,7,8,9,"OUT",10,11,12,13,14,15,16,17,18,"IN","TOTAL"]
["HANDICAP",8,14,18,6,16,10,4,12,2,null,9,5,17,3,15,7,13,11,1]
["PAR",4,5,3,4,3,5,4,4,4,36,5,4,3,4,4,3,5,4,4,36,72]
["1 Jan 28 - NCGA 4-Ball",7,7,4,6,5,7,8,6,6,{"$f":"SUM(B6:J6)","v":56},6,5,4,6,5,4,7,6,5,{"$f":"SUM(L6:T6)","v":48},{"$f":"SUM(K6+U6)","v":104}]
["NET",{"$f":"B6-(B$4<=MOD($W7,18))-INT($W7/18)","v":6},{"$f":"C6-(C$4<=MOD($W7,18))-INT($W7/18)","v":6},4,5,5,6,7,5,5,49,{"$f":"L6-(L$4<=MOD($W7,18))-INT($W7/18)","v":5},4,4,5,4,3,6,5,4,40,89,15]
["2 Feb 11 - Super Bowl",5,7,4,6,4,7,7,6,5,51,6,6,5,7,6,5,6,7,6,54,105]
["NET",{"$f":"B8-(B$4<=MOD($W9,18))-INT($W9/18)","v":4},{"$f":"C8-(C$4<=MOD($W9,18))-INT($W9/18)","v":6},3,5,3,6,5,5,3,40,{"$f":"L8-(L$4<=MOD($W9,18))-INT($W9/18)","v":5},{"$f":"M8-(M$4<=MOD($W9,18))-INT($W9/18)","v":5},4,5,5,4,5,6,4,43,83,22]
["3 Feb 26 - Modified Stableford",null,null,null,null,null,null,null,null,null,0,null,null,null,null,null,null,null,null,null,0,0]
["NET",null,null,null,null,null,null,null,null,null,0,null,null,null,null,null,null,null,null,null,0,0]
["4 Mar 25 - Zone Qualifier Rd 1",6,7,5,6,4,7,7,6,6,54,8,7,4,7,6,5,7,7,6,57,111]
["NET",{"$f":"B12-(B$4<=MOD($W13,18))-INT($W13/18)","v":5},6,5,5,4,6,6,5,5,47,{"$f":"L12-(L$4<=MOD($W13,18))-INT($W13/18)","v":7},{"$f":"M12-(M$4<=MOD($W13,18))-INT($W13/18)","v":6},4,6,5,4,6,6,5,49,96,15]
["5 Mar 26 - Zone Qualifier Rd 2",7,7,4,6,4,7,6,5,6,52,7,6,4,6,5,5,6,6,8,53,105]
["NET",{"$f":"B14-(B$4<=MOD($W15,18))-INT($W15/18)","v":6},6,4,5,4,6,5,4,5,45,{"$f":"L14-(L$4<=MOD($W15,18))-INT($W15/18)","v":6},{"$f":"M14-(M$4<=MOD($W15,18))-INT($W15/18)","v":5},4,5,4,4,5,5,7,45,90,15]
["6 Apr 8 - RGC Masters",6,7,5,6,5,5,7,5,6,52,7,6,4,5,6,5,7,6,5,51,103]
["NET",{"$f":"B16-(B$4<=MOD($W17,18))-INT($W17/18)","v":5},6,4,5,4,4,5,4,4,41,{"$f":"L16-(L$4<=MOD($W17,18))-INT($W17/18)","v":6},{"$f":"M16-(M$4<=MOD($W17,18))-INT($W17/18)","v":5},3,3,5,4,6,5,3,40,81,22]
["7 Apr 11 - Day on the Oaks 1",null,null,null,null,null,null,null,null,null,0,null,null,null,null,null,null,null,null,null,0,0]
["NET",null,null,null,null,null,null,null,null,null,0,null,null,null,null,null,null,null,null,null,0,0]
["8 Apr 15 - 54 Hole Individual Rd 1",null,null,null,null,null,null,null,null,null,0,null,null,null,null,null,null,null,null,null,0,0]
["NET",null,null,null,null,null,null,null,null,null,0,null,null,null,null,null,null,null,null,null,0,0]
["9 Apr 16 - 54 Hole Individual Rd 2",null,null,null,null,null,null,null,null,null,0,null,null,null,null,null,null,null,null,null,0,0]
["NET",null,null,null,null,null,null,null,null,null,0,null,null,null,null,null,null,null,null,null,0,0]
["10 Apr 22 - 54 Hole Individual Rd 3",null,null,null,null,null,null,null,null,null,0,null,null,null,null,null,null,null,null,null,0,0]
["NET",null,null,null,null,null,null,null,null,null,0,null,null,null,null,null,null,null,null,null,0,0]
["11 May 7 - Senior 4-Ball Qualifier",5,6,3,4,4,5,5,6,6,44,7,4,5,6,4,3,6,6,6,47,91]
["NET",{"$f":"B26-(B$4<=MOD($W27,18))-INT($W27/18)","v":4},{"$f":"C26-(C$4<=MOD($W27,18))-INT($W27/18)","v":5},3,3,4,4,4,5,5,37,{"$f":"L26-(L$4<=MOD($W27,18))-INT($W27/18)","v":6},{"$f":"M26-(M$4<=MOD($W27,18))-INT($W27/18)","v":3},5,5,3,2,5,5,5,39,76,15]
["12 May 16 - Day on the Oaks 2",null,null,null,null,null,null,null,null,null,0,null,null,null,null,null,null,null,null,null,0,0]
["NET",null,null,null,null,null,null,null,null,null,0,null,null,null,null,null,null,null,null,null,0,0]
["13 May 28 - Memorial",null,null,null,null,null,null,null,null,null,0,null,null,null,null,null,null,null,null,null,0,0]
["NET",null,null,null,null,null,null,null,null,null,0,null,null,null,null,null,null,null,null,null,0,0]
["14 Jun 10 - 54 Hole Team Rd 1",null,null,null,null,null,null,null,null,null,0,null,null,null,null,null,null,null,null,null,0,0]
["NET",null,null,null,null,null,null,null,null,null,0,null,null,null,null,null,null,null,null,null,0,0]
["15 Jun 27 - Day on the Oaks 3",null,null,null,null,null,null,null,null,null,0,null,null,null,null,null,null,null,null,null,0,0]
["NET",null,null,null,null,null,null,null,null,null,0,null,null,null,null,null,null,null,null,null,0,0]
["17 Jul 11 - Day on the Oaks 4",null,null,null,null,null,null,null,null,null,0,null,null,null,null,null,null,null,null,null,0,0]
["NET",null,null,null,null,null,null,null,null,null,0,null,null,null,null,null,null,null,null,null,0,0]
["18 Aug 1 - Day on the Oaks 5",null,null,null,null,null,null,null,null,null,0,null,null,null,null,null,null,null,null,null,0,0]
["NET",null,null,null,null,null,null,null,null,null,0,null,null,null,null,null,null,null,null,null,0,0]
["19 Aug 13 - Rose Cup Qualifier",null,null,null,null,null,null,null,null,null,0,null,null,null,null,null,null,null,null,null,0,0]
["NET",null,null,null,null,null,null,null,null,null,0,null,null,null,null,null,null,null,null,null,0,0]
["20 Aug 29 - Day on the Oaks 6",null,null,null,null,null,null,null,null,null,0,null,null,null,null,null,null,null,null,null,0,0]
["NET",null,null,null,null,null,null,null,null,null,0,null,null,null,null,null,null,null,null,null,0,0]
["21 Sep 3 - Labor Day",null,null,null,null,null,null,null,null,null,0,null,null,null,null,null,null,null,null,null,0,0]
["NET",null,null,null,null,null,null,null,null,null,0,null,null,null,null,null,null,null,null,null,0,0]
["22 Oct 21 - Past Presidents",null,null,null,null,null,null,null,null,null,0,null,null,null,null,null,null,null,null,null,0,0]
["NET",null,null,null,null,null,null,null,null,null,0,null,null,null,null,null,null,null,null,null,0,0]
["23 Nov 12 - Turkey Shoot",null,null,null,null,null,null,null,null,null,0,null,null,null,null,null,null,null,null,null,0,0]
["NET",null,null,null,null,null,null,null,null,null,0,null,null,null,null,null,null,null,null,null,0,0]
["24 Dec 2 - Eclectic Final ",null,null,null,null,null,null,null,null,null,0,null,null,null,null,null,null,null,null,null,0,0]
["NET",null,null,null,null,null,null,null,null,null,0,null,null,null,null,null,null,null,null,null,0,0]
[null,null,null,null,null,null,null,null,null,null,0,null,null,null,null,null,null,null,null,null,0,0]
[null,null,null,null,null,null,null,null,null,null,0,null,null,null,null,null,null,null,null,null,0,0]
[]
["Low Gross Score",{"$f":"MIN(B6,B8,B10,B12,B14,B16,B18,B20,B22,B24,B26,B28,B30,32,B34,B36,B38,B40,B42,B44,B46,B48,B50,B52)","v":5},{"$f":"MIN(C6,C8,C10,C12,C14,C16,C18,C20,C22,C24,C26,C28,C30,32,C34,C36,C38,C40,C42,C44,C46,C48,C50,C52)","v":6},3,4,4,5,5,5,5,{"$f":"SUM(B55:J55)","v":42},{"$f":"MIN(L6,L8,L10,L12,L14,L16,L18,L20,L22,L24,L26,L28,L30,32,L34,L36,L38,L40,L42,L44,L46,L48,L50,L52)","v":6},4,4,5,4,3,6,6,5,{"$f":"SUM(L55:T55)","v":43},{"$f":"SUM(K55+U55)","v":85}]
["Low Net Score",{"$f":"MIN(B7,B9,B11,B13,B15,B17,B19,B21,B23,B25,B27,B29,B31,B33,B35,B37,B39,B41,B43,B45,B47,B49,B51,B53)","v":4},{"$f":"MIN(C7,C9,C11,C13,C15,C17,C19, C21,C23,C25,C27,C29,C31,C33,C35,C37,C39,C41,C43,C45,C47,C49,C51,C53)","v":5},3,3,3,4,4,4,3,33,{"$f":"MIN(L7,L9,L11,L13,L15,L17,L19, L21,L23,L25,L27,L29,L31,L33,L35,L37,L39,L41,L43,L45,L47,L49,L51,L53)","v":5},3,3,3,3,2,5,5,3,32,65]

{"sheet":"CARTER, RICK","index":9,"n_rows":56,"n_cols":25,"rows_kept":56,"cut":false,"hidden":false,"merged":[]}
[]
["CARTER, RICK",null,null,null,null,null,null,null,null,null,null,null,null,null,null,null,null,null,null,null,null,null,"HANDICAP"]
["HOLE",1,2,3,4,5,6,7,8,9,"OUT",10,11,12,13,14,15,16,17,18,"IN","TOTAL"]
["HANDICAP",8,14,18,6,16,10,4,12,2,null,9,5,17,3,15,7,13,11,1]
["PAR",4,5,3,4,3,5,4,4,4,36,5,4,3,4,4,3,5,4,4,36,72]
["1 Jan 28 - NCGA 4-Ball",7,6,4,7,4,8,5,5,6,{"$f":"SUM(B6:J6)","v":52},6,4,3,5,6,4,6,5,4,{"$f":"SUM(L6:T6)","v":43},{"$f":"SUM(K6+U6)","v":95}]
["NET",{"$f":"B6-(B$4<=MOD($W7,18))-INT($W7/18)","v":7},{"$f":"C6-(C$4<=MOD($W7,18))-INT($W7/18)","v":6},4,6,4,8,4,5,5,49,{"$f":"L6-(L$4<=MOD($W7,18))-INT($W7/18)","v":6},3,3,4,6,4,6,5,3,40,89,6]
["2 Feb 11 - Super Bowl",6,5,4,4,3,4,5,5,6,42,7,5,4,5,5,4,4,5,5,44,86,null,null," "]
["NET",{"$f":"B8-(B$4<=MOD($W9,18))-INT($W9/18)","v":5},{"$f":"C8-(C$4<=MOD($W9,18))-INT($W9/18)","v":5},4,3,3,3,4,5,5,37,{"$f":"L8-(L$4<=MOD($W9,18))-INT($W9/18)","v":6},{"$f":"M8-(M$4<=MOD($W9,18))-INT($W9/18)","v":4},4,4,5,3,4,5,4,39,76,10]
["3 Feb 26 - Modified Stableford",6,4,4,6,4,6,4,4,5,43,5,5,4,5,6,5,6,5,5,46,89]
["NET",{"$f":"B10-(B$4<=MOD($W11,18))-INT($W11/18)","v":5},4,4,5,4,5,3,4,4,38,{"$f":"L10-(L$4<=MOD($W11,18))-INT($W11/18)","v":4},{"$f":"M10-(M$4<=MOD($W11,18))-INT($W11/18)","v":4},4,4,6,4,6,5,4,41,79,10]
["4 Mar 25 - Zone Qualifier Rd 1",5,5,3,6,3,7,5,4,5,43,6,5,5,5,4,3,5,5,5,43,86]
["NET",{"$f":"B12-(B$4<=MOD($W13,18))-INT($W13/18)","v":4},5,3,5,3,6,4,4,4,38,{"$f":"L12-(L$4<=MOD($W13,18))-INT($W13/18)","v":5},{"$f":"M12-(M$4<=MOD($W13,18))-INT($W13/18)","v":4},5,4,4,2,5,4,4,37,75,11]
["5 Mar 26 - Zone Qualifier Rd 2",5,6,3,4,3,6,6,4,5,42,5,6,5,5,4,3,5,4,5,42,84]
["NET",{"$f":"B14-(B$4<=MOD($W15,18))-INT($W15/18)","v":4},6,3,3,3,5,5,4,4,37,{"$f":"L14-(L$4<=MOD($W15,18))-INT($W15/18)","v":4},{"$f":"M14-(M$4<=MOD($W15,18))-INT($W15/18)","v":5},5,4,4,2,5,3,4,36,73,11]
["6 Apr 8 - RGC Masters",4,5,4,6,3,5,4,5,5,41,6,6,3,5,4,4,6,4,6,44,85]
["NET",{"$f":"B16-(B$4<=MOD($W17,18))-INT($W17/18)","v":3},5,4,5,3,4,3,5,4,36,{"$f":"L16-(L$4<=MOD($W17,18))-INT($W17/18)","v":5},{"$f":"M16-(M$4<=MOD($W17,18))-INT($W17/18)","v":5},3,4,4,3,6,3,5,38,74,11]
["7 Apr 11 - Day on the Oaks 1",null,null,null,null,null,null,null,null,null,0,null,null,null,null,null,null,null,null,null,0,0]
["NET",null,null,null,null,null,null,null,null,null,0,null,null,null,null,null,null,null,null,null,0,0]
["8 Apr 15 - 54 Hole Individual Rd 1",5,5,3,8,2,6,4,6,5,44,6,5,3,6,4,4,5,4,5,42,86]
["NET",{"$f":"B20-(B$4<=MOD($W21,18))-INT($W21/18)","v":4},{"$f":"C20-(C$4<=MOD($W21,18))-INT($W21/18)","v":5},3,7,2,5,3,6,4,39,{"$f":"L20-(L$4<=MOD($W21,18))-INT($W21/18)","v":5},{"$f":"M20-(M$4<=MOD($W21,18))-INT($W21/18)","v":4},3,5,4,3,5,3,4,36,75,11]
["9 Apr 16 - 54 Hole Individual Rd 2",4,5,4,4,4,5,5,4,5,40,6,4,3,5,3,3,5,5,7,41,81]
["NET",{"$f":"B22-(B$4<=MOD($W23,18))-INT($W23/18)","v":3},{"$f":"C22-(C$4<=MOD($W23,18))-INT($W23/18)","v":5},4,3,4,4,4,4,4,35,{"$f":"L22-(L$4<=MOD($W23,18))-INT($W23/18)","v":5},{"$f":"M22-(M$4<=MOD($W23,18))-INT($W23/18)","v":3},3,4,3,2,5,4,6,35,70,11]
["10 Apr 22 - 54 Hole Individual Rd 3",5,7,4,4,6,6,5,4,4,45,6,5,5,6,6,4,5,5,5,47,92]
["NET",{"$f":"B24-(B$4<=MOD($W25,18))-INT($W25/18)","v":4},{"$f":"C24-(C$4<=MOD($W25,18))-INT($W25/18)","v":7},4,3,6,5,4,4,3,40,{"$f":"L24-(L$4<=MOD($W25,18))-INT($W25/18)","v":5},{"$f":"M24-(M$4<=MOD($W25,18))-INT($W25/18)","v":4},5,5,6,3,5,4,4,41,81,11]
["11 May 7 - Senior 4-Ball Qualifier",4,5,4,5,4,6,3,6,5,42,4,5,4,6,4,3,5,3,5,39,81]
["NET",{"$f":"B26-(B$4<=MOD($W27,18))-INT($W27/18)","v":3},5,4,4,4,6,2,6,4,38,{"$f":"L26-(L$4<=MOD($W27,18))-INT($W27/18)","v":3},{"$f":"M26-(M$4<=MOD($W27,18))-INT($W27/18)","v":4},4,5,4,2,5,3,4,34,72,9]
["12 May 16 - Day on the Oaks 2",null,null,null,null,null,null,null,null,null,0,null,null,null,null,null,null,null,null,null,0,0]
["NET",null,null,null,null,null,null,null,null,null,0,null,null,null,null,null,null,null,null,null,0,0]
["13 May 28 - Memorial",6,5,3,4,4,5,5,5,5,42,5,5,3,4,4,5,8,5,5,44,86]
["NET",{"$f":"B30-(B$4<=MOD($W31,18))-INT($W31/18)","v":5},{"$f":"C30-(C$4<=MOD($W31,18))-INT($W31/18)","v":5},3,3,4,4,4,5,4,37,{"$f":"L30-(L$4<=MOD($W31,18))-INT($W31/18)","v":4},{"$f":"M30-(M$4<=MOD($W31,18))-INT($W31/18)","v":4},3,3,4,4,8,5,4,39,76,10]
["14 Jun 10 - 54 Hole Team Rd 1",4,5,3,4,4,5,3,6,5,39,6,4,3,5,4,4,5,4,5,40,79]
["NET",{"$f":"B32-(B$4<=MOD($W33,18))-INT($W33/18)","v":3},5,3,3,4,4,2,6,4,34,{"$f":"L32-(L$4<=MOD($W33,18))-INT($W33/18)","v":5},{"$f":"M32-(M$4<=MOD($W33,18))-INT($W33/18)","v":3},3,4,4,3,5,4,4,35,69,10]
["15 Jun 27 - Day on the Oaks 3",null,null,null,null,null,null,null,null,null,0,null,null,null,null,null,null,null,null,null,0,0]
["NET",null,null,null,null,null,null,null,null,null,0,null,null,null,null,null,null,null,null,null,0,0]
["17 Jul 11 - Day on the Oaks 4",null,null,null,null,null,null,null,null,null,0,null,null,null,null,null,null,null,null,null,0,0]
["NET",null,null,null,null,null,null,null,null,null,0,null,null,null,null,null,null,null,null,null,0,0]
["18 Aug 1 - Day on the Oaks 5",null,null,null,null,null,null,null,null,null,0,null,null,null,null,null,null,null,null,null,0,0]
["NET",null,null,null,null,null,null,null,null,null,0,null,null,null,null,null,null,null,null,null,0,0]
["19 Aug 13 - Rose Cup Qualifier",null,null,null,null,null,null,null,null,null,0,null,null,null,null,null,null,null,null,null,0,0]
["NET",null,null,null,null,null,null,null,null,null,0,null,null,null,null,null,null,null,null,null,0,0]
["20 Aug 29 - Day on the Oaks 6",null,null,null,null,null,null,null,null,null,0,null,null,null,null,null,null,null,null,null,0,0]
["NET",null,null,null,null,null,null,null,null,null,0,null,null,null,null,null,null,null,null,null,0,0]
["21 Sep 3 - Labor Day",null,null,null,null,null,null,null,null,null,0,null,null,null,null,null,null,null,null,null,0,0]
["NET",null,null,null,null,null,null,null,null,null,0,null,null,null,null,null,null,null,null,null,0,0]
["22 Oct 21 - Past Presidents",null,null,null,null,null,null,null,null,null,0,null,null,null,null,null,null,null,null,null,0,0]
["NET",null,null,null,null,null,null,null,null,null,0,null,null,null,null,null,null,null,null,null,0,0]
["23 Nov 12 - Turkey Shoot",null,null,null,null,null,null,null,null,null,0,null,null,null,null,null,null,null,null,null,0,0]
["NET",null,null,null,null,null,null,null,null,null,0,null,null,null,null,null,null,null,null,null,0,0]
["24 Dec 2 - Eclectic Final ",null,null,null,null,null,null,null,null,null,0,null,null,null,null,null,null,null,null,null,0,0]
["NET",null,null,null,null,null,null,null,null,null,0,null,null,null,null,null,null,null,null,null,0,0]
[null,null,null,null,null,null,null,null,null,null,0,null,null,null,null,null,null,null,null,null,0,0]
[null,null,null,null,null,null,null,null,null,null,0,null,null,null,null,null,null,null,null,null,0,0]
[]
["Low Gross Score",{"$f":"MIN(B6,B8,B10,B12,B14,B16,B18,B20,B22,B24,B26,B28,B30,32,B34,B36,B38,B40,B42,B44,B46,B48,B50,B52)","v":4},{"$f":"MIN(C6,C8,C10,C12,C14,C16,C18,C20,C22,C24,C26,C28,C30,32,C34,C36,C38,C40,C42,C44,C46,C48,C50,C52)","v":4},3,4,2,4,3,4,4,{"$f":"SUM(B55:J55)","v":32},{"$f":"MIN(L6,L8,L10,L12,L14,L16,L18,L20,L22,L24,L26,L28,L30,32,L34,L36,L38,L40,L42,L44,L46,L48,L50,L52)","v":4},4,3,4,3,3,4,3,4,{"$f":"SUM(L55:T55)","v":32},{"$f":"SUM(K55+U55)","v":64}]
["Low Net Score",{"$f":"MIN(B7,B9,B11,B13,B15,B17,B19,B21,B23,B25,B27,B29,B31,B33,B35,B37,B39,B41,B43,B45,B47,B49,B51,B53)","v":3},{"$f":"MIN(C7,C9,C11,C13,C15,C17,C19, C21,C23,C25,C27,C29,C31,C33,C35,C37,C39,C41,C43,C45,C47,C49,C51,C53)","v":4},3,3,2,3,2,4,3,27,{"$f":"MIN(L7,L9,L11,L13,L15,L17,L19, L21,L23,L25,L27,L29,L31,L33,L35,L37,L39,L41,L43,L45,L47,L49,L51,L53)","v":3},3,3,3,3,2,4,3,3,27,54]

{"sheet":"CUBIAS, DARRELL","index":10,"n_rows":56,"n_cols":23,"rows_kept":56,"cut":false,"hidden":false,"merged":[]}
[]
["CUBIAS, DARRELL",null,null,null,null,null,null,null,null,null,null,null,null,null,null,null,null,null,null,null,null,null,"HANDICAP"]
["HOLE",1,2,3,4,5,6,7,8,9,"OUT",10,11,12,13,14,15,16,17,18,"IN","TOTAL"]
["HANDICAP",8,14,18,6,16,10,4,12,2,null,9,5,17,3,15,7,13,11,1]
["PAR",4,5,3,4,3,5,4,4,4,36,5,4,3,4,4,3,5,4,4,36,72]
["1 Jan 28 - NCGA 4-Ball",null,null,null,null,null,null,null,null,null,{"$f":"SUM(B6:J6)","v":0},null,null,null,null,null,null,null,null,null,{"$f":"SUM(L6:T6)","v":0},{"$f":"SUM(K6+U6)","v":0}]
["NET",null,null,null,null,null,null,null,null,null,0,null,null,null,null,null,null,null,null,null,0,0]
["2 Feb 11 - Super Bowl",6,7,4,5,2,7,6,6,6,49,6,5,4,5,4,4,7,4,5,44,93]
["NET",{"$f":"B8-(B$4<=MOD($W9,18))-INT($W9/18)","v":5},{"$f":"C8-(C$4<=MOD($W9,18))-INT($W9/18)","v":7},4,4,2,6,5,5,5,43,{"$f":"L8-(L$4<=MOD($W9,18))-INT($W9/18)","v":5},{"$f":"M8-(M$4<=MOD($W9,18))-INT($W9/18)","v":4},4,4,4,3,6,3,4,37,80,13]
["3 Feb 26 - Modified Stableford",null,null,null,null,null,null,null,null,null,0,null,null,null,null,null,null,null,null,null,0,0]
["NET",null,null,null,null,null,null,null,null,null,0,null,null,null,null,null,null,null,null,null,0,0]
["4 Mar 25 - Zone Qualifier Rd 1",null,null,null,null,null,null,null,null,null,0,null,null,null,null,null,null,null,null,null,0,0]
["NET",null,null,null,null,null,null,null,null,null,0,null,null,null,null,null,null,null,null,null,0,0]
["5 Mar 26 - Zone Qualifier Rd 2",null,null,null,null,null,null,null,null,null,0,null,null,null,null,null,null,null,null,null,0,0]
["NET",null,null,null,null,null,null,null,null,null,0,null,null,null,null,null,null,null,null,null,0,0]
["6 Apr 8 - RGC Masters",3,6,4,4,4,6,5,5,5,42,5,5,3,7,6,4,6,5,6,47,89]
["NET",{"$f":"B16-(B$4<=MOD($W17,18))-INT($W17/18)","v":2},{"$f":"C16-(C$4<=MOD($W17,18))-INT($W17/18)","v":6},4,3,4,5,4,4,4,36,{"$f":"L16-(L$4<=MOD($W17,18))-INT($W17/18)","v":4},{"$f":"M16-(M$4<=MOD($W17,18))-INT($W17/18)","v":4},3,6,6,3,5,4,5,40,76,13]
["7 Apr 11 - Day on the Oaks 1",null,null,null,null,null,null,null,null,null,0,null,null,null,null,null,null,null,null,null,0,0]
["NET",null,null,null,null,null,null,null,null,null,0,null,null,null,null,null,null,null,null,null,0,0]
["8 Apr 15 - 54 Hole Individual Rd 1",5,5,5,4,4,7,4,5,5,44,6,5,3,6,5,4,6,4,5,44,88]
["NET",{"$f":"B20-(B$4<=MOD($W21,18))-INT($W21/18)","v":4},{"$f":"C20-(C$4<=MOD($W21,18))-INT($W21/18)","v":5},5,3,4,6,3,4,4,38,{"$f":"L20-(L$4<=MOD($W21,18))-INT($W21/18)","v":5},{"$f":"M20-(M$4<=MOD($W21,18))-INT($W21/18)","v":4},3,5,5,3,5,3,4,37,75,13]
["9 Apr 16 - 54 Hole Individual Rd 2",6,8,5,7,5,7,5,5,5,53,5,4,4,5,5,4,5,5,5,42,95]
["NET",{"$f":"B22-(B$4<=MOD($W23,18))-INT($W23/18)","v":5},{"$f":"C22-(C$4<=MOD($W23,18))-INT($W23/18)","v":8},5,6,5,6,4,4,4,47,{"$f":"L22-(L$4<=MOD($W23,18))-INT($W23/18)","v":4},{"$f":"M22-(M$4<=MOD($W23,18))-INT($W23/18)","v":3},4,4,5,3,4,4,4,35,82,13]
["10 Apr 22 - 54 Hole Individual Rd 3",3,5,5,4,4,8,3,6,5,43,6,5,4,5,4,3,5,4,5,41,84]
["NET",{"$f":"B24-(B$4<=MOD($W25,18))-INT($W25/18)","v":2},{"$f":"C24-(C$4<=MOD($W25,18))-INT($W25/18)","v":5},5,3,4,7,2,5,4,37,{"$f":"L24-(L$4<=MOD($W25,18))-INT($W25/18)","v":5},{"$f":"M24-(M$4<=MOD($W25,18))-INT($W25/18)","v":4},4,4,4,2,4,3,4,34,71,13]
["11 May 7 - Senior 4-Ball Qualifier",null,null,null,null,null,null,null,null,null,0,null,null,null,null,null,null,null,null,null,0,0]
["NET",null,null,null,null,null,null,null,null,null,0,null,null,null,null,null,null,null,null,null,0,0]
["12 May 16 - Day on the Oaks 2",null,null,null,null,null,null,null,null,null,0,null,null,null,null,null,null,null,null,null,0,0]
["NET",null,null,null,null,null,null,null,null,null,0,null,null,null,null,null,null,null,null,null,0,0]
["13 May 28 - Memorial",null,null,null,null,null,null,null,null,null,0,null,null,null,null,null,null,null,null,null,0,0]
["NET",null,null,null,null,null,null,null,null,null,0,null,null,null,null,null,null,null,null,null,0,0]
["14 Jun 10 - 54 Hole Team Rd 1",null,null,null,null,null,null,null,null,null,0,null,null,null,null,null,null,null,null,null,0,0]
["NET",null,null,null,null,null,null,null,null,null,0,null,null,null,null,null,null,null,null,null,0,0]
["15 Jun 27 - Day on the Oaks 3",null,null,null,null,null,null,null,null,null,0,null,null,null,null,null,null,null,null,null,0,0]
["NET",null,null,null,null,null,null,null,null,null,0,null,null,null,null,null,null,null,null,null,0,0]
["17 Jul 11 - Day on the Oaks 4",null,null,null,null,null,null,null,null,null,0,null,null,null,null,null,null,null,null,null,0,0]
["NET",null,null,null,null,null,null,null,null,null,0,null,null,null,null,null,null,null,null,null,0,0]
["18 Aug 1 - Day on the Oaks 5",6,4,3,6,3,6,4,6,8,46,5,5,4,4,4,4,6,5,5,42,88]
["NET",{"$f":"B38-(B$4<=MOD($W39,18))-INT($W39/18)","v":5},{"$f":"C38-(C$4<=MOD($W39,18))-INT($W39/18)","v":4},3,5,3,5,3,5,7,40,{"$f":"L38-(L$4<=MOD($W39,18))-INT($W39/18)","v":4},{"$f":"M38-(M$4<=MOD($W39,18))-INT($W39/18)","v":4},4,3,4,3,5,4,4,35,75,13]
["19 Aug 13 - Rose Cup Qualifier",null,null,null,null,null,null,null,null,null,0,null,null,null,null,null,null,null,null,null,0,0]
["NET",null,null,null,null,null,null,null,null,null,0,null,null,null,null,null,null,null,null,null,0,0]
["20 Aug 29 - Day on the Oaks 6",null,null,null,null,null,null,null,null,null,0,null,null,null,null,null,null,null,null,null,0,0]
["NET",null,null,null,null,null,null,null,null,null,0,null,null,null,null,null,null,null,null,null,0,0]
["21 Sep 3 - Labor Day",null,null,null,null,null,null,null,null,null,0,null,null,null,null,null,null,null,null,null,0,0]
["NET",null,null,null,null,null,null,null,null,null,0,null,null,null,null,null,null,null,null,null,0,0]
["22 Oct 21 - Past Presidents",null,null,null,null,null,null,null,null,null,0,null,null,null,null,null,null,null,null,null,0,0]
["NET",null,null,null,null,null,null,null,null,null,0,null,null,null,null,null,null,null,null,null,0,0]
["23 Nov 12 - Turkey Shoot",null,null,null,null,null,null,null,null,null,0,null,null,null,null,null,null,null,null,null,0,0]
["NET",null,null,null,null,null,null,null,null,null,0,null,null,null,null,null,null,null,null,null,0,0]
["24 Dec 2 - Eclectic Final ",null,null,null,null,null,null,null,null,null,0,null,null,null,null,null,null,null,null,null,0,0]
["NET",null,null,null,null,null,null,null,null,null,0,null,null,null,null,null,null,null,null,null,0,0]
[null,null,null,null,null,null,null,null,null,null,0,null,null,null,null,null,null,null,null,null,0,0]
[null,null,null,null,null,null,null,null,null,null,0,null,null,null,null,null,null,null,null,null,0,0]
[]
["Low Gross Score",{"$f":"MIN(B6,B8,B10,B12,B14,B16,B18,B20,B22,B24,B26,B28,B30,32,B34,B36,B38,B40,B42,B44,B46,B48,B50,B52)","v":3},{"$f":"MIN(C6,C8,C10,C12,C14,C16,C18,C20,C22,C24,C26,C28,C30,32,C34,C36,C38,C40,C42,C44,C46,C48,C50,C52)","v":4},3,4,2,6,3,5,5,{"$f":"SUM(B55:J55)","v":35},{"$f":"MIN(L6,L8,L10,L12,L14,L16,L18,L20,L22,L24,L26,L28,L30,32,L34,L36,L38,L40,L42,L44,L46,L48,L50,L52)","v":5},4,3,4,4,3,5,4,5,{"$f":"SUM(L55:T55)","v":37},{"$f":"SUM(K55+U55)","v":72}]
["Low Net Score",{"$f":"MIN(B7,B9,B11,B13,B15,B17,B19,B21,B23,B25,B27,B29,B31,B33,B35,B37,B39,B41,B43,B45,B47,B49,B51,B53)","v":2},{"$f":"MIN(C7,C9,C11,C13,C15,C17,C19, C21,C23,C25,C27,C29,C31,C33,C35,C37,C39,C41,C43,C45,C47,C49,C51,C53)","v":4},3,3,2,5,2,4,4,29,{"$f":"MIN(L7,L9,L11,L13,L15,L17,L19, L21,L23,L25,L27,L29,L31,L33,L35,L37,L39,L41,L43,L45,L47,L49,L51,L53)","v":4},3,3,3,4,2,4,3,4,30,59]

{"sheet":"FISHER, CHRIS","index":11,"n_rows":56,"n_cols":23,"rows_kept":56,"cut":false,"hidden":false,"merged":[]}
[]
["FISHER, CHRIS",null,null,null,null,null,null,null,null,null,null,null,null,null,null,null,null,null,null,null,null,null,"HANDICAP"]
["HOLE",1,2,3,4,5,6,7,8,9,"OUT",10,11,12,13,14,15,16,17,18,"IN","TOTAL"]
["HANDICAP",8,14,18,6,16,10,4,12,2,null,9,5,17,3,15,7,13,11,1]
["PAR",4,5,3,4,3,5,4,4,4,36,5,4,3,4,4,3,5,4,4,36,72]
["1 Jan 28 - NCGA 4-Ball",null,null,null,null,null,null,null,null,null,{"$f":"SUM(B6:J6)","v":0},null,null,null,null,null,null,null,null,null,{"$f":"SUM(L6:T6)","v":0},{"$f":"SUM(K6+U6)","v":0}]
["NET",null,null,null,null,null,null,null,null,null,0,null,null,null,null,null,null,null,null,null,0,0]
["2 Feb 11 - Super Bowl",null,null,null,null,null,null,null,null,null,0,null,null,null,null,null,null,null,null,null,0,0]
["NET",null,null,null,null,null,null,null,null,null,0,null,null,null,null,null,null,null,null,null,0,0]
["3 Feb 26 - Modified Stableford",5,6,4,4,4,5,7,5,6,46,6,4,4,5,5,4,5,4,5,42,88]
["NET",{"$f":"B10-(B$4<=MOD($W11,18))-INT($W11/18)","v":5},{"$f":"C10-(C$4<=MOD($W11,18))-INT($W11/18)","v":6},4,4,4,5,7,5,5,45,{"$f":"L10-(L$4<=MOD($W11,18))-INT($W11/18)","v":6},{"$f":"M10-(M$4<=MOD($W11,18))-INT($W11/18)","v":4},4,5,5,4,5,4,4,41,86,2]
["4 Mar 25 - Zone Qualifier Rd 1",null,null,null,null,null,null,null,null,null,0,null,null,null,null,null,null,null,null,null,0,0]
["NET",null,null,null,null,null,null,null,null,null,0,null,null,null,null,null,null,null,null,null,0,0]
["5 Mar 26 - Zone Qualifier Rd 2",null,null,null,null,null,null,null,null,null,0,null,null,null,null,null,null,null,null,null,0,0]
["NET",null,null,null,null,null,null,null,null,null,0,null,null,null,null,null,null,null,null,null,0,0]
["6 Apr 8 - RGC Masters",5,5,4,5,3,4,4,5,5,40,6,4,3,5,4,4,5,4,5,40,80]
["NET",{"$f":"B16-(B$4<=MOD($W17,18))-INT($W17/18)","v":5},{"$f":"C16-(C$4<=MOD($W17,18))-INT($W17/18)","v":5},4,5,3,4,4,5,4,39,{"$f":"L16-(L$4<=MOD($W17,18))-INT($W17/18)","v":6},{"$f":"M16-(M$4<=MOD($W17,18))-INT($W17/18)","v":4},3,5,4,4,5,4,4,39,78,2]
["7 Apr 11 - Day on the Oaks 1",null,null,null,null,null,null,null,null,null,0,null,null,null,null,null,null,null,null,null,0,0]
["NET",null,null,null,null,null,null,null,null,null,0,null,null,null,null,null,null,null,null,null,0,0]
["8 Apr 15 - 54 Hole Individual Rd 1",null,null,null,null,null,null,null,null,null,0,null,null,null,null,null,null,null,null,null,0,0]
["NET",null,null,null,null,null,null,null,null,null,0,null,null,null,null,null,null,null,null,null,0,0]
["9 Apr 16 - 54 Hole Individual Rd 2",null,null,null,null,null,null,null,null,null,0,null,null,null,null,null,null,null,null,null,0,0]
["NET",null,null,null,null,null,null,null,null,null,0,null,null,null,null,null,null,null,null,null,0,0]
["10 Apr 22 - 54 Hole Individual Rd 3",null,null,null,null,null,null,null,null,null,0,null,null,null,null,null,null,null,null,null,0,0]
["NET",null,null,null,null,null,null,null,null,null,0,null,null,null,null,null,null,null,null,null,0,0]
["11 May 7 - Senior 4-Ball Qualifier",null,null,null,null,null,null,null,null,null,0,null,null,null,null,null,null,null,null,null,0,0]
["NET",null,null,null,null,null,null,null,null,null,0,null,null,null,null,null,null,null,null,null,0,0]
["12 May 16 - Day on the Oaks 2",5,6,4,4,3,6,5,5,4,42,5,4,3,5,4,4,5,4,5,39,81]
["NET",{"$f":"B28-(B$4<=MOD($W29,18))-INT($W29/18)","v":5},{"$f":"C28-(C$4<=MOD($W29,18))-INT($W29/18)","v":6},4,4,3,6,5,5,3,41,{"$f":"L28-(L$4<=MOD($W29,18))-INT($W29/18)","v":5},{"$f":"M28-(M$4<=MOD($W29,18))-INT($W29/18)","v":4},3,5,4,4,5,4,4,38,79,2]
["13 May 28 - Memorial",4,6,4,4,4,6,4,5,4,41,8,4,2,4,4,4,6,4,5,41,82]
["NET",{"$f":"B30-(B$4<=MOD($W31,18))-INT($W31/18)","v":4},6,4,4,4,6,4,5,3,40,{"$f":"L30-(L$4<=MOD($W31,18))-INT($W31/18)","v":8},{"$f":"M30-(M$4<=MOD($W31,18))-INT($W31/18)","v":4},2,4,4,4,6,4,4,40,80,2]
["14 Jun 10 - 54 Hole Team Rd 1",5,4,3,5,3,5,3,4,5,37,6,4,3,7,4,3,5,6,5,43,80]
["NET",{"$f":"B32-(B$4<=MOD($W33,18))-INT($W33/18)","v":5},4,3,5,3,5,3,4,4,36,{"$f":"L32-(L$4<=MOD($W33,18))-INT($W33/18)","v":6},{"$f":"M32-(M$4<=MOD($W33,18))-INT($W33/18)","v":4},3,7,4,3,5,6,4,42,78,2]
["15 Jun 27 - Day on the Oaks 3",null,null,null,null,null,null,null,null,null,0,null,null,null,null,null,null,null,null,null,0,0]
["NET",null,null,null,null,null,null,null,null,null,0,null,null,null,null,null,null,null,null,null,0,0]
["17 Jul 11 - Day on the Oaks 4",null,null,null,null,null,null,null,null,null,0,null,null,null,null,null,null,null,null,null,0,0]
["NET",null,null,null,null,null,null,null,null,null,0,null,null,null,null,null,null,null,null,null,0,0]
["18 Aug 1 - Day on the Oaks 5",null,null,null,null,null,null,null,null,null,0,null,null,null,null,null,null,null,null,null,0,0]
["NET",null,null,null,null,null,null,null,null,null,0,null,null,null,null,null,null,null,null,null,0,0]
["19 Aug 13 - Rose Cup Qualifier",null,null,null,null,null,null,null,null,null,0,null,null,null,null,null,null,null,null,null,0,0]
["NET",null,null,null,null,null,null,null,null,null,0,null,null,null,null,null,null,null,null,null,0,0]
["20 Aug 29 - Day on the Oaks 6",null,null,null,null,null,null,null,null,null,0,null,null,null,null,null,null,null,null,null,0,0]
["NET",null,null,null,null,null,null,null,null,null,0,null,null,null,null,null,null,null,null,null,0,0]
["21 Sep 3 - Labor Day",null,null,null,null,null,null,null,null,null,0,null,null,null,null,null,null,null,null,null,0,0]
["NET",null,null,null,null,null,null,null,null,null,0,null,null,null,null,null,null,null,null,null,0,0]
["22 Oct 21 - Past Presidents",null,null,null,null,null,null,null,null,null,0,null,null,null,null,null,null,null,null,null,0,0]
["NET",null,null,null,null,null,null,null,null,null,0,null,null,null,null,null,null,null,null,null,0,0]
["23 Nov 12 - Turkey Shoot",null,null,null,null,null,null,null,null,null,0,null,null,null,null,null,null,null,null,null,0,0]
["NET",null,null,null,null,null,null,null,null,null,0,null,null,null,null,null,null,null,null,null,0,0]
["24 Dec 2 - Eclectic Final ",null,null,null,null,null,null,null,null,null,0,null,null,null,null,null,null,null,null,null,0,0]
["NET",null,null,null,null,null,null,null,null,null,0,null,null,null,null,null,null,null,null,null,0,0]
[null,null,null,null,null,null,null,null,null,null,0,null,null,null,null,null,null,null,null,null,0,0]
[null,null,null,null,null,null,null,null,null,null,0,null,null,null,null,null,null,null,null,null,0,0]
[]
["Low Gross Score",{"$f":"MIN(B6,B8,B10,B12,B14,B16,B18,B20,B22,B24,B26,B28,B30,32,B34,B36,B38,B40,B42,B44,B46,B48,B50,B52)","v":4},{"$f":"MIN(C6,C8,C10,C12,C14,C16,C18,C20,C22,C24,C26,C28,C30,32,C34,C36,C38,C40,C42,C44,C46,C48,C50,C52)","v":5},4,4,3,4,4,5,4,{"$f":"SUM(B55:J55)","v":37},{"$f":"MIN(L6,L8,L10,L12,L14,L16,L18,L20,L22,L24,L26,L28,L30,32,L34,L36,L38,L40,L42,L44,L46,L48,L50,L52)","v":5},4,2,4,4,4,5,4,5,{"$f":"SUM(L55:T55)","v":37},{"$f":"SUM(K55+U55)","v":74}]
["Low Net Score",{"$f":"MIN(B7,B9,B11,B13,B15,B17,B19,B21,B23,B25,B27,B29,B31,B33,B35,B37,B39,B41,B43,B45,B47,B49,B51,B53)","v":4},{"$f":"MIN(C7,C9,C11,C13,C15,C17,C19, C21,C23,C25,C27,C29,C31,C33,C35,C37,C39,C41,C43,C45,C47,C49,C51,C53)","v":4},3,4,3,4,3,4,3,32,{"$f":"MIN(L7,L9,L11,L13,L15,L17,L19, L21,L23,L25,L27,L29,L31,L33,L35,L37,L39,L41,L43,L45,L47,L49,L51,L53)","v":5},4,2,4,4,3,5,4,4,35,67]

{"sheet":"FLOYD, RON","index":12,"n_rows":56,"n_cols":23,"rows_kept":56,"cut":false,"hidden":false,"merged":[]}
[]
["FLOYD, RON",null,null,null,null,null,null,null,null,null,null,null,null,null,null,null,null,null,null,null,null,null,"HANDICAP"]
["HOLE",1,2,3,4,5,6,7,8,9,"OUT",10,11,12,13,14,15,16,17,18,"IN","TOTAL"]
["HANDICAP",8,14,18,6,16,10,4,12,2,null,9,5,17,3,15,7,13,11,1]
["PAR",4,5,3,4,3,5,4,4,4,36,5,4,3,4,4,3,5,4,4,36,72]
["1 Jan 28 - NCGA 4-Ball",4,6,3,5,4,6,5,5,6,{"$f":"SUM(B6:J6)","v":44},4,4,3,5,6,4,7,4,7,{"$f":"SUM(L6:T6)","v":44},{"$f":"SUM(K6+U6)","v":88}]
["NET",{"$f":"B6-(B$4<=MOD($W7,18))-INT($W7/18)","v":3},{"$f":"C6-(C$4<=MOD($W7,18))-INT($W7/18)","v":6},3,4,4,5,4,5,5,39,{"$f":"L6-(L$4<=MOD($W7,18))-INT($W7/18)","v":3},3,3,4,6,3,7,4,6,39,78,10]
["2 Feb 11 - Super Bowl",5,6,3,5,3,5,5,5,6,43,6,4,5,4,4,5,5,4,8,45,88]
["NET",{"$f":"B8-(B$4<=MOD($W9,18))-INT($W9/18)","v":4},{"$f":"C8-(C$4<=MOD($W9,18))-INT($W9/18)","v":6},3,4,3,4,4,5,5,38,{"$f":"L8-(L$4<=MOD($W9,18))-INT($W9/18)","v":5},{"$f":"M8-(M$4<=MOD($W9,18))-INT($W9/18)","v":3},5,3,4,4,5,4,7,40,78,10]
["3 Feb 26 - Modified Stableford",3,7,4,4,3,5,5,5,7,43,5,6,4,6,4,3,5,4,5,42,85]
["NET",{"$f":"B10-(B$4<=MOD($W11,18))-INT($W11/18)","v":2},7,4,3,3,4,4,5,6,38,{"$f":"L10-(L$4<=MOD($W11,18))-INT($W11/18)","v":4},{"$f":"M10-(M$4<=MOD($W11,18))-INT($W11/18)","v":5},4,5,4,2,5,4,4,37,75,10]
["4 Mar 25 - Zone Qualifier Rd 1",7,6,3,5,4,7,4,5,4,45,6,4,3,6,5,4,5,6,6,45,90]
["NET",{"$f":"B12-(B$4<=MOD($W13,18))-INT($W13/18)","v":6},6,3,4,4,6,3,5,3,40,{"$f":"L12-(L$4<=MOD($W13,18))-INT($W13/18)","v":5},{"$f":"M12-(M$4<=MOD($W13,18))-INT($W13/18)","v":3},3,5,5,3,5,5,5,39,79,11]
["5 Mar 26 - Zone Qualifier Rd 2",6,6,3,4,3,6,7,6,6,47,6,4,4,5,6,4,5,4,5,43,90]
["NET",{"$f":"B14-(B$4<=MOD($W15,18))-INT($W15/18)","v":5},6,3,3,3,5,6,6,5,42,{"$f":"L14-(L$4<=MOD($W15,18))-INT($W15/18)","v":5},{"$f":"M14-(M$4<=MOD($W15,18))-INT($W15/18)","v":3},4,4,6,3,5,3,4,37,79,11]
["6 Apr 8 - RGC Masters",4,5,3,4,3,6,4,5,5,39,5,5,3,4,4,4,5,5,5,40,79]
["NET",{"$f":"B16-(B$4<=MOD($W17,18))-INT($W17/18)","v":3},5,3,3,3,5,3,5,4,34,{"$f":"L16-(L$4<=MOD($W17,18))-INT($W17/18)","v":4},{"$f":"M16-(M$4<=MOD($W17,18))-INT($W17/18)","v":4},3,3,4,3,5,5,4,35,69,10]
["7 Apr 11 - Day on the Oaks 1",4,5,3,5,3,5,3,8,6,42,6,5,4,5,4,4,6,4,6,44,86]
["NET",{"$f":"B18-(B$4<=MOD($W19,18))-INT($W19/18)","v":3},5,3,4,3,4,2,8,5,37,{"$f":"L18-(L$4<=MOD($W19,18))-INT($W19/18)","v":5},{"$f":"M18-(M$4<=MOD($W19,18))-INT($W19/18)","v":4},4,4,4,3,6,4,5,39,76,10]
["8 Apr 15 - 54 Hole Individual Rd 1",3,5,3,6,3,5,5,5,5,40,5,4,4,4,5,5,6,5,5,43,83]
["NET",{"$f":"B20-(B$4<=MOD($W21,18))-INT($W21/18)","v":2},5,3,5,3,5,4,5,4,36,{"$f":"L20-(L$4<=MOD($W21,18))-INT($W21/18)","v":4},{"$f":"M20-(M$4<=MOD($W21,18))-INT($W21/18)","v":3},4,3,5,4,6,5,4,38,74,9]
["9 Apr 16 - 54 Hole Individual Rd 2",6,4,5,5,3,6,6,6,5,46,5,5,4,6,4,4,5,5,5,43,89]
["NET",{"$f":"B22-(B$4<=MOD($W23,18))-INT($W23/18)","v":5},4,5,4,3,6,5,6,4,42,{"$f":"L22-(L$4<=MOD($W23,18))-INT($W23/18)","v":4},{"$f":"M22-(M$4<=MOD($W23,18))-INT($W23/18)","v":4},4,5,4,3,5,5,4,38,80,9]
["10 Apr 22 - 54 Hole Individual Rd 3",4,6,5,6,3,6,4,5,4,43,4,5,3,4,5,5,5,6,4,41,84]
["NET",{"$f":"B24-(B$4<=MOD($W25,18))-INT($W25/18)","v":3},6,5,5,3,6,3,5,3,39,{"$f":"L24-(L$4<=MOD($W25,18))-INT($W25/18)","v":3},{"$f":"M24-(M$4<=MOD($W25,18))-INT($W25/18)","v":4},3,3,5,4,5,6,3,36,75,9]
["11 May 7 - Senior 4-Ball Qualifier",5,6,5,4,3,6,4,6,5,44,6,4,3,4,5,4,6,6,7,45,89]
["NET",{"$f":"B26-(B$4<=MOD($W27,18))-INT($W27/18)","v":4},6,5,3,3,6,3,6,4,40,{"$f":"L26-(L$4<=MOD($W27,18))-INT($W27/18)","v":6},{"$f":"M26-(M$4<=MOD($W27,18))-INT($W27/18)","v":3},3,3,5,3,6,6,6,41,81,8]
["12 May 16 - Day on the Oaks 2",5,4,4,6,5,5,4,4,5,42,5,4,5,5,8,4,7,5,5,48,90]
["NET",{"$f":"B28-(B$4<=MOD($W29,18))-INT($W29/18)","v":4},4,4,5,5,4,3,4,4,37,{"$f":"L28-(L$4<=MOD($W29,18))-INT($W29/18)","v":4},{"$f":"M28-(M$4<=MOD($W29,18))-INT($W29/18)","v":3},5,4,8,3,7,5,4,43,80,10]
["13 May 28 - Memorial",null,null,null,null,null,null,null,null,null,0,null,null,null,null,null,null,null,null,null,0,0]
["NET",null,null,null,null,null,null,null,null,null,0,null,null,null,null,null,null,null,null,null,0,0]
["14 Jun 10 - 54 Hole Team Rd 1",null,null,null,null,null,null,null,null,null,0,null,null,null,null,null,null,null,null,null,0,0]
["NET",null,null,null,null,null,null,null,null,null,0,null,null,null,null,null,null,null,null,null,0,0]
["15 Jun 27 - Day on the Oaks 3",5,8,5,5,3,6,4,5,6,47,6,4,3,6,6,4,6,5,4,44,91]
["NET",{"$f":"B34-(B$4<=MOD($W35,18))-INT($W35/18)","v":4},{"$f":"C34-(C$4<=MOD($W35,18))-INT($W35/18)","v":8},5,4,3,5,3,5,5,42,{"$f":"L34-(L$4<=MOD($W35,18))-INT($W35/18)","v":5},{"$f":"M34-(M$4<=MOD($W35,18))-INT($W35/18)","v":3},3,5,6,3,6,5,3,39,81,10]
["17 Jul 11 - Day on the Oaks 4",null,null,null,null,null,null,null,null,null,0,null,null,null,null,null,null,null,null,null,0,0]
["NET",null,null,null,null,null,null,null,null,null,0,null,null,null,null,null,null,null,null,null,0,0]
["18 Aug 1 - Day on the Oaks 5",5,6,4,4,3,5,4,4,5,40,5,5,3,5,5,3,5,4,6,41,81]
["NET",{"$f":"B38-(B$4<=MOD($W39,18))-INT($W39/18)","v":4},{"$f":"C38-(C$4<=MOD($W39,18))-INT($W39/18)","v":6},4,3,3,4,3,4,4,35,{"$f":"L38-(L$4<=MOD($W39,18))-INT($W39/18)","v":4},{"$f":"M38-(M$4<=MOD($W39,18))-INT($W39/18)","v":4},3,4,5,2,5,4,5,36,71,10]
["19 Aug 13 - Rose Cup Qualifier",null,null,null,null,null,null,null,null,null,0,null,null,null,null,null,null,null,null,null,0,0]
["NET",null,null,null,null,null,null,null,null,null,0,null,null,null,null,null,null,null,null,null,0,0]
["20 Aug 29 - Day on the Oaks 6",null,null,null,null,null,null,null,null,null,0,null,null,null,null,null,null,null,null,null,0,0]
["NET",null,null,null,null,null,null,null,null,null,0,null,null,null,null,null,null,null,null,null,0,0]
["21 Sep 3 - Labor Day",null,null,null,null,null,null,null,null,null,0,null,null,null,null,null,null,null,null,null,0,0]
["NET",null,null,null,null,null,null,null,null,null,0,null,null,null,null,null,null,null,null,null,0,0]
["22 Oct 21 - Past Presidents",null,null,null,null,null,null,null,null,null,0,null,null,null,null,null,null,null,null,null,0,0]
["NET",null,null,null,null,null,null,null,null,null,0,null,null,null,null,null,null,null,null,null,0,0]
["23 Nov 12 - Turkey Shoot",null,null,null,null,null,null,null,null,null,0,null,null,null,null,null,null,null,null,null,0,0]
["NET",null,null,null,null,null,null,null,null,null,0,null,null,null,null,null,null,null,null,null,0,0]
["24 Dec 2 - Eclectic Final ",null,null,null,null,null,null,null,null,null,0,null,null,null,null,null,null,null,null,null,0,0]
["NET",null,null,null,null,null,null,null,null,null,0,null,null,null,null,null,null,null,null,null,0,0]
[null,null,null,null,null,null,null,null,null,null,0,null,null,null,null,null,null,null,null,null,0,0]
[null,null,null,null,null,null,null,null,null,null,0,null,null,null,null,null,null,null,null,null,0,0]
[]
["Low Gross Score",{"$f":"MIN(B6,B8,B10,B12,B14,B16,B18,B20,B22,B24,B26,B28,B30,32,B34,B36,B38,B40,B42,B44,B46,B48,B50,B52)","v":3},{"$f":"MIN(C6,C8,C10,C12,C14,C16,C18,C20,C22,C24,C26,C28,C30,32,C34,C36,C38,C40,C42,C44,C46,C48,C50,C52)","v":4},3,4,3,5,3,4,4,{"$f":"SUM(B55:J55)","v":33},{"$f":"MIN(L6,L8,L10,L12,L14,L16,L18,L20,L22,L24,L26,L28,L30,32,L34,L36,L38,L40,L42,L44,L46,L48,L50,L52)","v":4},4,3,4,4,3,5,4,4,{"$f":"SUM(L55:T55)","v":35},{"$f":"SUM(K55+U55)","v":68}]
["Low Net Score",{"$f":"MIN(B7,B9,B11,B13,B15,B17,B19,B21,B23,B25,B27,B29,B31,B33,B35,B37,B39,B41,B43,B45,B47,B49,B51,B53)","v":2},{"$f":"MIN(C7,C9,C11,C13,C15,C17,C19, C21,C23,C25,C27,C29,C31,C33,C35,C37,C39,C41,C43,C45,C47,C49,C51,C53)","v":4},3,3,3,4,2,4,3,28,{"$f":"MIN(L7,L9,L11,L13,L15,L17,L19, L21,L23,L25,L27,L29,L31,L33,L35,L37,L39,L41,L43,L45,L47,L49,L51,L53)","v":3},3,3,3,4,2,5,3,3,29,57]

{"sheet":"FOXX, DENNIS","index":13,"n_rows":56,"n_cols":23,"rows_kept":56,"cut":false,"hidden":false,"merged":[]}
[]
["FOXX, DENNIS",null,null,null,null,null,null,null,null,null,null,null,null,null,null,null,null,null,null,null,null,null,"HANDICAP"]
["HOLE",1,2,3,4,5,6,7,8,9,"OUT",10,11,12,13,14,15,16,17,18,"IN","TOTAL"]
["HANDICAP",8,14,18,6,16,10,4,12,2,null,9,5,17,3,15,7,13,11,1]
["PAR",4,5,3,4,3,5,4,4,4,36,5,4,3,4,4,3,5,4,4,36,72]
["1 Jan 28 - NCGA 4-Ball",5,5,4,6,4,6,6,5,5,{"$f":"SUM(B6:J6)","v":46},5,5,3,5,5,4,6,6,6,{"$f":"SUM(L6:T6)","v":45},{"$f":"SUM(K6+U6)","v":91}]
["NET",{"$f":"B6-(B$4<=MOD($W7,18))-INT($W7/18)","v":5},{"$f":"C6-(C$4<=MOD($W7,18))-INT($W7/18)","v":5},4,5,4,6,5,5,4,43,{"$f":"L6-(L$4<=MOD($W7,18))-INT($W7/18)","v":5},4,3,4,5,3,6,6,5,41,84,7]
["2 Feb 11 - Super Bowl",5,5,5,4,2,5,5,5,4,40,5,6,6,3,4,3,7,5,5,44,84]
["NET",{"$f":"B8-(B$4<=MOD($W9,18))-INT($W9/18)","v":5},{"$f":"C8-(C$4<=MOD($W9,18))-INT($W9/18)","v":5},5,3,2,5,4,5,3,37,{"$f":"L8-(L$4<=MOD($W9,18))-INT($W9/18)","v":5},{"$f":"M8-(M$4<=MOD($W9,18))-INT($W9/18)","v":5},6,2,4,2,7,5,4,40,77,7]
["3 Feb 26 - Modified Stableford",null,null,null,null,null,null,null,null,null,0,null,null,null,null,null,null,null,null,null,0,0]
["NET",null,null,null,null,null,null,null,null,null,0,null,null,null,null,null,null,null,null,null,0,0]
["4 Mar 25 - Zone Qualifier Rd 1",5,7,4,6,3,6,4,4,4,43,6,4,4,4,5,4,6,5,6,44,87]
["NET",{"$f":"B12-(B$4<=MOD($W13,18))-INT($W13/18)","v":4},7,4,5,3,6,3,4,3,39,{"$f":"L12-(L$4<=MOD($W13,18))-INT($W13/18)","v":6},{"$f":"M12-(M$4<=MOD($W13,18))-INT($W13/18)","v":3},4,3,5,3,6,5,5,40,79,8]
["5 Mar 26 - Zone Qualifier Rd 2",4,6,3,4,2,5,6,4,3,37,5,4,4,6,5,4,6,5,5,44,81]
["NET",{"$f":"B14-(B$4<=MOD($W15,18))-INT($W15/18)","v":3},6,3,3,2,5,5,4,2,33,{"$f":"L14-(L$4<=MOD($W15,18))-INT($W15/18)","v":5},{"$f":"M14-(M$4<=MOD($W15,18))-INT($W15/18)","v":3},4,5,5,3,6,5,4,40,73,8]
["6 Apr 8 - RGC Masters",4,5,3,4,3,5,3,4,5,36,5,5,3,5,4,4,5,5,5,41,77]
["NET",{"$f":"B16-(B$4<=MOD($W17,18))-INT($W17/18)","v":3},5,3,3,3,5,2,4,4,32,{"$f":"L16-(L$4<=MOD($W17,18))-INT($W17/18)","v":4},{"$f":"M16-(M$4<=MOD($W17,18))-INT($W17/18)","v":4},3,4,4,3,5,5,4,36,68,9]
["7 Apr 11 - Day on the Oaks 1",5,5,3,4,3,7,3,6,5,41,5,5,4,3,5,3,6,5,5,41,82]
["NET",{"$f":"B18-(B$4<=MOD($W19,18))-INT($W19/18)","v":4},5,3,3,3,7,2,6,4,37,{"$f":"L18-(L$4<=MOD($W19,18))-INT($W19/18)","v":4},{"$f":"M18-(M$4<=MOD($W19,18))-INT($W19/18)","v":4},4,2,5,2,6,5,4,36,73,9]
["8 Apr 15 - 54 Hole Individual Rd 1",4,5,3,6,3,5,5,5,5,41,5,4,5,6,6,3,7,5,4,45,86]
["NET",{"$f":"B20-(B$4<=MOD($W21,18))-INT($W21/18)","v":3},5,3,5,3,5,4,5,4,37,{"$f":"L20-(L$4<=MOD($W21,18))-INT($W21/18)","v":4},{"$f":"M20-(M$4<=MOD($W21,18))-INT($W21/18)","v":3},5,5,6,2,7,5,3,40,77,9]
["9 Apr 16 - 54 Hole Individual Rd 2",3,6,3,5,3,7,3,5,4,39,4,5,5,5,6,4,4,5,10,48,87]
["NET",{"$f":"B22-(B$4<=MOD($W23,18))-INT($W23/18)","v":2},6,3,4,3,7,2,5,3,35,{"$f":"L22-(L$4<=MOD($W23,18))-INT($W23/18)","v":4},{"$f":"M22-(M$4<=MOD($W23,18))-INT($W23/18)","v":4},5,4,6,3,4,5,9,44,79,8]
["10 Apr 22 - 54 Hole Individual Rd 3",null,null,null,null,null,null,null,null,null,0,null,null,null,null,null,null,null,null,null,0,0]
["NET",null,null,null,null,null,null,null,null,null,0,null,null,null,null,null,null,null,null,null,0,0]
["11 May 7 - Senior 4-Ball Qualifier",null,null,null,null,null,null,null,null,null,0,null,null,null,null,null,null,null,null,null,0,0]
["NET",null,null,null,null,null,null,null,null,null,0,null,null,null,null,null,null,null,null,null,0,0]
["12 May 16 - Day on the Oaks 2",null,null,null,null,null,null,null,null,null,0,null,null,null,null,null,null,null,null,null,0,0]
["NET",null,null,null,null,null,null,null,null,null,0,null,null,null,null,null,null,null,null,null,0,0]
["13 May 28 - Memorial",4,5,2,5,3,8,4,4,5,40,5,4,4,5,5,4,7,4,6,44,84]
["NET",{"$f":"B30-(B$4<=MOD($W31,18))-INT($W31/18)","v":3},{"$f":"C30-(C$4<=MOD($W31,18))-INT($W31/18)","v":5},2,4,3,8,3,4,4,36,{"$f":"L30-(L$4<=MOD($W31,18))-INT($W31/18)","v":4},{"$f":"M30-(M$4<=MOD($W31,18))-INT($W31/18)","v":3},4,4,5,3,7,4,5,39,75,9]
["14 Jun 10 - 54 Hole Team Rd 1",5,5,3,4,3,7,5,5,4,41,5,5,3,4,5,4,6,5,6,43,84]
["NET",{"$f":"B32-(B$4<=MOD($W33,18))-INT($W33/18)","v":4},5,3,3,3,7,4,5,3,37,{"$f":"L32-(L$4<=MOD($W33,18))-INT($W33/18)","v":4},{"$f":"M32-(M$4<=MOD($W33,18))-INT($W33/18)","v":4},3,3,5,3,6,5,5,38,75,9]
["15 Jun 27 - Day on the Oaks 3",null,null,null,null,null,null,null,null,null,0,null,null,null,null,null,null,null,null,null,0,0]
["NET",null,null,null,null,null,null,null,null,null,0,null,null,null,null,null,null,null,null,null,0,0]
["17 Jul 11 - Day on the Oaks 4",3,6,4,4,3,5,5,7,5,42,5,4,5,5,5,4,5,4,5,42,84]
["NET",{"$f":"B36-(B$4<=MOD($W37,18))-INT($W37/18)","v":2},{"$f":"C36-(C$4<=MOD($W37,18))-INT($W37/18)","v":6},4,3,3,5,4,7,4,38,{"$f":"L36-(L$4<=MOD($W37,18))-INT($W37/18)","v":5},{"$f":"M36-(M$4<=MOD($W37,18))-INT($W37/18)","v":3},5,4,5,3,5,4,4,38,76,8]
["18 Aug 1 - Day on the Oaks 5",5,6,3,4,4,6,6,4,5,43,7,4,3,7,4,3,5,4,5,42,85]
["NET",{"$f":"B38-(B$4<=MOD($W39,18))-INT($W39/18)","v":4},6,3,3,4,6,5,4,4,39,{"$f":"L38-(L$4<=MOD($W39,18))-INT($W39/18)","v":6},{"$f":"M38-(M$4<=MOD($W39,18))-INT($W39/18)","v":3},3,6,4,2,5,4,4,37,76,9]
["19 Aug 13 - Rose Cup Qualifier",null,null,null,null,null,null,null,null,null,0,null,null,null,null,null,null,null,null,null,0,0]
["NET",null,null,null,null,null,null,null,null,null,0,null,null,null,null,null,null,null,null,null,0,0]
["20 Aug 29 - Day on the Oaks 6",null,null,null,null,null,null,null,null,null,0,null,null,null,null,null,null,null,null,null,0,0]
["NET",null,null,null,null,null,null,null,null,null,0,null,null,null,null,null,null,null,null,null,0,0]
["21 Sep 3 - Labor Day",null,null,null,null,null,null,null,null,null,0,null,null,null,null,null,null,null,null,null,0,0]
["NET",null,null,null,null,null,null,null,null,null,0,null,null,null,null,null,null,null,null,null,0,0]
["22 Oct 21 - Past Presidents",null,null,null,null,null,null,null,null,null,0,null,null,null,null,null,null,null,null,null,0,0]
["NET",null,null,null,null,null,null,null,null,null,0,null,null,null,null,null,null,null,null,null,0,0]
["23 Nov 12 - Turkey Shoot",null,null,null,null,null,null,null,null,null,0,null,null,null,null,null,null,null,null,null,0,0]
["NET",null,null,null,null,null,null,null,null,null,0,null,null,null,null,null,null,null,null,null,0,0]
["24 Dec 2 - Eclectic Final ",null,null,null,null,null,null,null,null,null,0,null,null,null,null,null,null,null,null,null,0,0]
["NET",null,null,null,null,null,null,null,null,null,0,null,null,null,null,null,null,null,null,null,0,0]
[null,null,null,null,null,null,null,null,null,null,0,null,null,null,null,null,null,null,null,null,0,0]
[null,null,null,null,null,null,null,null,null,null,0,null,null,null,null,null,null,null,null,null,0,0]
[]
["Low Gross Score",{"$f":"MIN(B6,B8,B10,B12,B14,B16,B18,B20,B22,B24,B26,B28,B30,32,B34,B36,B38,B40,B42,B44,B46,B48,B50,B52)","v":3},{"$f":"MIN(C6,C8,C10,C12,C14,C16,C18,C20,C22,C24,C26,C28,C30,32,C34,C36,C38,C40,C42,C44,C46,C48,C50,C52)","v":5},2,4,2,5,3,4,3,{"$f":"SUM(B55:J55)","v":31},{"$f":"MIN(L6,L8,L10,L12,L14,L16,L18,L20,L22,L24,L26,L28,L30,32,L34,L36,L38,L40,L42,L44,L46,L48,L50,L52)","v":4},4,3,3,4,3,4,4,4,{"$f":"SUM(L55:T55)","v":33},{"$f":"SUM(K55+U55)","v":64}]
["Low Net Score",{"$f":"MIN(B7,B9,B11,B13,B15,B17,B19,B21,B23,B25,B27,B29,B31,B33,B35,B37,B39,B41,B43,B45,B47,B49,B51,B53)","v":2},{"$f":"MIN(C7,C9,C11,C13,C15,C17,C19, C21,C23,C25,C27,C29,C31,C33,C35,C37,C39,C41,C43,C45,C47,C49,C51,C53)","v":5},2,3,2,5,2,4,2,27,{"$f":"MIN(L7,L9,L11,L13,L15,L17,L19, L21,L23,L25,L27,L29,L31,L33,L35,L37,L39,L41,L43,L45,L47,L49,L51,L53)","v":4},3,3,2,4,2,4,4,3,29,56]

{"sheet":"FRAZIER, BRUCE","index":14,"n_rows":56,"n_cols":23,"rows_kept":56,"cut":false,"hidden":false,"merged":[]}
[]
["FRAZIER, BRUCE",null,null,null,null,null,null,null,null,null,null,null,null,null,null,null,null,null,null,null,null,null,"HANDICAP"]
["HOLE",1,2,3,4,5,6,7,8,9,"OUT",10,11,12,13,14,15,16,17,18,"IN","TOTAL"]
["HANDICAP",8,14,18,6,16,10,4,12,2,null,9,5,17,3,15,7,13,11,1]
["PAR",4,5,3,4,3,5,4,4,4,36,5,4,3,4,4,3,5,4,4,36,72]
["1 Jan 28 - NCGA 4-Ball",5,7,3,4,5,5,5,6,5,{"$f":"SUM(B6:J6)","v":45},5,5,3,6,5,3,6,7,7,{"$f":"SUM(L6:T6)","v":47},{"$f":"SUM(K6+U6)","v":92}]
["NET",{"$f":"B6-(B$4<=MOD($W7,18))-INT($W7/18)","v":4},{"$f":"C6-(C$4<=MOD($W7,18))-INT($W7/18)","v":6},3,3,4,4,4,5,4,37,{"$f":"L6-(L$4<=MOD($W7,18))-INT($W7/18)","v":4},4,2,5,4,2,5,6,6,38,75,17]
["2 Feb 11 - Super Bowl",5,6,4,5,4,7,5,6,5,47,5,6,7,4,5,5,5,5,6,48,95]
["NET",{"$f":"B8-(B$4<=MOD($W9,18))-INT($W9/18)","v":4},{"$f":"C8-(C$4<=MOD($W9,18))-INT($W9/18)","v":5},4,4,3,6,4,5,4,39,{"$f":"L8-(L$4<=MOD($W9,18))-INT($W9/18)","v":4},{"$f":"M8-(M$4<=MOD($W9,18))-INT($W9/18)","v":5},6,3,4,4,4,4,5,39,78,17]
["3 Feb 26 - Modified Stableford",4,6,5,5,5,8,7,6,6,52,5,6,5,7,5,4,6,5,6,49,101]
["NET",{"$f":"B10-(B$4<=MOD($W11,18))-INT($W11/18)","v":3},5,5,4,4,7,6,5,5,44,{"$f":"L10-(L$4<=MOD($W11,18))-INT($W11/18)","v":4},5,5,6,4,3,5,4,5,41,85,16]
["4 Mar 25 - Zone Qualifier Rd 1",6,7,4,6,4,5,4,6,5,47,7,4,3,7,5,4,6,4,6,46,93]
["NET",5,6,4,5,4,4,3,5,4,40,6,3,3,6,4,3,{"$f":"R12-(R$4<=MOD($W13,18))-INT($W13/18)","v":5},3,5,38,78,15]
["5 Mar 26 - Zone Qualifier Rd 2",6,6,5,5,4,7,5,6,7,51,7,5,4,5,4,5,5,5,6,46,97]
["NET",5,5,5,4,4,6,4,5,6,44,6,4,4,4,3,4,{"$f":"R14-(R$4<=MOD($W15,18))-INT($W15/18)","v":4},4,5,38,82,15]
["6 Apr 8 - RGC Masters",5,6,4,5,6,8,5,4,5,48,6,7,6,6,6,4,6,6,5,52,100]
["NET",4,5,3,4,5,7,4,3,4,39,5,6,5,5,5,3,{"$f":"R16-(R$4<=MOD($W17,18))-INT($W17/18)","v":5},5,3,42,81,19]
["7 Apr 11 - Day on the Oaks 1",6,7,3,6,3,6,5,4,5,45,6,6,3,6,6,5,7,4,6,49,94]
["NET",5,6,2,5,2,5,4,3,4,36,5,5,2,5,5,4,{"$f":"R18-(R$4<=MOD($W19,18))-INT($W19/18)","v":6},3,4,39,75,19]
["8 Apr 15 - 54 Hole Individual Rd 1",4,5,4,6,4,8,5,5,5,46,5,5,4,5,4,4,5,4,6,42,88]
["NET",3,4,3,5,3,7,4,4,4,37,4,4,3,4,3,3,{"$f":"R20-(R$4<=MOD($W21,18))-INT($W21/18)","v":4},3,4,32,69,19]
["9 Apr 16 - 54 Hole Individual Rd 2",7,5,6,5,4,8,5,5,5,50,6,5,5,7,6,4,5,5,5,48,98]
["NET",6,4,5,4,3,7,4,4,4,41,5,4,4,6,5,3,{"$f":"R22-(R$4<=MOD($W23,18))-INT($W23/18)","v":4},4,3,38,79,19]
["10 Apr 22 - 54 Hole Individual Rd 3",5,6,5,5,4,5,5,4,5,44,6,5,4,6,4,3,5,5,6,44,88]
["NET",4,5,4,4,3,4,4,3,4,35,5,4,3,5,3,2,{"$f":"R24-(R$4<=MOD($W25,18))-INT($W25/18)","v":4},4,4,34,69,19]
["11 May 7 - Senior 4-Ball Qualifier",4,5,3,4,4,8,4,7,5,44,6,5,4,4,6,6,6,5,8,50,94]
["NET",3,4,3,3,4,7,3,6,4,37,5,4,4,3,5,5,{"$f":"R26-(R$4<=MOD($W27,18))-INT($W27/18)","v":5},4,7,42,79,15]
["12 May 16 - Day on the Oaks 2",7,6,3,7,5,5,4,7,4,48,7,5,3,7,5,4,8,6,6,51,99]
["NET",6,5,3,6,4,4,3,6,3,40,6,4,3,6,4,3,{"$f":"R28-(R$4<=MOD($W29,18))-INT($W29/18)","v":7},5,5,43,83,16]
["13 May 28 - Memorial",null,null,null,null,null,null,null,null,null,0,null,null,null,null,null,null,null,null,null,0,0]
["NET",null,null,null,null,null,null,null,null,null,0,null,null,null,null,null,null,null,null,null,0,0]
["14 Jun 10 - 54 Hole Team Rd 1",null,null,null,null,null,null,null,null,null,0,null,null,null,null,null,null,null,null,null,0,0]
["NET",null,null,null,null,null,null,null,null,null,0,null,null,null,null,null,null,null,null,null,0,0]
["15 Jun 27 - Day on the Oaks 3",6,7,2,5,3,7,6,5,5,46,5,6,3,6,4,4,5,5,6,44,90]
["NET",{"$f":"B34-(B$4<=MOD($W35,18))-INT($W35/18)","v":5},6,1,4,2,6,5,4,4,37,{"$f":"L34-(L$4<=MOD($W35,18))-INT($W35/18)","v":4},5,2,5,3,3,4,4,4,34,71,19]
["17 Jul 11 - Day on the Oaks 4",6,6,5,5,3,10,6,6,4,51,6,5,4,5,5,3,7,5,4,44,95]
["NET",5,5,5,4,2,9,5,5,3,43,5,4,3,4,4,2,{"$f":"R36-(R$4<=MOD($W37,18))-INT($W37/18)","v":6},4,3,35,78,17]
["18 Aug 1 - Day on the Oaks 5",5,6,3,6,5,7,4,6,5,47,5,4,3,6,4,4,6,5,5,42,89]
["NET",4,5,2,5,4,6,3,5,4,38,4,3,2,5,3,3,{"$f":"R38-(R$4<=MOD($W39,18))-INT($W39/18)","v":5},4,3,32,70,19]
["19 Aug 13 - Rose Cup Qualifier",null,null,null,null,null,null,null,null,null,0,null,null,null,null,null,null,null,null,null,0,0]
["NET",null,null,null,null,null,null,null,null,null,0,null,null,null,null,null,null,null,null,null,0,0]
["20 Aug 29 - Day on the Oaks 6",null,null,null,null,null,null,null,null,null,0,null,null,null,null,null,null,null,null,null,0,0]
["NET",null,null,null,null,null,null,null,null,null,0,null,null,null,null,null,null,null,null,null,0,0]
["21 Sep 3 - Labor Day",null,null,null,null,null,null,null,null,null,0,null,null,null,null,null,null,null,null,null,0,0]
["NET",null,null,null,null,null,null,null,null,null,0,null,null,null,null,null,null,null,null,null,0,0]
["22 Oct 21 - Past Presidents",null,null,null,null,null,null,null,null,null,0,null,null,null,null,null,null,null,null,null,0,0]
["NET",null,null,null,null,null,null,null,null,null,0,null,null,null,null,null,null,null,null,null,0,0]
["23 Nov 12 - Turkey Shoot",null,null,null,null,null,null,null,null,null,0,null,null,null,null,null,null,null,null,null,0,0]
["NET",null,null,null,null,null,null,null,null,null,0,null,null,null,null,null,null,null,null,null,0,0]
["24 Dec 2 - Eclectic Final ",null,null,null,null,null,null,null,null,null,0,null,null,null,null,null,null,null,null,null,0,0]
["NET",null,null,null,null,null,null,null,null,null,0,null,null,null,null,null,null,null,null,null,0,0]
[null,null,null,null,null,null,null,null,null,null,0,null,null,null,null,null,null,null,null,null,0,0]
[null,null,null,null,null,null,null,null,null,null,0,null,null,null,null,null,null,null,null,null,0,0]
[]
["Low Gross Score",{"$f":"MIN(B6,B8,B10,B12,B14,B16,B18,B20,B22,B24,B26,B28,B30,32,B34,B36,B38,B40,B42,B44,B46,B48,B50,B52)","v":4},{"$f":"MIN(C6,C8,C10,C12,C14,C16,C18,C20,C22,C24,C26,C28,C30,32,C34,C36,C38,C40,C42,C44,C46,C48,C50,C52)","v":5},2,4,3,5,4,4,4,{"$f":"SUM(B55:J55)","v":35},{"$f":"MIN(L6,L8,L10,L12,L14,L16,L18,L20,L22,L24,L26,L28,L30,32,L34,L36,L38,L40,L42,L44,L46,L48,L50,L52)","v":5},4,3,4,4,3,5,4,4,{"$f":"SUM(L55:T55)","v":36},{"$f":"SUM(K55+U55)","v":71}]
["Low Net Score",{"$f":"MIN(B7,B9,B11,B13,B15,B17,B19,B21,B23,B25,B27,B29,B31,B33,B35,B37,B39,B41,B43,B45,B47,B49,B51,B53)","v":3},{"$f":"MIN(C7,C9,C11,C13,C15,C17,C19, C21,C23,C25,C27,C29,C31,C33,C35,C37,C39,C41,C43,C45,C47,C49,C51,C53)","v":4},1,3,2,4,3,3,3,26,{"$f":"MIN(L7,L9,L11,L13,L15,L17,L19, L21,L23,L25,L27,L29,L31,L33,L35,L37,L39,L41,L43,L45,L47,L49,L51,L53)","v":4},3,2,3,3,2,4,3,3,27,53]

{"sheet":"GARBE, WES","index":15,"n_rows":56,"n_cols":23,"rows_kept":56,"cut":false,"hidden":false,"merged":[]}
[]
["GARBE, WES",null,null,null,null,null,null,null,null,null,null,null,null,null,null,null,null,null,null,null,null,null,"HANDICAP"]
["HOLE",1,2,3,4,5,6,7,8,9,"OUT",10,11,12,13,14,15,16,17,18,"IN","TOTAL"]
["HANDICAP",8,14,18,6,16,10,4,12,2,null,9,5,17,3,15,7,13,11,1]
["PAR",4,5,3,4,3,5,4,4,4,36,5,4,3,4,4,3,5,4,4,36,72]
["1 Jan 28 - NCGA 4-Ball",null,null,null,null,null,null,null,null,null,{"$f":"SUM(B6:J6)","v":0},null,null,null,null,null,null,null,null,null,{"$f":"SUM(L6:T6)","v":0},{"$f":"SUM(K6+U6)","v":0}]
["NET",null,null,null,null,null,null,null,null,null,0,null,null,null,null,null,null,null,null,null,0,0]
["2 Feb 11 - Super Bowl",7,6,3,4,3,5,4,5,5,42,5,4,4,5,4,4,6,5,7,44,86]
["NET",{"$f":"B8-(B$4<=MOD($W9,18))-INT($W9/18)","v":6},{"$f":"C8-(C$4<=MOD($W9,18))-INT($W9/18)","v":6},3,3,3,4,3,4,4,36,{"$f":"L8-(L$4<=MOD($W9,18))-INT($W9/18)","v":4},{"$f":"M8-(M$4<=MOD($W9,18))-INT($W9/18)","v":3},4,4,4,3,6,4,6,38,74,12]
["3 Feb 26 - Modified Stableford",5,6,5,3,4,5,4,5,5,42,7,6,4,5,5,4,6,6,5,48,90]
["NET",{"$f":"B10-(B$4<=MOD($W11,18))-INT($W11/18)","v":4},6,5,2,4,4,3,4,4,36,{"$f":"L10-(L$4<=MOD($W11,18))-INT($W11/18)","v":6},{"$f":"M10-(M$4<=MOD($W11,18))-INT($W11/18)","v":5},4,4,5,3,6,5,4,42,78,12]
["4 Mar 25 - Zone Qualifier Rd 1",null,null,null,null,null,null,null,null,null,0,null,null,null,null,null,null,null,null,null,0,0]
["NET",null,null,null,null,null,null,null,null,null,0,null,null,null,null,null,null,null,null,null,0,0]
["5 Mar 26 - Zone Qualifier Rd 2",null,null,null,null,null,null,null,null,null,0,null,null,null,null,null,null,null,null,null,0,0]
["NET",null,null,null,null,null,null,null,null,null,0,null,null,null,null,null,null,null,null,null,0,0]
["6 Apr 8 - RGC Masters",6,4,4,7,3,8,4,5,6,47,5,6,3,4,5,4,5,6,5,43,90]
["NET",{"$f":"B16-(B$4<=MOD($W17,18))-INT($W17/18)","v":5},{"$f":"C16-(C$4<=MOD($W17,18))-INT($W17/18)","v":4},4,6,3,7,3,4,5,41,{"$f":"L16-(L$4<=MOD($W17,18))-INT($W17/18)","v":4},{"$f":"M16-(M$4<=MOD($W17,18))-INT($W17/18)","v":5},3,3,5,3,5,5,4,37,78,12]
["7 Apr 11 - Day on the Oaks 1",5,6,3,6,3,6,5,4,6,44,6,4,3,6,4,4,5,5,5,42,86]
["NET",{"$f":"B18-(B$4<=MOD($W19,18))-INT($W19/18)","v":4},6,3,5,3,5,4,3,5,38,{"$f":"L18-(L$4<=MOD($W19,18))-INT($W19/18)","v":5},{"$f":"M18-(M$4<=MOD($W19,18))-INT($W19/18)","v":3},3,5,4,3,5,4,4,36,74,12]
["8 Apr 15 - 54 Hole Individual Rd 1",5,5,3,4,4,6,5,6,6,44,6,3,3,4,5,4,5,5,6,41,85]
["NET",{"$f":"B20-(B$4<=MOD($W21,18))-INT($W21/18)","v":4},5,3,3,4,5,4,5,5,38,{"$f":"L20-(L$4<=MOD($W21,18))-INT($W21/18)","v":5},{"$f":"M20-(M$4<=MOD($W21,18))-INT($W21/18)","v":2},3,3,5,3,5,4,5,35,73,12]
["9 Apr 16 - 54 Hole Individual Rd 2",4,6,3,6,4,7,5,5,5,45,5,4,4,4,4,3,6,4,7,41,86]
["NET",{"$f":"B22-(B$4<=MOD($W23,18))-INT($W23/18)","v":3},6,3,5,4,6,4,4,4,39,{"$f":"L22-(L$4<=MOD($W23,18))-INT($W23/18)","v":4},{"$f":"M22-(M$4<=MOD($W23,18))-INT($W23/18)","v":3},4,3,4,2,6,3,6,35,74,12]
["10 Apr 22 - 54 Hole Individual Rd 3",8,6,4,6,3,5,5,5,4,46,5,4,3,4,5,4,4,6,5,40,86]
["NET",{"$f":"B24-(B$4<=MOD($W25,18))-INT($W25/18)","v":7},6,4,5,3,4,4,4,3,40,{"$f":"L24-(L$4<=MOD($W25,18))-INT($W25/18)","v":4},{"$f":"M24-(M$4<=MOD($W25,18))-INT($W25/18)","v":3},3,3,5,3,4,5,4,34,74,12]
["11 May 7 - Senior 4-Ball Qualifier",5,5,3,5,3,6,5,5,5,42,5,5,3,4,7,3,7,8,9,51,93]
["NET",{"$f":"B26-(B$4<=MOD($W27,18))-INT($W27/18)","v":4},5,3,4,3,5,4,5,4,37,{"$f":"L26-(L$4<=MOD($W27,18))-INT($W27/18)","v":4},{"$f":"M26-(M$4<=MOD($W27,18))-INT($W27/18)","v":4},3,3,7,2,7,8,8,46,83,10]
["12 May 16 - Day on the Oaks 2",5,6,4,4,3,6,7,4,4,43,6,5,3,5,6,4,4,5,5,43,86]
["NET",{"$f":"B28-(B$4<=MOD($W29,18))-INT($W29/18)","v":4},6,4,3,3,5,6,3,3,37,{"$f":"L28-(L$4<=MOD($W29,18))-INT($W29/18)","v":5},{"$f":"M28-(M$4<=MOD($W29,18))-INT($W29/18)","v":4},3,4,6,3,4,4,4,37,74,12]
["13 May 28 - Memorial",4,6,4,3,3,7,6,6,5,44,5,5,3,4,6,4,5,4,5,41,85]
["NET",{"$f":"B30-(B$4<=MOD($W31,18))-INT($W31/18)","v":3},6,4,2,3,6,5,5,4,38,{"$f":"L30-(L$4<=MOD($W31,18))-INT($W31/18)","v":4},{"$f":"M30-(M$4<=MOD($W31,18))-INT($W31/18)","v":4},3,3,6,3,5,3,4,35,73,12]
["14 Jun 10 - 54 Hole Team Rd 1",null,null,null,null,null,null,null,null,null,0,null,null,null,null,null,null,null,null,null,0,0]
["NET",null,null,null,null,null,null,null,null,null,0,null,null,null,null,null,null,null,null,null,0,0]
["15 Jun 27 - Day on the Oaks 3",null,null,null,null,null,null,null,null,null,0,null,null,null,null,null,null,null,null,null,0,0]
["NET",null,null,null,null,null,null,null,null,null,0,null,null,null,null,null,null,null,null,null,0,0]
["17 Jul 11 - Day on the Oaks 4",null,null,null,null,null,null,null,null,null,0,null,null,null,null,null,null,null,null,null,0,0]
["NET",null,null,null,null,null,null,null,null,null,0,null,null,null,null,null,null,null,null,null,0,0]
["18 Aug 1 - Day on the Oaks 5",5,6,4,4,3,7,6,4,5,44,5,4,3,5,4,3,6,4,6,40,84]
["NET",{"$f":"B38-(B$4<=MOD($W39,18))-INT($W39/18)","v":4},{"$f":"C38-(C$4<=MOD($W39,18))-INT($W39/18)","v":6},4,3,3,6,5,3,4,38,{"$f":"L38-(L$4<=MOD($W39,18))-INT($W39/18)","v":4},{"$f":"M38-(M$4<=MOD($W39,18))-INT($W39/18)","v":3},3,4,4,2,5,3,5,33,71,13]
["19 Aug 13 - Rose Cup Qualifier",null,null,null,null,null,null,null,null,null,0,null,null,null,null,null,null,null,null,null,0,0]
["NET",null,null,null,null,null,null,null,null,null,0,null,null,null,null,null,null,null,null,null,0,0]
["20 Aug 29 - Day on the Oaks 6",null,null,null,null,null,null,null,null,null,0,null,null,null,null,null,null,null,null,null,0,0]
["NET",null,null,null,null,null,null,null,null,null,0,null,null,null,null,null,null,null,null,null,0,0]
["21 Sep 3 - Labor Day",null,null,null,null,null,null,null,null,null,0,null,null,null,null,null,null,null,null,null,0,0]
["NET",null,null,null,null,null,null,null,null,null,0,null,null,null,null,null,null,null,null,null,0,0]
["22 Oct 21 - Past Presidents",null,null,null,null,null,null,null,null,null,0,null,null,null,null,null,null,null,null,null,0,0]
["NET",null,null,null,null,null,null,null,null,null,0,null,null,null,null,null,null,null,null,null,0,0]
["23 Nov 12 - Turkey Shoot",null,null,null,null,null,null,null,null,null,0,null,null,null,null,null,null,null,null,null,0,0]
["NET",null,null,null,null,null,null,null,null,null,0,null,null,null,null,null,null,null,null,null,0,0]
["24 Dec 2 - Eclectic Final ",null,null,null,null,null,null,null,null,null,0,null,null,null,null,null,null,null,null,null,0,0]
["NET",null,null,null,null,null,null,null,null,null,0,null,null,null,null,null,null,null,null,null,0,0]
[null,null,null,null,null,null,null,null,null,null,0,null,null,null,null,null,null,null,null,null,0,0]
[null,null,null,null,null,null,null,null,null,null,0,null,null,null,null,null,null,null,null,null,0,0]
[]
["Low Gross Score",{"$f":"MIN(B6,B8,B10,B12,B14,B16,B18,B20,B22,B24,B26,B28,B30,32,B34,B36,B38,B40,B42,B44,B46,B48,B50,B52)","v":4},{"$f":"MIN(C6,C8,C10,C12,C14,C16,C18,C20,C22,C24,C26,C28,C30,32,C34,C36,C38,C40,C42,C44,C46,C48,C50,C52)","v":4},3,3,3,5,4,4,4,{"$f":"SUM(B55:J55)","v":34},{"$f":"MIN(L6,L8,L10,L12,L14,L16,L18,L20,L22,L24,L26,L28,L30,32,L34,L36,L38,L40,L42,L44,L46,L48,L50,L52)","v":5},3,3,4,4,3,4,4,5,{"$f":"SUM(L55:T55)","v":35},{"$f":"SUM(K55+U55)","v":69}]
["Low Net Score",{"$f":"MIN(B7,B9,B11,B13,B15,B17,B19,B21,B23,B25,B27,B29,B31,B33,B35,B37,B39,B41,B43,B45,B47,B49,B51,B53)","v":3},{"$f":"MIN(C7,C9,C11,C13,C15,C17,C19, C21,C23,C25,C27,C29,C31,C33,C35,C37,C39,C41,C43,C45,C47,C49,C51,C53)","v":4},3,2,3,4,3,3,3,28,{"$f":"MIN(L7,L9,L11,L13,L15,L17,L19, L21,L23,L25,L27,L29,L31,L33,L35,L37,L39,L41,L43,L45,L47,L49,L51,L53)","v":4},2,3,3,4,2,4,3,4,29,57]

{"sheet":"GONZALES, PABLO","index":16,"n_rows":56,"n_cols":23,"rows_kept":56,"cut":false,"hidden":false,"merged":[]}
[]
["GONZALES, PABLO",null,null,null,null,null,null,null,null,null,null,null,null,null,null,null,null,null,null,null,null,null,"HANDICAP"]
["HOLE",1,2,3,4,5,6,7,8,9,"OUT",10,11,12,13,14,15,16,17,18,"IN","TOTAL"]
["HANDICAP",8,14,18,6,16,10,4,12,2,null,9,5,17,3,15,7,13,11,1]
["PAR",4,5,3,4,3,5,4,4,4,36,5,4,3,4,4,3,5,4,4,36,72]
["1 Jan 28 - NCGA 4-Ball",null,null,null,null,null,null,null,null,null,{"$f":"SUM(B6:J6)","v":0},null,null,null,null,null,null,null,null,null,{"$f":"SUM(L6:T6)","v":0},{"$f":"SUM(K6+U6)","v":0}]
["NET",null,null,null,null,null,null,null,null,null,0,null,null,null,null,null,null,null,null,null,0,0]
["2 Feb 11 - Super Bowl",5,7,2,4,6,6,5,4,5,44,5,3,3,6,4,4,6,4,5,40,84]
["NET",{"$f":"B8-(B$4<=MOD($W9,18))-INT($W9/18)","v":5},{"$f":"C8-(C$4<=MOD($W9,18))-INT($W9/18)","v":7},2,3,6,6,4,4,4,41,{"$f":"L8-(L$4<=MOD($W9,18))-INT($W9/18)","v":5},{"$f":"M8-(M$4<=MOD($W9,18))-INT($W9/18)","v":2},3,5,4,4,6,4,4,37,78,6]
["3 Feb 26 - Modified Stableford",null,null,null,null,null,null,null,null,null,0,null,null,null,null,null,null,null,null,null,0,0]
["NET",null,null,null,null,null,null,null,null,null,0,null,null,null,null,null,null,null,null,null,0,0]
["4 Mar 25 - Zone Qualifier Rd 1",5,6,3,5,3,5,4,5,4,40,5,4,3,5,4,4,5,4,6,40,80]
["NET",{"$f":"B12-(B$4<=MOD($W13,18))-INT($W13/18)","v":5},6,3,4,3,5,3,5,3,37,{"$f":"L12-(L$4<=MOD($W13,18))-INT($W13/18)","v":5},{"$f":"M12-(M$4<=MOD($W13,18))-INT($W13/18)","v":3},3,4,4,3,5,4,5,36,73,7]
["5 Mar 26 - Zone Qualifier Rd 2",5,4,3,5,3,7,5,6,8,46,4,4,3,5,4,5,5,5,6,41,87]
["NET",{"$f":"B14-(B$4<=MOD($W15,18))-INT($W15/18)","v":5},4,3,4,3,7,4,6,7,43,{"$f":"L14-(L$4<=MOD($W15,18))-INT($W15/18)","v":4},{"$f":"M14-(M$4<=MOD($W15,18))-INT($W15/18)","v":3},3,4,4,4,5,5,5,37,80,7]
["6 Apr 8 - RGC Masters",5,5,4,5,3,6,5,5,5,43,4,4,4,5,4,3,5,4,6,39,82]
["NET",{"$f":"B16-(B$4<=MOD($W17,18))-INT($W17/18)","v":5},5,4,4,3,6,4,5,4,40,{"$f":"L16-(L$4<=MOD($W17,18))-INT($W17/18)","v":4},{"$f":"M16-(M$4<=MOD($W17,18))-INT($W17/18)","v":3},4,4,4,2,5,4,5,35,75,7]
["7 Apr 11 - Day on the Oaks 1",5,6,3,5,3,5,4,5,4,40,6,5,4,4,5,3,5,6,6,44,84]
["NET",{"$f":"B18-(B$4<=MOD($W19,18))-INT($W19/18)","v":5},6,3,4,3,5,3,5,3,37,{"$f":"L18-(L$4<=MOD($W19,18))-INT($W19/18)","v":6},{"$f":"M18-(M$4<=MOD($W19,18))-INT($W19/18)","v":4},4,3,5,2,5,6,5,40,77,7]
["8 Apr 15 - 54 Hole Individual Rd 1",null,null,null,null,null,null,null,null,null,0,null,null,null,null,null,null,null,null,null,0,0]
["NET",null,null,null,null,null,null,null,null,null,0,null,null,null,null,null,null,null,null,null,0,0]
["9 Apr 16 - 54 Hole Individual Rd 2",null,null,null,null,null,null,null,null,null,0,null,null,null,null,null,null,null,null,null,0,0]
["NET",null,null,null,null,null,null,null,null,null,0,null,null,null,null,null,null,null,null,null,0,0]
["10 Apr 22 - 54 Hole Individual Rd 3",null,null,null,null,null,null,null,null,null,0,null,null,null,null,null,null,null,null,null,0,0]
["NET",null,null,null,null,null,null,null,null,null,0,null,null,null,null,null,null,null,null,null,0,0]
["11 May 7 - Senior 4-Ball Qualifier",4,4,4,3,3,5,4,4,5,36,5,4,4,5,4,4,5,4,5,40,76]
["NET",{"$f":"B26-(B$4<=MOD($W27,18))-INT($W27/18)","v":4},{"$f":"C26-(C$4<=MOD($W27,18))-INT($W27/18)","v":4},4,2,3,5,3,4,4,33,{"$f":"L26-(L$4<=MOD($W27,18))-INT($W27/18)","v":5},{"$f":"M26-(M$4<=MOD($W27,18))-INT($W27/18)","v":3},4,4,4,4,5,4,4,37,70,6]
["12 May 16 - Day on the Oaks 2",5,6,3,4,5,4,5,4,5,41,5,5,6,4,5,4,5,5,5,44,85]
["NET",{"$f":"B28-(B$4<=MOD($W29,18))-INT($W29/18)","v":5},6,3,3,5,4,4,4,4,38,{"$f":"L28-(L$4<=MOD($W29,18))-INT($W29/18)","v":5},{"$f":"M28-(M$4<=MOD($W29,18))-INT($W29/18)","v":4},6,3,5,4,5,5,4,41,79,6]
["13 May 28 - Memorial",4,6,4,5,4,7,4,5,5,44,4,5,2,4,4,4,4,5,5,37,81]
["NET",{"$f":"B30-(B$4<=MOD($W31,18))-INT($W31/18)","v":4},6,4,4,4,7,3,5,4,41,{"$f":"L30-(L$4<=MOD($W31,18))-INT($W31/18)","v":4},{"$f":"M30-(M$4<=MOD($W31,18))-INT($W31/18)","v":4},2,3,4,4,4,5,4,34,75,6]
["14 Jun 10 - 54 Hole Team Rd 1",5,5,4,5,3,4,4,5,7,42,5,4,4,5,4,4,5,4,5,40,82]
["NET",{"$f":"B32-(B$4<=MOD($W33,18))-INT($W33/18)","v":5},5,4,4,3,4,3,5,6,39,{"$f":"L32-(L$4<=MOD($W33,18))-INT($W33/18)","v":5},{"$f":"M32-(M$4<=MOD($W33,18))-INT($W33/18)","v":3},4,4,4,4,5,4,4,37,76,6]
["15 Jun 27 - Day on the Oaks 3",5,6,3,5,3,6,4,4,5,41,5,4,4,5,4,4,5,4,5,40,81]
["NET",{"$f":"B34-(B$4<=MOD($W35,18))-INT($W35/18)","v":5},6,3,4,3,6,3,4,4,38,{"$f":"L34-(L$4<=MOD($W35,18))-INT($W35/18)","v":5},{"$f":"M34-(M$4<=MOD($W35,18))-INT($W35/18)","v":3},4,4,4,4,5,4,4,37,75,6]
["17 Jul 11 - Day on the Oaks 4",4,5,4,4,3,5,4,4,5,38,5,4,3,4,4,2,5,4,4,35,73]
["NET",{"$f":"B36-(B$4<=MOD($W37,18))-INT($W37/18)","v":4},5,4,3,3,5,3,4,4,35,{"$f":"L36-(L$4<=MOD($W37,18))-INT($W37/18)","v":5},{"$f":"M36-(M$4<=MOD($W37,18))-INT($W37/18)","v":3},3,3,4,2,5,4,3,32,67,6]
["18 Aug 1 - Day on the Oaks 5",4,6,3,4,3,5,3,4,5,37,5,4,3,4,3,4,5,5,5,38,75]
["NET",{"$f":"B38-(B$4<=MOD($W39,18))-INT($W39/18)","v":4},6,3,4,3,5,3,4,4,36,{"$f":"L38-(L$4<=MOD($W39,18))-INT($W39/18)","v":5},{"$f":"M38-(M$4<=MOD($W39,18))-INT($W39/18)","v":4},3,3,3,4,5,5,4,36,72,3]
["19 Aug 13 - Rose Cup Qualifier",null,null,null,null,null,null,null,null,null,0,null,null,null,null,null,null,null,null,null,0,0]
["NET",null,null,null,null,null,null,null,null,null,0,null,null,null,null,null,null,null,null,null,0,0]
["20 Aug 29 - Day on the Oaks 6",null,null,null,null,null,null,null,null,null,0,null,null,null,null,null,null,null,null,null,0,0]
["NET",null,null,null,null,null,null,null,null,null,0,null,null,null,null,null,null,null,null,null,0,0]
["21 Sep 3 - Labor Day",null,null,null,null,null,null,null,null,null,0,null,null,null,null,null,null,null,null,null,0,0]
["NET",null,null,null,null,null,null,null,null,null,0,null,null,null,null,null,null,null,null,null,0,0]
["22 Oct 21 - Past Presidents",null,null,null,null,null,null,null,null,null,0,null,null,null,null,null,null,null,null,null,0,0]
["NET",null,null,null,null,null,null,null,null,null,0,null,null,null,null,null,null,null,null,null,0,0]
["23 Nov 12 - Turkey Shoot",null,null,null,null,null,null,null,null,null,0,null,null,null,null,null,null,null,null,null,0,0]
["NET",null,null,null,null,null,null,null,null,null,0,null,null,null,null,null,null,null,null,null,0,0]
["24 Dec 2 - Eclectic Final ",null,null,null,null,null,null,null,null,null,0,null,null,null,null,null,null,null,null,null,0,0]
["NET",null,null,null,null,null,null,null,null,null,0,null,null,null,null,null,null,null,null,null,0,0]
[null,null,null,null,null,null,null,null,null,null,0,null,null,null,null,null,null,null,null,null,0,0]
[null,null,null,null,null,null,null,null,null,null,0,null,null,null,null,null,null,null,null,null,0,0]
[]
["Low Gross Score",{"$f":"MIN(B6,B8,B10,B12,B14,B16,B18,B20,B22,B24,B26,B28,B30,32,B34,B36,B38,B40,B42,B44,B46,B48,B50,B52)","v":4},{"$f":"MIN(C6,C8,C10,C12,C14,C16,C18,C20,C22,C24,C26,C28,C30,32,C34,C36,C38,C40,C42,C44,C46,C48,C50,C52)","v":4},2,3,3,4,3,4,4,{"$f":"SUM(B55:J55)","v":31},{"$f":"MIN(L6,L8,L10,L12,L14,L16,L18,L20,L22,L24,L26,L28,L30,32,L34,L36,L38,L40,L42,L44,L46,L48,L50,L52)","v":4},3,2,4,3,2,4,4,4,{"$f":"SUM(L55:T55)","v":30},{"$f":"SUM(K55+U55)","v":61}]
["Low Net Score",{"$f":"MIN(B7,B9,B11,B13,B15,B17,B19,B21,B23,B25,B27,B29,B31,B33,B35,B37,B39,B41,B43,B45,B47,B49,B51,B53)","v":4},{"$f":"MIN(C7,C9,C11,C13,C15,C17,C19, C21,C23,C25,C27,C29,C31,C33,C35,C37,C39,C41,C43,C45,C47,C49,C51,C53)","v":4},2,2,3,4,3,4,3,29,{"$f":"MIN(L7,L9,L11,L13,L15,L17,L19, L21,L23,L25,L27,L29,L31,L33,L35,L37,L39,L41,L43,L45,L47,L49,L51,L53)","v":4},2,2,3,3,2,4,4,3,27,56]

{"sheet":"GONZALEZ, PAUL","index":17,"n_rows":56,"n_cols":23,"rows_kept":56,"cut":false,"hidden":false,"merged":[]}
[]
["GONZALEZ, PAUL",null,null,null,null,null,null,null,null,null,null,null,null,null,null,null,null,null,null,null,null,null,"HANDICAP"]
["HOLE",1,2,3,4,5,6,7,8,9,"OUT",10,11,12,13,14,15,16,17,18,"IN","TOTAL"]
["HANDICAP",8,14,18,6,16,10,4,12,2,null,9,5,17,3,15,7,13,11,1]
["PAR",4,5,3,4,3,5,4,4,4,36,5,4,3,4,4,3,5,4,4,36,72]
["1 Jan 28 - NCGA 4-Ball",5,5,2,6,3,7,5,6,5,{"$f":"SUM(B6:J6)","v":44},5,5,2,5,4,3,5,5,5,{"$f":"SUM(L6:T6)","v":39},{"$f":"SUM(K6+U6)","v":83}]
["NET",{"$f":"B6-(B$4<=MOD($W7,18))-INT($W7/18)","v":5},{"$f":"C6-(C$4<=MOD($W7,18))-INT($W7/18)","v":5},2,5,3,7,4,6,4,41,{"$f":"L6-(L$4<=MOD($W7,18))-INT($W7/18)","v":5},4,2,4,4,3,5,5,4,36,77,6]
["2 Feb 11 - Super Bowl",5,5,4,4,4,6,5,5,4,42,6,6,3,5,5,3,7,5,6,46,88]
["NET",{"$f":"B8-(B$4<=MOD($W9,18))-INT($W9/18)","v":5},{"$f":"C8-(C$4<=MOD($W9,18))-INT($W9/18)","v":5},4,3,4,6,4,5,3,39,{"$f":"L8-(L$4<=MOD($W9,18))-INT($W9/18)","v":6},{"$f":"M8-(M$4<=MOD($W9,18))-INT($W9/18)","v":5},3,4,5,2,7,5,5,42,81,7]
["3 Feb 26 - Modified Stableford",4,6,3,4,3,6,4,5,4,39,7,4,3,6,5,3,7,6,6,47,86]
["NET",{"$f":"B10-(B$4<=MOD($W11,18))-INT($W11/18)","v":4},6,3,3,3,6,3,5,3,36,{"$f":"L10-(L$4<=MOD($W11,18))-INT($W11/18)","v":7},3,3,5,5,2,7,6,5,43,79,7]
["4 Mar 25 - Zone Qualifier Rd 1",6,5,3,5,3,5,4,6,5,42,6,5,3,5,4,3,5,5,4,40,82]
["NET",{"$f":"B12-(B$4<=MOD($W13,18))-INT($W13/18)","v":5},5,3,4,3,5,3,6,4,38,{"$f":"L12-(L$4<=MOD($W13,18))-INT($W13/18)","v":6},{"$f":"M12-(M$4<=MOD($W13,18))-INT($W13/18)","v":4},3,4,4,2,5,5,3,36,74,8]
["5 Mar 26 - Zone Qualifier Rd 2",3,6,2,4,3,6,5,4,5,38,5,4,4,4,5,4,5,5,5,41,79]
["NET",{"$f":"B14-(B$4<=MOD($W15,18))-INT($W15/18)","v":2},6,2,3,3,6,4,4,4,34,{"$f":"L14-(L$4<=MOD($W15,18))-INT($W15/18)","v":5},{"$f":"M14-(M$4<=MOD($W15,18))-INT($W15/18)","v":3},4,3,5,3,5,5,4,37,71,8]
["6 Apr 8 - RGC Masters",4,5,4,5,4,6,5,5,5,43,5,4,4,5,5,4,6,5,6,44,87]
["NET",{"$f":"B16-(B$4<=MOD($W17,18))-INT($W17/18)","v":4},5,4,4,4,6,4,5,4,40,{"$f":"L16-(L$4<=MOD($W17,18))-INT($W17/18)","v":5},{"$f":"M16-(M$4<=MOD($W17,18))-INT($W17/18)","v":3},4,4,5,3,6,5,5,40,80,7]
["7 Apr 11 - Day on the Oaks 1",4,5,3,5,4,6,4,4,4,39,6,4,3,5,5,4,6,4,5,42,81]
["NET",{"$f":"B18-(B$4<=MOD($W19,18))-INT($W19/18)","v":4},5,3,4,4,6,3,4,3,36,{"$f":"L18-(L$4<=MOD($W19,18))-INT($W19/18)","v":6},{"$f":"M18-(M$4<=MOD($W19,18))-INT($W19/18)","v":3},3,4,5,3,6,4,4,38,74,7]
["8 Apr 15 - 54 Hole Individual Rd 1",5,5,3,5,3,5,5,5,4,40,4,5,3,4,5,3,6,4,5,39,79]
["NET",{"$f":"B20-(B$4<=MOD($W21,18))-INT($W21/18)","v":5},5,3,4,3,5,4,5,3,37,{"$f":"L20-(L$4<=MOD($W21,18))-INT($W21/18)","v":4},{"$f":"M20-(M$4<=MOD($W21,18))-INT($W21/18)","v":4},3,3,5,2,6,4,4,35,72,7]
["9 Apr 16 - 54 Hole Individual Rd 2",5,6,3,6,4,7,4,6,4,45,4,4,4,5,5,3,5,5,6,41,86]
["NET",{"$f":"B22-(B$4<=MOD($W23,18))-INT($W23/18)","v":5},6,3,5,4,7,3,6,3,42,{"$f":"L22-(L$4<=MOD($W23,18))-INT($W23/18)","v":4},{"$f":"M22-(M$4<=MOD($W23,18))-INT($W23/18)","v":3},4,4,5,2,5,5,5,37,79,7]
["10 Apr 22 - 54 Hole Individual Rd 3",6,5,4,6,3,5,5,5,5,44,6,5,3,4,4,3,5,4,4,38,82]
["NET",{"$f":"B24-(B$4<=MOD($W25,18))-INT($W25/18)","v":6},5,4,5,3,5,4,5,4,41,{"$f":"L24-(L$4<=MOD($W25,18))-INT($W25/18)","v":6},{"$f":"M24-(M$4<=MOD($W25,18))-INT($W25/18)","v":4},3,3,4,2,5,4,3,34,75,7]
["11 May 7 - Senior 4-Ball Qualifier",5,6,4,5,4,8,4,5,5,46,5,5,3,5,4,5,6,4,5,42,88]
["NET",{"$f":"B26-(B$4<=MOD($W27,18))-INT($W27/18)","v":5},6,4,4,4,8,3,5,4,43,{"$f":"L26-(L$4<=MOD($W27,18))-INT($W27/18)","v":5},{"$f":"M26-(M$4<=MOD($W27,18))-INT($W27/18)","v":4},3,4,4,4,6,4,4,38,81,7]
["12 May 16 - Day on the Oaks 2",5,6,5,6,4,6,5,5,5,47,6,5,3,6,4,4,5,5,5,43,90]
["NET",{"$f":"B28-(B$4<=MOD($W29,18))-INT($W29/18)","v":5},6,5,5,4,6,4,5,4,44,{"$f":"L28-(L$4<=MOD($W29,18))-INT($W29/18)","v":6},{"$f":"M28-(M$4<=MOD($W29,18))-INT($W29/18)","v":4},3,5,4,3,5,5,4,39,83,7]
["13 May 28 - Memorial",5,5,3,7,5,5,4,4,5,43,4,5,3,4,4,3,4,5,5,37,80]
["NET",{"$f":"B30-(B$4<=MOD($W31,18))-INT($W31/18)","v":5},5,3,6,5,5,3,4,4,40,{"$f":"L30-(L$4<=MOD($W31,18))-INT($W31/18)","v":4},{"$f":"M30-(M$4<=MOD($W31,18))-INT($W31/18)","v":4},3,3,4,2,4,5,4,33,73,7]
["14 Jun 10 - 54 Hole Team Rd 1",5,6,3,5,3,5,5,5,5,42,4,3,2,4,5,3,5,5,5,36,78]
["NET",{"$f":"B32-(B$4<=MOD($W33,18))-INT($W33/18)","v":5},6,3,4,3,5,4,5,4,39,{"$f":"L32-(L$4<=MOD($W33,18))-INT($W33/18)","v":4},{"$f":"M32-(M$4<=MOD($W33,18))-INT($W33/18)","v":2},2,3,5,2,5,5,4,32,71,7]
["15 Jun 27 - Day on the Oaks 3",null,null,null,null,null,null,null,null,null,0,null,null,null,null,null,null,null,null,null,0,0]
["NET",null,null,null,null,null,null,null,null,null,0,null,null,null,null,null,null,null,null,null,0,0]
["17 Jul 11 - Day on the Oaks 4",4,5,4,6,2,5,5,4,4,39,5,5,2,5,6,3,6,5,5,42,81]
["NET",{"$f":"B36-(B$4<=MOD($W37,18))-INT($W37/18)","v":4},{"$f":"C36-(C$4<=MOD($W37,18))-INT($W37/18)","v":5},4,5,2,5,4,4,3,36,{"$f":"L36-(L$4<=MOD($W37,18))-INT($W37/18)","v":5},{"$f":"M36-(M$4<=MOD($W37,18))-INT($W37/18)","v":4},2,4,6,2,6,5,4,38,74,7]
["18 Aug 1 - Day on the Oaks 5",4,4,3,4,3,5,4,4,5,36,4,4,3,5,4,4,5,4,7,40,76]
["NET",{"$f":"B38-(B$4<=MOD($W39,18))-INT($W39/18)","v":4},4,3,3,3,5,3,4,4,33,{"$f":"L38-(L$4<=MOD($W39,18))-INT($W39/18)","v":4},{"$f":"M38-(M$4<=MOD($W39,18))-INT($W39/18)","v":3},3,4,4,3,5,4,6,36,69,7]
["19 Aug 13 - Rose Cup Qualifier",null,null,null,null,null,null,null,null,null,0,null,null,null,null,null,null,null,null,null,0,0]
["NET",null,null,null,null,null,null,null,null,null,0,null,null,null,null,null,null,null,null,null,0,0]
["20 Aug 29 - Day on the Oaks 6",null,null,null,null,null,null,null,null,null,0,null,null,null,null,null,null,null,null,null,0,0]
["NET",null,null,null,null,null,null,null,null,null,0,null,null,null,null,null,null,null,null,null,0,0]
["21 Sep 3 - Labor Day",null,null,null,null,null,null,null,null,null,0,null,null,null,null,null,null,null,null,null,0,0]
["NET",null,null,null,null,null,null,null,null,null,0,null,null,null,null,null,null,null,null,null,0,0]
["22 Oct 21 - Past Presidents",null,null,null,null,null,null,null,null,null,0,null,null,null,null,null,null,null,null,null,0,0]
["NET",null,null,null,null,null,null,null,null,null,0,null,null,null,null,null,null,null,null,null,0,0]
["23 Nov 12 - Turkey Shoot",null,null,null,null,null,null,null,null,null,0,null,null,null,null,null,null,null,null,null,0,0]
["NET",null,null,null,null,null,null,null,null,null,0,null,null,null,null,null,null,null,null,null,0,0]
["24 Dec 2 - Eclectic Final ",null,null,null,null,null,null,null,null,null,0,null,null,null,null,null,null,null,null,null,0,0]
["NET",null,null,null,null,null,null,null,null,null,0,null,null,null,null,null,null,null,null,null,0,0]
[null,null,null,null,null,null,null,null,null,null,0,null,null,null,null,null,null,null,null,null,0,0]
[null,null,null,null,null,null,null,null,null,null,0,null,null,null,null,null,null,null,null,null,0,0]
[]
["Low Gross Score",{"$f":"MIN(B6,B8,B10,B12,B14,B16,B18,B20,B22,B24,B26,B28,B30,32,B34,B36,B38,B40,B42,B44,B46,B48,B50,B52)","v":3},{"$f":"MIN(C6,C8,C10,C12,C14,C16,C18,C20,C22,C24,C26,C28,C30,32,C34,C36,C38,C40,C42,C44,C46,C48,C50,C52)","v":4},2,4,2,5,4,4,4,{"$f":"SUM(B55:J55)","v":32},{"$f":"MIN(L6,L8,L10,L12,L14,L16,L18,L20,L22,L24,L26,L28,L30,32,L34,L36,L38,L40,L42,L44,L46,L48,L50,L52)","v":4},4,2,4,4,3,4,4,4,{"$f":"SUM(L55:T55)","v":33},{"$f":"SUM(K55+U55)","v":65}]
["Low Net Score",{"$f":"MIN(B7,B9,B11,B13,B15,B17,B19,B21,B23,B25,B27,B29,B31,B33,B35,B37,B39,B41,B43,B45,B47,B49,B51,B53)","v":2},{"$f":"MIN(C7,C9,C11,C13,C15,C17,C19, C21,C23,C25,C27,C29,C31,C33,C35,C37,C39,C41,C43,C45,C47,C49,C51,C53)","v":4},2,3,2,5,3,4,3,28,{"$f":"MIN(L7,L9,L11,L13,L15,L17,L19, L21,L23,L25,L27,L29,L31,L33,L35,L37,L39,L41,L43,L45,L47,L49,L51,L53)","v":4},2,2,3,4,2,4,4,3,28,56]

{"sheet":"HARRIS, SEAN","index":18,"n_rows":56,"n_cols":24,"rows_kept":56,"cut":false,"hidden":false,"merged":[]}
[]
["HARRIS, SEAN",null,null,null,null,null,null,null,null,null,null,null,null,null,null,null,null,null,null,null,null,null,"HANDICAP"]
["HOLE",1,2,3,4,5,6,7,8,9,"OUT",10,11,12,13,14,15,16,17,18,"IN","TOTAL"]
["HANDICAP",8,14,18,6,16,10,4,12,2,null,9,5,17,3,15,7,13,11,1]
["PAR",4,5,3,4,3,5,4,4,4,36,5,4,3,4,4,3,5,4,4,36,72]
["1 Jan 28 - NCGA 4-Ball",5,5,4,5,4,4,5,3,5,{"$f":"SUM(B6:J6)","v":40},4,4,4,4,5,3,4,4,4,{"$f":"SUM(L6:T6)","v":36},{"$f":"SUM(K6+U6)","v":76}]
["NET",{"$f":"B6-(B$4<=MOD($W7,18))-INT($W7/18)","v":5},{"$f":"C6-(C$4<=MOD($W7,18))-INT($W7/18)","v":5},4,5,4,4,5,3,5,40,{"$f":"L6-(L$4<=MOD($W7,18))-INT($W7/18)","v":4},4,4,4,5,3,4,4,3,35,75,1]
["2 Feb 11 - Super Bowl",5,5,3,7,4,6,4,4,6,44,5,5,4,4,4,4,5,4,6,41,85]
["NET",{"$f":"B8-(B$4<=MOD($W9,18))-INT($W9/18)","v":5},{"$f":"C8-(C$4<=MOD($W9,18))-INT($W9/18)","v":5},3,7,4,6,4,4,6,44,{"$f":"L8-(L$4<=MOD($W9,18))-INT($W9/18)","v":5},{"$f":"M8-(M$4<=MOD($W9,18))-INT($W9/18)","v":5},4,4,4,4,5,4,5,40,84,1]
["3 Feb 26 - Modified Stableford",4,7,4,4,4,6,4,4,5,42,5,4,3,5,5,4,8,3,5,42,84]
["NET",{"$f":"B10-(B$4<=MOD($W11,18))-INT($W11/18)","v":4},7,4,4,4,6,4,4,5,42,{"$f":"L10-(L$4<=MOD($W11,18))-INT($W11/18)","v":5},{"$f":"M10-(M$4<=MOD($W11,18))-INT($W11/18)","v":4},3,5,5,4,8,3,4,41,83,1]
["4 Mar 25 - Zone Qualifier Rd 1",null,null,null,null,null,null,null,null,null,0,null,null,null,null,null,null,null,null,null,0,0]
["NET",null,null,null,null,null,null,null,null,null,0,null,null,null,null,null,null,null,null,null,0,0,null," "]
["5 Mar 26 - Zone Qualifier Rd 2",null,null,null,null,null,null,null,null,null,0,null,null,null,null,null,null,null,null,null,0,0]
["NET",null,null,null,null,null,null,null,null,null,0,null,null,null,null,null,null,null,null,null,0,0]
["6 Apr 8 - RGC Masters",3,5,4,4,3,5,4,3,4,35,5,4,3,5,3,3,5,4,4,36,71]
["NET",{"$f":"B16-(B$4<=MOD($W17,18))-INT($W17/18)","v":3},{"$f":"C16-(C$4<=MOD($W17,18))-INT($W17/18)","v":5},4,4,3,5,4,3,4,35,{"$f":"L16-(L$4<=MOD($W17,18))-INT($W17/18)","v":5},{"$f":"M16-(M$4<=MOD($W17,18))-INT($W17/18)","v":4},3,5,3,3,5,4,3,35,70,1]
["7 Apr 11 - Day on the Oaks 1",null,null,null,null,null,null,null,null,null,0,null,null,null,null,null,null,null,null,null,0,0]
["NET",null,null,null,null,null,null,null,null,null,0,null,null,null,null,null,null,null,null,null,0,0]
["8 Apr 15 - 54 Hole Individual Rd 1",null,null,null,null,null,null,null,null,null,0,null,null,null,null,null,null,null,null,null,0,0]
["NET",null,null,null,null,null,null,null,null,null,0,null,null,null,null,null,null,null,null,null,0,0]
["9 Apr 16 - 54 Hole Individual Rd 2",null,null,null,null,null,null,null,null,null,0,null,null,null,null,null,null,null,null,null,0,0]
["NET",null,null,null,null,null,null,null,null,null,0,null,null,null,null,null,null,null,null,null,0,0]
["10 Apr 22 - 54 Hole Individual Rd 3",null,null,null,null,null,null,null,null,null,0,null,null,null,null,null,null,null,null,null,0,0]
["NET",null,null,null,null,null,null,null,null,null,0,null,null,null,null,null,null,null,null,null,0,0]
["11 May 7 - Senior 4-Ball Qualifier",null,null,null,null,null,null,null,null,null,0,null,null,null,null,null,null,null,null,null,0,0]
["NET",null,null,null,null,null,null,null,null,null,0,null,null,null,null,null,null,null,null,null,0,0]
["12 May 16 - Day on the Oaks 2",null,null,null,null,null,null,null,null,null,0,null,null,null,null,null,null,null,null,null,0,0]
["NET",null,null,null,null,null,null,null,null,null,0,null,null,null,null,null,null,null,null,null,0,0]
["13 May 28 - Memorial",4,5,3,4,4,6,7,4,4,41,5,4,3,6,5,4,5,5,5,42,83]
["NET",{"$f":"B30-(B$4<=MOD($W31,18))-INT($W31/18)","v":4},{"$f":"C30-(C$4<=MOD($W31,18))-INT($W31/18)","v":5},3,4,4,6,7,4,4,41,{"$f":"L30-(L$4<=MOD($W31,18))-INT($W31/18)","v":5},{"$f":"M30-(M$4<=MOD($W31,18))-INT($W31/18)","v":4},3,6,5,4,5,5,5,42,83,0]
["14 Jun 10 - 54 Hole Team Rd 1",null,null,null,null,null,null,null,null,null,0,null,null,null,null,null,null,null,null,null,0,0]
["NET",null,null,null,null,null,null,null,null,null,0,null,null,null,null,null,null,null,null,null,0,0]
["15 Jun 27 - Day on the Oaks 3",null,null,null,null,null,null,null,null,null,0,null,null,null,null,null,null,null,null,null,0,0]
["NET",null,null,null,null,null,null,null,null,null,0,null,null,null,null,null,null,null,null,null,0,0]
["17 Jul 11 - Day on the Oaks 4",null,null,null,null,null,null,null,null,null,0,null,null,null,null,null,null,null,null,null,0,0]
["NET",null,null,null,null,null,null,null,null,null,0,null,null,null,null,null,null,null,null,null,0,0]
["18 Aug 1 - Day on the Oaks 5",null,null,null,null,null,null,null,null,null,0,null,null,null,null,null,null,null,null,null,0,0]
["NET",null,null,null,null,null,null,null,null,null,0,null,null,null,null,null,null,null,null,null,0,0]
["19 Aug 13 - Rose Cup Qualifier",null,null,null,null,null,null,null,null,null,0,null,null,null,null,null,null,null,null,null,0,0]
["NET",null,null,null,null,null,null,null,null,null,0,null,null,null,null,null,null,null,null,null,0,0]
["20 Aug 29 - Day on the Oaks 6",null,null,null,null,null,null,null,null,null,0,null,null,null,null,null,null,null,null,null,0,0]
["NET",null,null,null,null,null,null,null,null,null,0,null,null,null,null,null,null,null,null,null,0,0]
["21 Sep 3 - Labor Day",null,null,null,null,null,null,null,null,null,0,null,null,null,null,null,null,null,null,null,0,0]
["NET",null,null,null,null,null,null,null,null,null,0,null,null,null,null,null,null,null,null,null,0,0]
["22 Oct 21 - Past Presidents",null,null,null,null,null,null,null,null,null,0,null,null,null,null,null,null,null,null,null,0,0]
["NET",null,null,null,null,null,null,null,null,null,0,null,null,null,null,null,null,null,null,null,0,0]
["23 Nov 12 - Turkey Shoot",null,null,null,null,null,null,null,null,null,0,null,null,null,null,null,null,null,null,null,0,0]
["NET",null,null,null,null,null,null,null,null,null,0,null,null,null,null,null,null,null,null,null,0,0]
["24 Dec 2 - Eclectic Final ",null,null,null,null,null,null,null,null,null,0,null,null,null,null,null,null,null,null,null,0,0]
["NET",null,null,null,null,null,null,null,null,null,0,null,null,null,null,null,null,null,null,null,0,0]
[null,null,null,null,null,null,null,null,null,null,0,null,null,null,null,null,null,null,null,null,0,0]
[null,null,null,null,null,null,null,null,null,null,0,null,null,null,null,null,null,null,null,null,0,0]
[]
["Low Gross Score",{"$f":"MIN(B6,B8,B10,B12,B14,B16,B18,B20,B22,B24,B26,B28,B30,32,B34,B36,B38,B40,B42,B44,B46,B48,B50,B52)","v":3},{"$f":"MIN(C6,C8,C10,C12,C14,C16,C18,C20,C22,C24,C26,C28,C30,32,C34,C36,C38,C40,C42,C44,C46,C48,C50,C52)","v":5},3,4,3,4,4,3,4,{"$f":"SUM(B55:J55)","v":33},{"$f":"MIN(L6,L8,L10,L12,L14,L16,L18,L20,L22,L24,L26,L28,L30,32,L34,L36,L38,L40,L42,L44,L46,L48,L50,L52)","v":4},4,3,4,3,3,4,3,4,{"$f":"SUM(L55:T55)","v":32},{"$f":"SUM(K55+U55)","v":65}]
["Low Net Score",{"$f":"MIN(B7,B9,B11,B13,B15,B17,B19,B21,B23,B25,B27,B29,B31,B33,B35,B37,B39,B41,B43,B45,B47,B49,B51,B53)","v":3},{"$f":"MIN(C7,C9,C11,C13,C15,C17,C19, C21,C23,C25,C27,C29,C31,C33,C35,C37,C39,C41,C43,C45,C47,C49,C51,C53)","v":5},3,4,3,4,4,3,4,33,{"$f":"MIN(L7,L9,L11,L13,L15,L17,L19, L21,L23,L25,L27,L29,L31,L33,L35,L37,L39,L41,L43,L45,L47,L49,L51,L53)","v":4},4,3,4,3,3,4,3,3,31,64]

{"sheet":"HIETT, STEVE","index":19,"n_rows":56,"n_cols":23,"rows_kept":56,"cut":false,"hidden":false,"merged":[]}
[]
["HIETT, STEVE",null,null,null,null,null,null,null,null,null,null,null,null,null,null,null,null,null,null,null,null,null,"HANDICAP"]
["HOLE",1,2,3,4,5,6,7,8,9,"OUT",10,11,12,13,14,15,16,17,18,"IN","TOTAL"]
["HANDICAP",8,14,18,6,16,10,4,12,2,null,9,5,17,3,15,7,13,11,1]
["PAR",4,5,3,4,3,5,4,4,4,36,5,4,3,4,4,3,5,4,4,36,72]
["1 Jan 28 - NCGA 4-Ball",4,4,3,6,4,6,6,4,5,{"$f":"SUM(B6:J6)","v":42},5,4,3,4,6,4,7,5,4,{"$f":"SUM(L6:T6)","v":42},{"$f":"SUM(K6+U6)","v":84}]
["NET",{"$f":"B6-(B$4<=MOD($W7,18))-INT($W7/18)","v":4},{"$f":"C6-(C$4<=MOD($W7,18))-INT($W7/18)","v":4},4,6,4,6,6,4,5,43,{"$f":"L6-(L$4<=MOD($W7,18))-INT($W7/18)","v":5},4,3,4,6,4,7,5,4,42,85,-1]
["2 Feb 11 - Super Bowl",4,5,3,6,3,5,3,5,5,39,5,6,3,5,7,4,6,4,5,45,84]
["NET",{"$f":"B8-(B$4<=MOD($W9,18))-INT($W9/18)","v":4},{"$f":"C8-(C$4<=MOD($W9,18))-INT($W9/18)","v":5},3,6,3,5,3,5,5,39,{"$f":"L8-(L$4<=MOD($W9,18))-INT($W9/18)","v":5},{"$f":"M8-(M$4<=MOD($W9,18))-INT($W9/18)","v":6},3,5,7,4,6,4,4,44,83,1]
["3 Feb 26 - Modified Stableford",5,5,4,5,3,5,5,5,5,42,5,5,4,5,6,5,7,4,5,46,88]
["NET",{"$f":"B10-(B$4<=MOD($W11,18))-INT($W11/18)","v":5},5,4,5,3,5,5,5,5,42,{"$f":"L10-(L$4<=MOD($W11,18))-INT($W11/18)","v":5},{"$f":"M10-(M$4<=MOD($W11,18))-INT($W11/18)","v":5},4,5,6,5,7,4,4,45,87,1]
["4 Mar 25 - Zone Qualifier Rd 1",4,5,4,7,3,6,3,4,4,40,6,6,4,4,5,4,5,4,5,43,83]
["NET",{"$f":"B12-(B$4<=MOD($W13,18))-INT($W13/18)","v":4},5,4,7,3,6,3,4,4,40,{"$f":"L12-(L$4<=MOD($W13,18))-INT($W13/18)","v":6},{"$f":"M12-(M$4<=MOD($W13,18))-INT($W13/18)","v":6},4,4,5,4,5,4,4,42,82,1]
["5 Mar 26 - Zone Qualifier Rd 2",4,7,2,4,4,5,4,4,4,38,5,4,3,4,5,4,5,4,6,40,78]
["NET",{"$f":"B14-(B$4<=MOD($W15,18))-INT($W15/18)","v":4},7,2,4,4,5,4,4,4,38,{"$f":"L14-(L$4<=MOD($W15,18))-INT($W15/18)","v":5},{"$f":"M14-(M$4<=MOD($W15,18))-INT($W15/18)","v":4},3,4,5,4,5,4,5,39,77,1]
["6 Apr 8 - RGC Masters",3,4,5,4,4,5,5,5,6,41,5,3,3,6,3,2,4,3,4,33,74]
["NET",{"$f":"B16-(B$4<=MOD($W17,18))-INT($W17/18)","v":3},4,5,4,4,5,5,5,6,41,{"$f":"L16-(L$4<=MOD($W17,18))-INT($W17/18)","v":5},{"$f":"M16-(M$4<=MOD($W17,18))-INT($W17/18)","v":3},3,6,3,2,4,3,3,32,73,1]
["7 Apr 11 - Day on the Oaks 1",null,null,null,null,null,null,null,null,null,0,null,null,null,null,null,null,null,null,null,0,0]
["NET",null,null,null,null,null,null,null,null,null,0,null,null,null,null,null,null,null,null,null,0,0]
["8 Apr 15 - 54 Hole Individual Rd 1",6,5,3,4,4,5,4,5,4,40,5,4,3,5,4,4,5,4,4,38,78]
["NET",{"$f":"B20-(B$4<=MOD($W21,18))-INT($W21/18)","v":6},{"$f":"C20-(C$4<=MOD($W21,18))-INT($W21/18)","v":5},3,4,4,5,4,5,4,40,{"$f":"L20-(L$4<=MOD($W21,18))-INT($W21/18)","v":5},{"$f":"M20-(M$4<=MOD($W21,18))-INT($W21/18)","v":4},3,5,4,4,5,4,3,37,77,1]
["9 Apr 16 - 54 Hole Individual Rd 2",4,5,3,5,4,5,6,5,4,41,3,4,4,5,4,3,5,4,5,37,78]
["NET",{"$f":"B22-(B$4<=MOD($W23,18))-INT($W23/18)","v":4},{"$f":"C22-(C$4<=MOD($W23,18))-INT($W23/18)","v":5},3,5,4,5,6,5,4,41,{"$f":"L22-(L$4<=MOD($W23,18))-INT($W23/18)","v":3},{"$f":"M22-(M$4<=MOD($W23,18))-INT($W23/18)","v":4},4,5,4,3,5,4,4,36,77,1]
["10 Apr 22 - 54 Hole Individual Rd 3",4,5,3,3,3,5,4,4,4,35,5,4,5,4,6,4,4,4,4,40,75]
["NET",{"$f":"B24-(B$4<=MOD($W25,18))-INT($W25/18)","v":4},{"$f":"C24-(C$4<=MOD($W25,18))-INT($W25/18)","v":5},3,3,3,5,4,4,4,35,{"$f":"L24-(L$4<=MOD($W25,18))-INT($W25/18)","v":5},{"$f":"M24-(M$4<=MOD($W25,18))-INT($W25/18)","v":4},5,4,6,4,4,4,3,39,74,1]
["11 May 7 - Senior 4-Ball Qualifier",5,5,4,3,4,5,4,5,5,40,5,5,4,5,4,3,5,4,4,39,79]
["NET",{"$f":"B26-(B$4<=MOD($W27,18))-INT($W27/18)","v":5},5,4,3,4,5,4,5,5,40,{"$f":"L26-(L$4<=MOD($W27,18))-INT($W27/18)","v":5},{"$f":"M26-(M$4<=MOD($W27,18))-INT($W27/18)","v":5},4,5,4,3,5,4,4,39,79,0]
["12 May 16 - Day on the Oaks 2",null,null,null,null,null,null,null,null,null,0,null,null,null,null,null,null,null,null,null,0,0]
["NET",null,null,null,null,null,null,null,null,null,0,null,null,null,null,null,null,null,null,null,0,0]
["13 May 28 - Memorial",6,8,4,3,3,5,4,3,4,40,5,6,3,4,5,3,5,4,4,39,79]
["NET",{"$f":"B30-(B$4<=MOD($W31,18))-INT($W31/18)","v":6},{"$f":"C30-(C$4<=MOD($W31,18))-INT($W31/18)","v":8},4,3,3,5,4,3,3,39,{"$f":"L30-(L$4<=MOD($W31,18))-INT($W31/18)","v":5},{"$f":"M30-(M$4<=MOD($W31,18))-INT($W31/18)","v":6},3,4,5,3,5,4,3,38,77,2]
["14 Jun 10 - 54 Hole Team Rd 1",5,4,2,4,3,4,3,5,6,36,4,5,2,5,4,4,4,4,4,36,72]
["NET",{"$f":"B32-(B$4<=MOD($W33,18))-INT($W33/18)","v":5},4,2,4,3,4,3,5,5,35,{"$f":"L32-(L$4<=MOD($W33,18))-INT($W33/18)","v":4},{"$f":"M32-(M$4<=MOD($W33,18))-INT($W33/18)","v":5},2,5,4,4,4,4,3,35,70,2]
["15 Jun 27 - Day on the Oaks 3",null,null,null,null,null,null,null,null,null,0,null,null,null,null,null,null,null,null,null,0,0]
["NET",null,null,null,null,null,null,null,null,null,0,null,null,null,null,null,null,null,null,null,0,0]
["17 Jul 11 - Day on the Oaks 4",null,null,null,null,null,null,null,null,null,0,null,null,null,null,null,null,null,null,null,0,0]
["NET",null,null,null,null,null,null,null,null,null,0,null,null,null,null,null,null,null,null,null,0,0]
["18 Aug 1 - Day on the Oaks 5",4,6,4,5,3,5,5,4,4,40,5,4,3,4,2,3,4,4,3,32,72]
["NET",{"$f":"B38-(B$4<=MOD($W39,18))-INT($W39/18)","v":4},{"$f":"C38-(C$4<=MOD($W39,18))-INT($W39/18)","v":6},4,5,3,5,5,4,4,40,{"$f":"L38-(L$4<=MOD($W39,18))-INT($W39/18)","v":5},{"$f":"M38-(M$4<=MOD($W39,18))-INT($W39/18)","v":4},3,4,2,3,4,4,2,31,71,1]
["19 Aug 13 - Rose Cup Qualifier",null,null,null,null,null,null,null,null,null,0,null,null,null,null,null,null,null,null,null,0,0]
["NET",null,null,null,null,null,null,null,null,null,0,null,null,null,null,null,null,null,null,null,0,0]
["20 Aug 29 - Day on the Oaks 6",null,null,null,null,null,null,null,null,null,0,null,null,null,null,null,null,null,null,null,0,0]
["NET",null,null,null,null,null,null,null,null,null,0,null,null,null,null,null,null,null,null,null,0,0]
["21 Sep 3 - Labor Day",null,null,null,null,null,null,null,null,null,0,null,null,null,null,null,null,null,null,null,0,0]
["NET",null,null,null,null,null,null,null,null,null,0,null,null,null,null,null,null,null,null,null,0,0]
["22 Oct 21 - Past Presidents",null,null,null,null,null,null,null,null,null,0,null,null,null,null,null,null,null,null,null,0,0]
["NET",null,null,null,null,null,null,null,null,null,0,null,null,null,null,null,null,null,null,null,0,0]
["23 Nov 12 - Turkey Shoot",null,null,null,null,null,null,null,null,null,0,null,null,null,null,null,null,null,null,null,0,0]
["NET",null,null,null,null,null,null,null,null,null,0,null,null,null,null,null,null,null,null,null,0,0]
["24 Dec 2 - Eclectic Final ",null,null,null,null,null,null,null,null,null,0,null,null,null,null,null,null,null,null,null,0,0]
["NET",null,null,null,null,null,null,null,null,null,0,null,null,null,null,null,null,null,null,null,0,0]
[null,null,null,null,null,null,null,null,null,null,0,null,null,null,null,null,null,null,null,null,0,0]
[null,null,null,null,null,null,null,null,null,null,0,null,null,null,null,null,null,null,null,null,0,0]
[]
["Low Gross Score",{"$f":"MIN(B6,B8,B10,B12,B14,B16,B18,B20,B22,B24,B26,B28,B30,32,B34,B36,B38,B40,B42,B44,B46,B48,B50,B52)","v":3},{"$f":"MIN(C6,C8,C10,C12,C14,C16,C18,C20,C22,C24,C26,C28,C30,32,C34,C36,C38,C40,C42,C44,C46,C48,C50,C52)","v":4},2,3,3,5,3,3,4,{"$f":"SUM(B55:J55)","v":30},{"$f":"MIN(L6,L8,L10,L12,L14,L16,L18,L20,L22,L24,L26,L28,L30,32,L34,L36,L38,L40,L42,L44,L46,L48,L50,L52)","v":3},3,3,4,2,2,4,3,3,{"$f":"SUM(L55:T55)","v":27},{"$f":"SUM(K55+U55)","v":57}]
["Low Net Score",{"$f":"MIN(B7,B9,B11,B13,B15,B17,B19,B21,B23,B25,B27,B29,B31,B33,B35,B37,B39,B41,B43,B45,B47,B49,B51,B53)","v":3},{"$f":"MIN(C7,C9,C11,C13,C15,C17,C19, C21,C23,C25,C27,C29,C31,C33,C35,C37,C39,C41,C43,C45,C47,C49,C51,C53)","v":4},2,3,3,4,3,3,3,28,{"$f":"MIN(L7,L9,L11,L13,L15,L17,L19, L21,L23,L25,L27,L29,L31,L33,L35,L37,L39,L41,L43,L45,L47,L49,L51,L53)","v":3},3,2,4,2,2,4,3,2,25,53]

{"sheet":"HOWARD, TIM","index":20,"n_rows":56,"n_cols":23,"rows_kept":56,"cut":false,"hidden":false,"merged":[]}
[]
["HOWARD, TIM",null,null,null,null,null,null,null,null,null,null,null,null,null,null,null,null,null,null,null,null,null,"HANDICAP"]
["HOLE",1,2,3,4,5,6,7,8,9,"OUT",10,11,12,13,14,15,16,17,18,"IN","TOTAL"]
["HANDICAP",8,14,18,6,16,10,4,12,2,null,9,5,17,3,15,7,13,11,1]
["PAR",4,5,3,4,3,5,4,4,4,36,5,4,3,4,4,3,5,4,4,36,72]
["1 Jan 28 - NCGA 4-Ball",null,null,null,null,null,null,null,null,null,{"$f":"SUM(B6:J6)","v":0},null,null,null,null,null,null,null,null,null,{"$f":"SUM(L6:T6)","v":0},{"$f":"SUM(K6+U6)","v":0}]
["NET",null,null,null,null,null,null,null,null,null,0,null,null,null,null,null,null,null,null,null,0,0]
["2 Feb 11 - Super Bowl",4,8,4,5,4,5,6,5,5,46,5,6,5,5,5,4,5,5,5,45,91]
["NET",{"$f":"B8-(B$4<=MOD($W9,18))-INT($W9/18)","v":3},{"$f":"C8-(C$4<=MOD($W9,18))-INT($W9/18)","v":7},4,4,4,4,5,4,4,39,{"$f":"L8-(L$4<=MOD($W9,18))-INT($W9/18)","v":4},{"$f":"M8-(M$4<=MOD($W9,18))-INT($W9/18)","v":5},5,4,4,3,4,4,4,37,76,15]
["3 Feb 26 - Modified Stableford",6,5,4,6,4,7,6,5,5,48,5,5,4,8,5,5,6,6,6,50,98]
["NET",{"$f":"B10-(B$4<=MOD($W11,18))-INT($W11/18)","v":5},4,4,5,4,6,5,4,4,41,{"$f":"L10-(L$4<=MOD($W11,18))-INT($W11/18)","v":4},{"$f":"M10-(M$4<=MOD($W11,18))-INT($W11/18)","v":4},4,7,4,4,5,5,5,42,83,15]
["4 Mar 25 - Zone Qualifier Rd 1",4,8,3,6,6,8,6,8,5,54,5,5,2,5,5,6,5,7,5,45,99]
["NET",{"$f":"B12-(B$4<=MOD($W13,18))-INT($W13/18)","v":3},7,3,5,6,7,5,7,4,47,{"$f":"L12-(L$4<=MOD($W13,18))-INT($W13/18)","v":4},{"$f":"M12-(M$4<=MOD($W13,18))-INT($W13/18)","v":4},2,4,4,5,4,6,4,37,84,15]
["5 Mar 26 - Zone Qualifier Rd 2",5,6,3,4,3,6,6,5,4,42,6,6,4,5,5,3,5,5,5,44,86]
["NET",{"$f":"B14-(B$4<=MOD($W15,18))-INT($W15/18)","v":4},5,3,3,3,5,5,4,3,35,{"$f":"L14-(L$4<=MOD($W15,18))-INT($W15/18)","v":5},{"$f":"M14-(M$4<=MOD($W15,18))-INT($W15/18)","v":5},4,4,4,2,4,4,4,36,71,15]
["6 Apr 8 - RGC Masters",7,5,3,5,4,5,4,5,5,43,4,4,3,5,6,3,7,4,6,42,85]
["NET",{"$f":"B16-(B$4<=MOD($W17,18))-INT($W17/18)","v":6},4,3,4,4,4,3,4,4,36,{"$f":"L16-(L$4<=MOD($W17,18))-INT($W17/18)","v":3},{"$f":"M16-(M$4<=MOD($W17,18))-INT($W17/18)","v":3},3,4,5,2,6,3,5,34,70,15]
["7 Apr 11 - Day on the Oaks 1",null,null,null,null,null,null,null,null,null,0,null,null,null,null,null,null,null,null,null,0,0]
["NET",null,null,null,null,null,null,null,null,null,0,null,null,null,null,null,null,null,null,null,0,0]
["8 Apr 15 - 54 Hole Individual Rd 1",7,8,3,7,4,6,6,4,5,50,6,5,4,5,4,4,5,4,5,42,92]
["NET",{"$f":"B20-(B$4<=MOD($W21,18))-INT($W21/18)","v":6},{"$f":"C20-(C$4<=MOD($W21,18))-INT($W21/18)","v":7},3,6,4,5,5,3,4,43,{"$f":"L20-(L$4<=MOD($W21,18))-INT($W21/18)","v":5},{"$f":"M20-(M$4<=MOD($W21,18))-INT($W21/18)","v":4},4,4,4,3,4,3,4,35,78,14]
["9 Apr 16 - 54 Hole Individual Rd 2",6,6,3,7,3,5,6,5,5,46,6,5,5,5,4,4,5,4,6,44,90]
["NET",{"$f":"B22-(B$4<=MOD($W23,18))-INT($W23/18)","v":5},{"$f":"C22-(C$4<=MOD($W23,18))-INT($W23/18)","v":5},3,6,3,4,5,4,4,39,{"$f":"L22-(L$4<=MOD($W23,18))-INT($W23/18)","v":5},{"$f":"M22-(M$4<=MOD($W23,18))-INT($W23/18)","v":4},5,4,4,3,4,3,5,37,76,14]
["10 Apr 22 - 54 Hole Individual Rd 3",4,4,4,5,4,4,4,6,5,40,6,4,3,4,4,4,5,3,4,37,77]
["NET",{"$f":"B24-(B$4<=MOD($W25,18))-INT($W25/18)","v":3},{"$f":"C24-(C$4<=MOD($W25,18))-INT($W25/18)","v":3},4,4,4,3,3,5,4,33,{"$f":"L24-(L$4<=MOD($W25,18))-INT($W25/18)","v":5},{"$f":"M24-(M$4<=MOD($W25,18))-INT($W25/18)","v":3},3,3,4,3,4,2,3,30,63,14]
["11 May 7 - Senior 4-Ball Qualifier",6,6,3,4,3,6,5,4,6,43,5,5,3,5,4,4,6,5,6,43,86]
["NET",{"$f":"B26-(B$4<=MOD($W27,18))-INT($W27/18)","v":5},6,3,3,3,6,4,4,5,39,{"$f":"L26-(L$4<=MOD($W27,18))-INT($W27/18)","v":5},{"$f":"M26-(M$4<=MOD($W27,18))-INT($W27/18)","v":4},3,4,4,3,6,5,5,39,78,8]
["12 May 16 - Day on the Oaks 2",null,null,null,null,null,null,null,null,null,0,null,null,null,null,null,null,null,null,null,0,0]
["NET",null,null,null,null,null,null,null,null,null,0,null,null,null,null,null,null,null,null,null,0,0]
["13 May 28 - Memorial",4,5,3,5,4,5,5,4,5,40,6,5,3,5,6,3,5,4,5,42,82]
["NET",{"$f":"B30-(B$4<=MOD($W31,18))-INT($W31/18)","v":3},{"$f":"C30-(C$4<=MOD($W31,18))-INT($W31/18)","v":5},3,4,4,4,4,4,4,35,{"$f":"L30-(L$4<=MOD($W31,18))-INT($W31/18)","v":5},{"$f":"M30-(M$4<=MOD($W31,18))-INT($W31/18)","v":4},3,4,6,2,5,4,4,37,72,10]
["14 Jun 10 - 54 Hole Team Rd 1",5,6,4,7,3,5,5,4,5,44,6,6,3,6,5,4,5,6,5,46,90]
["NET",{"$f":"B32-(B$4<=MOD($W33,18))-INT($W33/18)","v":4},6,4,6,3,5,4,4,4,40,{"$f":"L32-(L$4<=MOD($W33,18))-INT($W33/18)","v":6},{"$f":"M32-(M$4<=MOD($W33,18))-INT($W33/18)","v":5},3,5,5,3,5,6,4,42,82,8]
["15 Jun 27 - Day on the Oaks 3",null,null,null,null,null,null,null,null,null,0,null,null,null,null,null,null,null,null,null,0,0]
["NET",null,null,null,null,null,null,null,null,null,0,null,null,null,null,null,null,null,null,null,0,0]
["17 Jul 11 - Day on the Oaks 4",null,null,null,null,null,null,null,null,null,0,null,null,null,null,null,null,null,null,null,0,0]
["NET",null,null,null,null,null,null,null,null,null,0,null,null,null,null,null,null,null,null,null,0,0]
["18 Aug 1 - Day on the Oaks 5",null,null,null,null,null,null,null,null,null,0,null,null,null,null,null,null,null,null,null,0,0]
["NET",null,null,null,null,null,null,null,null,null,0,null,null,null,null,null,null,null,null,null,0,0]
["19 Aug 13 - Rose Cup Qualifier",null,null,null,null,null,null,null,null,null,0,null,null,null,null,null,null,null,null,null,0,0]
["NET",null,null,null,null,null,null,null,null,null,0,null,null,null,null,null,null,null,null,null,0,0]
["20 Aug 29 - Day on the Oaks 6",null,null,null,null,null,null,null,null,null,0,null,null,null,null,null,null,null,null,null,0,0]
["NET",null,null,null,null,null,null,null,null,null,0,null,null,null,null,null,null,null,null,null,0,0]
["21 Sep 3 - Labor Day",null,null,null,null,null,null,null,null,null,0,null,null,null,null,null,null,null,null,null,0,0]
["NET",null,null,null,null,null,null,null,null,null,0,null,null,null,null,null,null,null,null,null,0,0]
["22 Oct 21 - Past Presidents",null,null,null,null,null,null,null,null,null,0,null,null,null,null,null,null,null,null,null,0,0]
["NET",null,null,null,null,null,null,null,null,null,0,null,null,null,null,null,null,null,null,null,0,0]
["23 Nov 12 - Turkey Shoot",null,null,null,null,null,null,null,null,null,0,null,null,null,null,null,null,null,null,null,0,0]
["NET",null,null,null,null,null,null,null,null,null,0,null,null,null,null,null,null,null,null,null,0,0]
["24 Dec 2 - Eclectic Final ",null,null,null,null,null,null,null,null,null,0,null,null,null,null,null,null,null,null,null,0,0]
["NET",null,null,null,null,null,null,null,null,null,0,null,null,null,null,null,null,null,null,null,0,0]
[null,null,null,null,null,null,null,null,null,null,0,null,null,null,null,null,null,null,null,null,0,0]
[null,null,null,null,null,null,null,null,null,null,0,null,null,null,null,null,null,null,null,null,0,0]
[]
["Low Gross Score",{"$f":"MIN(B6,B8,B10,B12,B14,B16,B18,B20,B22,B24,B26,B28,B30,32,B34,B36,B38,B40,B42,B44,B46,B48,B50,B52)","v":4},{"$f":"MIN(C6,C8,C10,C12,C14,C16,C18,C20,C22,C24,C26,C28,C30,32,C34,C36,C38,C40,C42,C44,C46,C48,C50,C52)","v":4},3,4,3,4,4,4,4,{"$f":"SUM(B55:J55)","v":34},{"$f":"MIN(L6,L8,L10,L12,L14,L16,L18,L20,L22,L24,L26,L28,L30,32,L34,L36,L38,L40,L42,L44,L46,L48,L50,L52)","v":4},4,2,4,4,3,5,3,4,{"$f":"SUM(L55:T55)","v":33},{"$f":"SUM(K55+U55)","v":67}]
["Low Net Score",{"$f":"MIN(B7,B9,B11,B13,B15,B17,B19,B21,B23,B25,B27,B29,B31,B33,B35,B37,B39,B41,B43,B45,B47,B49,B51,B53)","v":3},{"$f":"MIN(C7,C9,C11,C13,C15,C17,C19, C21,C23,C25,C27,C29,C31,C33,C35,C37,C39,C41,C43,C45,C47,C49,C51,C53)","v":3},3,3,3,3,3,3,3,27,{"$f":"MIN(L7,L9,L11,L13,L15,L17,L19, L21,L23,L25,L27,L29,L31,L33,L35,L37,L39,L41,L43,L45,L47,L49,L51,L53)","v":3},3,2,3,4,2,4,2,3,26,53]

{"sheet":"IRWIN, KEN","index":21,"n_rows":56,"n_cols":23,"rows_kept":56,"cut":false,"hidden":false,"merged":[]}
[]
["IRWIN, KEN",null,null,null,null,null,null,null,null,null,null,null,null,null,null,null,null,null,null,null,null,null,"HANDICAP"]
["HOLE",1,2,3,4,5,6,7,8,9,"OUT",10,11,12,13,14,15,16,17,18,"IN","TOTAL"]
["HANDICAP",8,14,18,6,16,10,4,12,2,null,9,5,17,3,15,7,13,11,1]
["PAR",4,5,3,4,3,5,4,4,4,36,5,4,3,4,4,3,5,4,4,36,72]
["1 Jan 28 - NCGA 4-Ball",null,null,null,null,null,null,null,null,null,{"$f":"SUM(B6:J6)","v":0},null,null,null,null,null,null,null,null,null,{"$f":"SUM(L6:T6)","v":0},{"$f":"SUM(K6+U6)","v":0}]
["NET",null,null,null,null,null,null,null,null,null,0,null,null,null,null,null,null,null,null,null,0,0]
["2 Feb 11 - Super Bowl",null,null,null,null,null,null,null,null,null,0,null,null,null,null,null,null,null,null,null,0,0]
["NET",null,null,null,null,null,null,null,null,null,0,null,null,null,null,null,null,null,null,null,0,0]
["3 Feb 26 - Modified Stableford",null,null,null,null,null,null,null,null,null,0,null,null,null,null,null,null,null,null,null,0,0]
["NET",null,null,null,null,null,null,null,null,null,0,null,null,null,null,null,null,null,null,null,0,0]
["4 Mar 25 - Zone Qualifier Rd 1",null,null,null,null,null,null,null,null,null,0,null,null,null,null,null,null,null,null,null,0,0]
["NET",null,null,null,null,null,null,null,null,null,0,null,null,null,null,null,null,null,null,null,0,0]
["5 Mar 26 - Zone Qualifier Rd 2",null,null,null,null,null,null,null,null,null,0,null,null,null,null,null,null,null,null,null,0,0]
["NET",null,null,null,null,null,null,null,null,null,0,null,null,null,null,null,null,null,null,null,0,0]
["6 Apr 8 - RGC Masters",null,null,null,null,null,null,null,null,null,0,null,null,null,null,null,null,null,null,null,0,0]
["NET",null,null,null,null,null,null,null,null,null,0,null,null,null,null,null,null,null,null,null,0,0]
["7 Apr 11 - Day on the Oaks 1",5,6,4,7,5,6,7,6,4,50,9,5,5,6,5,4,8,6,6,54,104]
["NET",{"$f":"B18-(B$4<=MOD($W19,18))-INT($W19/18)","v":4},{"$f":"C18-(C$4<=MOD($W19,18))-INT($W19/18)","v":6},4,6,5,5,6,6,3,45,{"$f":"L18-(L$4<=MOD($W19,18))-INT($W19/18)","v":8},{"$f":"M18-(M$4<=MOD($W19,18))-INT($W19/18)","v":4},5,5,5,3,8,5,5,48,93,11]
["8 Apr 15 - 54 Hole Individual Rd 1",null,null,null,null,null,null,null,null,null,0,null,null,null,null,null,null,null,null,null,0,0]
["NET",null,null,null,null,null,null,null,null,null,0,null,null,null,null,null,null,null,null,null,0,0]
["9 Apr 16 - 54 Hole Individual Rd 2",null,null,null,null,null,null,null,null,null,0,null,null,null,null,null,null,null,null,null,0,0]
["NET",null,null,null,null,null,null,null,null,null,0,null,null,null,null,null,null,null,null,null,0,0]
["10 Apr 22 - 54 Hole Individual Rd 3",null,null,null,null,null,null,null,null,null,0,null,null,null,null,null,null,null,null,null,0,0]
["NET",null,null,null,null,null,null,null,null,null,0,null,null,null,null,null,null,null,null,null,0,0]
["11 May 7 - Senior 4-Ball Qualifier",null,null,null,null,null,null,null,null,null,0,null,null,null,null,null,null,null,null,null,0,0]
["NET",null,null,null,null,null,null,null,null,null,0,null,null,null,null,null,null,null,null,null,0,0]
["12 May 16 - Day on the Oaks 2",null,null,null,null,null,null,null,null,null,0,null,null,null,null,null,null,null,null,null,0,0]
["NET",null,null,null,null,null,null,null,null,null,0,null,null,null,null,null,null,null,null,null,0,0]
["13 May 28 - Memorial",null,null,null,null,null,null,null,null,null,0,null,null,null,null,null,null,null,null,null,0,0]
["NET",null,null,null,null,null,null,null,null,null,0,null,null,null,null,null,null,null,null,null,0,0]
["14 Jun 10 - 54 Hole Team Rd 1",null,null,null,null,null,null,null,null,null,0,null,null,null,null,null,null,null,null,null,0,0]
["NET",null,null,null,null,null,null,null,null,null,0,null,null,null,null,null,null,null,null,null,0,0]
["15 Jun 27 - Day on the Oaks 3",null,null,null,null,null,null,null,null,null,0,null,null,null,null,null,null,null,null,null,0,0]
["NET",null,null,null,null,null,null,null,null,null,0,null,null,null,null,null,null,null,null,null,0,0]
["17 Jul 11 - Day on the Oaks 4",null,null,null,null,null,null,null,null,null,0,null,null,null,null,null,null,null,null,null,0,0]
["NET",null,null,null,null,null,null,null,null,null,0,null,null,null,null,null,null,null,null,null,0,0]
["18 Aug 1 - Day on the Oaks 5",null,null,null,null,null,null,null,null,null,0,null,null,null,null,null,null,null,null,null,0,0]
["NET",null,null,null,null,null,null,null,null,null,0,null,null,null,null,null,null,null,null,null,0,0]
["19 Aug 13 - Rose Cup Qualifier",null,null,null,null,null,null,null,null,null,0,null,null,null,null,null,null,null,null,null,0,0]
["NET",null,null,null,null,null,null,null,null,null,0,null,null,null,null,null,null,null,null,null,0,0]
["20 Aug 29 - Day on the Oaks 6",null,null,null,null,null,null,null,null,null,0,null,null,null,null,null,null,null,null,null,0,0]
["NET",null,null,null,null,null,null,null,null,null,0,null,null,null,null,null,null,null,null,null,0,0]
["21 Sep 3 - Labor Day",null,null,null,null,null,null,null,null,null,0,null,null,null,null,null,null,null,null,null,0,0]
["NET",null,null,null,null,null,null,null,null,null,0,null,null,null,null,null,null,null,null,null,0,0]
["22 Oct 21 - Past Presidents",null,null,null,null,null,null,null,null,null,0,null,null,null,null,null,null,null,null,null,0,0]
["NET",null,null,null,null,null,null,null,null,null,0,null,null,null,null,null,null,null,null,null,0,0]
["23 Nov 12 - Turkey Shoot",null,null,null,null,null,null,null,null,null,0,null,null,null,null,null,null,null,null,null,0,0]
["NET",null,null,null,null,null,null,null,null,null,0,null,null,null,null,null,null,null,null,null,0,0]
["24 Dec 2 - Eclectic Final ",null,null,null,null,null,null,null,null,null,0,null,null,null,null,null,null,null,null,null,0,0]
["NET",null,null,null,null,null,null,null,null,null,0,null,null,null,null,null,null,null,null,null,0,0]
[null,null,null,null,null,null,null,null,null,null,0,null,null,null,null,null,null,null,null,null,0,0]
[null,null,null,null,null,null,null,null,null,null,0,null,null,null,null,null,null,null,null,null,0,0]
[]
["Low Gross Score",{"$f":"MIN(B6,B8,B10,B12,B14,B16,B18,B20,B22,B24,B26,B28,B30,32,B34,B36,B38,B40,B42,B44,B46,B48,B50,B52)","v":5},{"$f":"MIN(C6,C8,C10,C12,C14,C16,C18,C20,C22,C24,C26,C28,C30,32,C34,C36,C38,C40,C42,C44,C46,C48,C50,C52)","v":6},4,7,5,6,7,6,4,{"$f":"SUM(B55:J55)","v":50},{"$f":"MIN(L6,L8,L10,L12,L14,L16,L18,L20,L22,L24,L26,L28,L30,32,L34,L36,L38,L40,L42,L44,L46,L48,L50,L52)","v":9},5,5,6,5,4,8,6,6,{"$f":"SUM(L55:T55)","v":54},{"$f":"SUM(K55+U55)","v":104}]
["Low Net Score",{"$f":"MIN(B7,B9,B11,B13,B15,B17,B19,B21,B23,B25,B27,B29,B31,B33,B35,B37,B39,B41,B43,B45,B47,B49,B51,B53)","v":4},{"$f":"MIN(C7,C9,C11,C13,C15,C17,C19, C21,C23,C25,C27,C29,C31,C33,C35,C37,C39,C41,C43,C45,C47,C49,C51,C53)","v":6},4,6,5,5,6,6,3,45,{"$f":"MIN(L7,L9,L11,L13,L15,L17,L19, L21,L23,L25,L27,L29,L31,L33,L35,L37,L39,L41,L43,L45,L47,L49,L51,L53)","v":8},4,5,5,5,3,8,5,5,48,93]

{"sheet":"JOHNSON, RICO","index":22,"n_rows":56,"n_cols":23,"rows_kept":56,"cut":false,"hidden":false,"merged":[]}
[]
["JOHNSON, RICO",null,null,null,null,null,null,null,null,null,null,null,null,null,null,null,null,null,null,null,null,null,"HANDICAP"]
["HOLE",1,2,3,4,5,6,7,8,9,"OUT",10,11,12,13,14,15,16,17,18,"IN","TOTAL"]
["HANDICAP",8,14,18,6,16,10,4,12,2,null,9,5,17,3,15,7,13,11,1]
["PAR",4,5,3,4,3,5,4,4,4,36,5,4,3,4,4,3,5,4,4,36,72]
["1 Jan 28 - NCGA 4-Ball",null,null,null,null,null,null,null,null,null,{"$f":"SUM(B6:J6)","v":0},null,null,null,null,null,null,null,null,null,{"$f":"SUM(L6:T6)","v":0},{"$f":"SUM(K6+U6)","v":0}]
["NET",null,null,null,null,null,null,null,null,null,0,null,null,null,null,null,null,null,null,null,0,0]
["2 Feb 11 - Super Bowl",3,5,3,5,3,5,4,4,5,37,5,5,3,4,3,4,6,4,6,40,77]
["NET",{"$f":"B8-(B$4<=MOD($W9,18))-INT($W9/18)","v":3},{"$f":"C8-(C$4<=MOD($W9,18))-INT($W9/18)","v":5},4,5,3,5,4,4,5,38,{"$f":"L8-(L$4<=MOD($W9,18))-INT($W9/18)","v":5},{"$f":"M8-(M$4<=MOD($W9,18))-INT($W9/18)","v":5},3,4,3,4,6,4,6,40,78,-1]
["3 Feb 26 - Modified Stableford",null,null,null,null,null,null,null,null,null,0,null,null,null,null,null,null,null,null,null,0,0]
["NET",null,null,null,null,null,null,null,null,null,0,null,null,null,null,null,null,null,null,null,0,0]
["4 Mar 25 - Zone Qualifier Rd 1",null,null,null,null,null,null,null,null,null,0,null,null,null,null,null,null,null,null,null,0,0]
["NET",null,null,null,null,null,null,null,null,null,0,null,null,null,null,null,null,null,null,null,0,0]
["5 Mar 26 - Zone Qualifier Rd 2",null,null,null,null,null,null,null,null,null,0,null,null,null,null,null,null,null,null,null,0,0]
["NET",null,null,null,null,null,null,null,null,null,0,null,null,null,null,null,null,null,null,null,0,0]
["6 Apr 8 - RGC Masters",4,4,4,5,3,5,3,3,4,35,4,4,5,4,5,3,5,4,5,39,74]
["NET",{"$f":"B16-(B$4<=MOD($W17,18))-INT($W17/18)","v":4},{"$f":"C16-(C$4<=MOD($W17,18))-INT($W17/18)","v":4},5,5,3,5,3,3,4,36,{"$f":"L16-(L$4<=MOD($W17,18))-INT($W17/18)","v":4},{"$f":"M16-(M$4<=MOD($W17,18))-INT($W17/18)","v":4},5,4,5,3,5,4,5,39,75,-1]
["7 Apr 11 - Day on the Oaks 1",5,7,4,4,2,5,6,4,5,42,5,5,3,6,5,2,4,5,4,39,81]
["NET",{"$f":"B18-(B$4<=MOD($W19,18))-INT($W19/18)","v":5},7,5,4,2,5,6,4,5,43,{"$f":"L18-(L$4<=MOD($W19,18))-INT($W19/18)","v":5},{"$f":"M18-(M$4<=MOD($W19,18))-INT($W19/18)","v":5},3,6,5,2,4,5,4,39,82,-1]
["8 Apr 15 - 54 Hole Individual Rd 1",4,4,3,4,3,5,3,6,4,36,5,5,4,5,4,3,5,3,5,39,75]
["NET",{"$f":"B20-(B$4<=MOD($W21,18))-INT($W21/18)","v":4},4,4,4,3,5,3,6,4,37,{"$f":"L20-(L$4<=MOD($W21,18))-INT($W21/18)","v":5},{"$f":"M20-(M$4<=MOD($W21,18))-INT($W21/18)","v":5},4,5,4,3,5,3,5,39,76,-1]
["9 Apr 16 - 54 Hole Individual Rd 2",4,5,3,3,4,6,5,5,4,39,7,5,5,4,3,4,5,5,4,42,81]
["NET",{"$f":"B22-(B$4<=MOD($W23,18))-INT($W23/18)","v":4},5,4,3,4,6,5,5,4,40,{"$f":"L22-(L$4<=MOD($W23,18))-INT($W23/18)","v":7},{"$f":"M22-(M$4<=MOD($W23,18))-INT($W23/18)","v":5},5,4,3,4,5,5,4,42,82,-1]
["10 Apr 22 - 54 Hole Individual Rd 3",5,5,3,4,3,5,5,4,5,39,6,3,3,3,4,3,4,4,5,35,74]
["NET",{"$f":"B24-(B$4<=MOD($W25,18))-INT($W25/18)","v":5},5,4,4,3,5,5,4,5,40,{"$f":"L24-(L$4<=MOD($W25,18))-INT($W25/18)","v":6},{"$f":"M24-(M$4<=MOD($W25,18))-INT($W25/18)","v":3},3,3,4,3,4,4,5,35,75,-1]
["11 May 7 - Senior 4-Ball Qualifier",4,6,4,5,3,5,4,4,6,41,4,6,4,4,3,4,5,5,5,40,81]
["NET",{"$f":"B26-(B$4<=MOD($W27,18))-INT($W27/18)","v":4},6,4,5,3,5,4,4,6,41,{"$f":"L26-(L$4<=MOD($W27,18))-INT($W27/18)","v":4},{"$f":"M26-(M$4<=MOD($W27,18))-INT($W27/18)","v":6},4,4,3,4,5,5,4,39,80,1]
["12 May 16 - Day on the Oaks 2",6,6,5,6,4,5,4,3,4,43,5,4,3,5,3,4,5,3,5,37,80]
["NET",{"$f":"B28-(B$4<=MOD($W29,18))-INT($W29/18)","v":6},6,5,6,4,5,4,3,3,42,{"$f":"L28-(L$4<=MOD($W29,18))-INT($W29/18)","v":5},{"$f":"M28-(M$4<=MOD($W29,18))-INT($W29/18)","v":4},3,4,3,4,5,3,4,35,77,3]
["13 May 28 - Memorial",5,5,3,4,3,5,6,6,4,41,5,4,3,5,4,3,5,4,5,38,79]
["NET",{"$f":"B30-(B$4<=MOD($W31,18))-INT($W31/18)","v":5},5,3,4,3,5,6,6,3,40,{"$f":"L30-(L$4<=MOD($W31,18))-INT($W31/18)","v":5},{"$f":"M30-(M$4<=MOD($W31,18))-INT($W31/18)","v":4},3,4,4,3,5,4,4,36,76,3]
["14 Jun 10 - 54 Hole Team Rd 1",null,null,null,null,null,null,null,null,null,0,null,null,null,null,null,null,null,null,null,0,0]
["NET",null,null,null,null,null,null,null,null,null,0,null,null,null,null,null,null,null,null,null,0,0]
["15 Jun 27 - Day on the Oaks 3",null,null,null,null,null,null,null,null,null,0,null,null,null,null,null,null,null,null,null,0,0]
["NET",null,null,null,null,null,null,null,null,null,0,null,null,null,null,null,null,null,null,null,0,0]
["17 Jul 11 - Day on the Oaks 4",5,5,3,4,3,6,5,4,5,40,4,4,4,4,4,3,5,5,5,38,78]
["NET",{"$f":"B36-(B$4<=MOD($W37,18))-INT($W37/18)","v":5},{"$f":"C36-(C$4<=MOD($W37,18))-INT($W37/18)","v":5},3,4,3,6,5,4,4,39,{"$f":"L36-(L$4<=MOD($W37,18))-INT($W37/18)","v":4},{"$f":"M36-(M$4<=MOD($W37,18))-INT($W37/18)","v":4},4,3,4,3,5,5,4,36,75,3]
["18 Aug 1 - Day on the Oaks 5",4,7,3,4,4,7,4,6,4,43,5,5,3,4,4,3,4,4,4,36,79]
["NET",{"$f":"B38-(B$4<=MOD($W39,18))-INT($W39/18)","v":4},7,3,4,4,7,3,6,3,41,{"$f":"L38-(L$4<=MOD($W39,18))-INT($W39/18)","v":5},{"$f":"M38-(M$4<=MOD($W39,18))-INT($W39/18)","v":5},3,3,4,3,4,4,3,34,75,4]
["19 Aug 13 - Rose Cup Qualifier",null,null,null,null,null,null,null,null,null,0,null,null,null,null,null,null,null,null,null,0,0]
["NET",null,null,null,null,null,null,null,null,null,0,null,null,null,null,null,null,null,null,null,0,0]
["20 Aug 29 - Day on the Oaks 6",null,null,null,null,null,null,null,null,null,0,null,null,null,null,null,null,null,null,null,0,0]
["NET",null,null,null,null,null,null,null,null,null,0,null,null,null,null,null,null,null,null,null,0,0]
["21 Sep 3 - Labor Day",null,null,null,null,null,null,null,null,null,0,null,null,null,null,null,null,null,null,null,0,0]
["NET",null,null,null,null,null,null,null,null,null,0,null,null,null,null,null,null,null,null,null,0,0]
["22 Oct 21 - Past Presidents",null,null,null,null,null,null,null,null,null,0,null,null,null,null,null,null,null,null,null,0,0]
["NET",null,null,null,null,null,null,null,null,null,0,null,null,null,null,null,null,null,null,null,0,0]
["23 Nov 12 - Turkey Shoot",null,null,null,null,null,null,null,null,null,0,null,null,null,null,null,null,null,null,null,0,0]
["NET",null,null,null,null,null,null,null,null,null,0,null,null,null,null,null,null,null,null,null,0,0]
["24 Dec 2 - Eclectic Final ",null,null,null,null,null,null,null,null,null,0,null,null,null,null,null,null,null,null,null,0,0]
["NET",null,null,null,null,null,null,null,null,null,0,null,null,null,null,null,null,null,null,null,0,0]
[null,null,null,null,null,null,null,null,null,null,0,null,null,null,null,null,null,null,null,null,0,0]
[null,null,null,null,null,null,null,null,null,null,0,null,null,null,null,null,null,null,null,null,0,0]
[]
["Low Gross Score",{"$f":"MIN(B6,B8,B10,B12,B14,B16,B18,B20,B22,B24,B26,B28,B30,32,B34,B36,B38,B40,B42,B44,B46,B48,B50,B52)","v":3},{"$f":"MIN(C6,C8,C10,C12,C14,C16,C18,C20,C22,C24,C26,C28,C30,32,C34,C36,C38,C40,C42,C44,C46,C48,C50,C52)","v":4},3,3,2,5,3,3,4,{"$f":"SUM(B55:J55)","v":30},{"$f":"MIN(L6,L8,L10,L12,L14,L16,L18,L20,L22,L24,L26,L28,L30,32,L34,L36,L38,L40,L42,L44,L46,L48,L50,L52)","v":4},3,3,3,3,2,4,3,4,{"$f":"SUM(L55:T55)","v":29},{"$f":"SUM(K55+U55)","v":59}]
["Low Net Score",{"$f":"MIN(B7,B9,B11,B13,B15,B17,B19,B21,B23,B25,B27,B29,B31,B33,B35,B37,B39,B41,B43,B45,B47,B49,B51,B53)","v":3},{"$f":"MIN(C7,C9,C11,C13,C15,C17,C19, C21,C23,C25,C27,C29,C31,C33,C35,C37,C39,C41,C43,C45,C47,C49,C51,C53)","v":4},3,3,2,5,3,3,3,29,{"$f":"MIN(L7,L9,L11,L13,L15,L17,L19, L21,L23,L25,L27,L29,L31,L33,L35,L37,L39,L41,L43,L45,L47,L49,L51,L53)","v":4},3,3,3,3,2,4,3,3,28,57]

{"sheet":"KIDDER, PAT","index":23,"n_rows":56,"n_cols":23,"rows_kept":56,"cut":false,"hidden":false,"merged":[]}
[]
["KIDDER, PAT",null,null,null,null,null,null,null,null,null,null,null,null,null,null,null,null,null,null,null,null,null,"HANDICAP"]
["HOLE",1,2,3,4,5,6,7,8,9,"OUT",10,11,12,13,14,15,16,17,18,"IN","TOTAL"]
["HANDICAP",8,14,18,6,16,10,4,12,2,null,9,5,17,3,15,7,13,11,1]
["PAR",4,5,3,4,3,5,4,4,4,36,5,4,3,4,4,3,5,4,4,36,72]
["1 Jan 28 - NCGA 4-Ball",4,6,4,5,3,8,6,5,5,{"$f":"SUM(B6:J6)","v":46},5,5,4,7,5,4,5,6,6,{"$f":"SUM(L6:T6)","v":47},{"$f":"SUM(K6+U6)","v":93}]
["NET",{"$f":"B6-(B$4<=MOD($W7,18))-INT($W7/18)","v":3},{"$f":"C6-(C$4<=MOD($W7,18))-INT($W7/18)","v":6},4,4,3,7,5,4,4,40,{"$f":"L6-(L$4<=MOD($W7,18))-INT($W7/18)","v":4},4,4,6,5,3,4,5,5,40,80,13]
["2 Feb 11 - Super Bowl",4,5,3,6,4,5,5,5,7,44,6,5,4,5,5,4,5,5,6,45,89]
["NET",{"$f":"B8-(B$4<=MOD($W9,18))-INT($W9/18)","v":3},{"$f":"C8-(C$4<=MOD($W9,18))-INT($W9/18)","v":5},3,5,4,4,4,4,6,38,{"$f":"L8-(L$4<=MOD($W9,18))-INT($W9/18)","v":5},{"$f":"M8-(M$4<=MOD($W9,18))-INT($W9/18)","v":4},4,4,5,3,4,4,5,38,76,13]
["3 Feb 26 - Modified Stableford",6,6,3,5,3,7,6,6,7,49,7,6,4,6,5,3,6,6,6,49,98]
["NET",{"$f":"B10-(B$4<=MOD($W11,18))-INT($W11/18)","v":5},6,3,4,3,6,5,5,6,43,{"$f":"L10-(L$4<=MOD($W11,18))-INT($W11/18)","v":6},{"$f":"M10-(M$4<=MOD($W11,18))-INT($W11/18)","v":5},4,5,5,2,5,5,5,42,85,13]
["4 Mar 25 - Zone Qualifier Rd 1",5,7,5,5,4,6,5,5,5,47,7,5,3,6,5,4,6,6,6,48,95]
["NET",{"$f":"B12-(B$4<=MOD($W13,18))-INT($W13/18)","v":4},6,5,4,4,5,4,4,4,40,{"$f":"L12-(L$4<=MOD($W13,18))-INT($W13/18)","v":6},{"$f":"M12-(M$4<=MOD($W13,18))-INT($W13/18)","v":4},3,5,5,3,5,5,5,41,81,14]
["5 Mar 26 - Zone Qualifier Rd 2",5,5,4,5,3,5,5,5,5,42,8,5,4,5,4,4,5,5,6,46,88]
["NET",{"$f":"B14-(B$4<=MOD($W15,18))-INT($W15/18)","v":4},4,4,4,3,4,4,4,4,35,{"$f":"L14-(L$4<=MOD($W15,18))-INT($W15/18)","v":7},{"$f":"M14-(M$4<=MOD($W15,18))-INT($W15/18)","v":4},4,4,4,3,4,4,5,39,74,14]
["6 Apr 8 - RGC Masters",4,7,3,5,4,5,6,5,5,44,5,6,4,5,4,4,6,5,5,44,88]
["NET",{"$f":"B16-(B$4<=MOD($W17,18))-INT($W17/18)","v":3},6,3,4,4,4,5,4,4,37,{"$f":"L16-(L$4<=MOD($W17,18))-INT($W17/18)","v":4},{"$f":"M16-(M$4<=MOD($W17,18))-INT($W17/18)","v":5},4,4,4,3,5,4,4,37,74,14]
["7 Apr 11 - Day on the Oaks 1",null,null,null,null,null,null,null,null,null,0,null,null,null,null,null,null,null,null,null,0,0]
["NET",null,null,null,null,null,null,null,null,null,0,null,null,null,null,null,null,null,null,null,0,0]
["8 Apr 15 - 54 Hole Individual Rd 1",null,null,null,null,null,null,null,null,null,0,null,null,null,null,null,null,null,null,null,0,0]
["NET",null,null,null,null,null,null,null,null,null,0,null,null,null,null,null,null,null,null,null,0,0]
["9 Apr 16 - 54 Hole Individual Rd 2",null,null,null,null,null,null,null,null,null,0,null,null,null,null,null,null,null,null,null,0,0]
["NET",null,null,null,null,null,null,null,null,null,0,null,null,null,null,null,null,null,null,null,0,0]
["10 Apr 22 - 54 Hole Individual Rd 3",null,null,null,null,null,null,null,null,null,0,null,null,null,null,null,null,null,null,null,0,0]
["NET",null,null,null,null,null,null,null,null,null,0,null,null,null,null,null,null,null,null,null,0,0]
["11 May 7 - Senior 4-Ball Qualifier",5,6,3,5,4,5,4,5,5,42,5,6,4,5,4,4,6,6,6,46,88]
["NET",{"$f":"B26-(B$4<=MOD($W27,18))-INT($W27/18)","v":4},{"$f":"C26-(C$4<=MOD($W27,18))-INT($W27/18)","v":5},3,4,4,4,3,4,4,35,{"$f":"L26-(L$4<=MOD($W27,18))-INT($W27/18)","v":4},{"$f":"M26-(M$4<=MOD($W27,18))-INT($W27/18)","v":5},4,4,4,3,5,5,5,39,74,14]
["12 May 16 - Day on the Oaks 2",null,null,null,null,null,null,null,null,null,0,null,null,null,null,null,null,null,null,null,0,0]
["NET",null,null,null,null,null,null,null,null,null,0,null,null,null,null,null,null,null,null,null,0,0]
["13 May 28 - Memorial",null,null,null,null,null,null,null,null,null,0,null,null,null,null,null,null,null,null,null,0,0]
["NET",null,null,null,null,null,null,null,null,null,0,null,null,null,null,null,null,null,null,null,0,0]
["14 Jun 10 - 54 Hole Team Rd 1",null,null,null,null,null,null,null,null,null,0,null,null,null,null,null,null,null,null,null,0,0]
["NET",null,null,null,null,null,null,null,null,null,0,null,null,null,null,null,null,null,null,null,0,0]
["15 Jun 27 - Day on the Oaks 3",6,6,4,4,3,7,5,4,5,44,6,5,3,5,5,4,6,5,6,45,89]
["NET",{"$f":"B34-(B$4<=MOD($W35,18))-INT($W35/18)","v":5},{"$f":"C34-(C$4<=MOD($W35,18))-INT($W35/18)","v":5},4,3,3,6,4,3,4,37,{"$f":"L34-(L$4<=MOD($W35,18))-INT($W35/18)","v":5},{"$f":"M34-(M$4<=MOD($W35,18))-INT($W35/18)","v":4},3,4,4,3,5,4,5,37,74,15]
["17 Jul 11 - Day on the Oaks 4",null,null,null,null,null,null,null,null,null,0,null,null,null,null,null,null,null,null,null,0,0]
["NET",null,null,null,null,null,null,null,null,null,0,null,null,null,null,null,null,null,null,null,0,0]
["18 Aug 1 - Day on the Oaks 5",null,null,null,null,null,null,null,null,null,0,null,null,null,null,null,null,null,null,null,0,0]
["NET",null,null,null,null,null,null,null,null,null,0,null,null,null,null,null,null,null,null,null,0,0]
["19 Aug 13 - Rose Cup Qualifier",null,null,null,null,null,null,null,null,null,0,null,null,null,null,null,null,null,null,null,0,0]
["NET",null,null,null,null,null,null,null,null,null,0,null,null,null,null,null,null,null,null,null,0,0]
["20 Aug 29 - Day on the Oaks 6",null,null,null,null,null,null,null,null,null,0,null,null,null,null,null,null,null,null,null,0,0]
["NET",null,null,null,null,null,null,null,null,null,0,null,null,null,null,null,null,null,null,null,0,0]
["21 Sep 3 - Labor Day",null,null,null,null,null,null,null,null,null,0,null,null,null,null,null,null,null,null,null,0,0]
["NET",null,null,null,null,null,null,null,null,null,0,null,null,null,null,null,null,null,null,null,0,0]
["22 Oct 21 - Past Presidents",null,null,null,null,null,null,null,null,null,0,null,null,null,null,null,null,null,null,null,0,0]
["NET",null,null,null,null,null,null,null,null,null,0,null,null,null,null,null,null,null,null,null,0,0]
["23 Nov 12 - Turkey Shoot",null,null,null,null,null,null,null,null,null,0,null,null,null,null,null,null,null,null,null,0,0]
["NET",null,null,null,null,null,null,null,null,null,0,null,null,null,null,null,null,null,null,null,0,0]
["24 Dec 2 - Eclectic Final ",null,null,null,null,null,null,null,null,null,0,null,null,null,null,null,null,null,null,null,0,0]
["NET",null,null,null,null,null,null,null,null,null,0,null,null,null,null,null,null,null,null,null,0,0]
[null,null,null,null,null,null,null,null,null,null,0,null,null,null,null,null,null,null,null,null,0,0]
[null,null,null,null,null,null,null,null,null,null,0,null,null,null,null,null,null,null,null,null,0,0]
[]
["Low Gross Score",{"$f":"MIN(B6,B8,B10,B12,B14,B16,B18,B20,B22,B24,B26,B28,B30,32,B34,B36,B38,B40,B42,B44,B46,B48,B50,B52)","v":4},{"$f":"MIN(C6,C8,C10,C12,C14,C16,C18,C20,C22,C24,C26,C28,C30,32,C34,C36,C38,C40,C42,C44,C46,C48,C50,C52)","v":5},3,4,3,5,4,4,5,{"$f":"SUM(B55:J55)","v":37},{"$f":"MIN(L6,L8,L10,L12,L14,L16,L18,L20,L22,L24,L26,L28,L30,32,L34,L36,L38,L40,L42,L44,L46,L48,L50,L52)","v":5},5,3,5,4,3,5,5,5,{"$f":"SUM(L55:T55)","v":40},{"$f":"SUM(K55+U55)","v":77}]
["Low Net Score",{"$f":"MIN(B7,B9,B11,B13,B15,B17,B19,B21,B23,B25,B27,B29,B31,B33,B35,B37,B39,B41,B43,B45,B47,B49,B51,B53)","v":3},{"$f":"MIN(C7,C9,C11,C13,C15,C17,C19, C21,C23,C25,C27,C29,C31,C33,C35,C37,C39,C41,C43,C45,C47,C49,C51,C53)","v":4},3,3,3,4,3,3,4,30,{"$f":"MIN(L7,L9,L11,L13,L15,L17,L19, L21,L23,L25,L27,L29,L31,L33,L35,L37,L39,L41,L43,L45,L47,L49,L51,L53)","v":4},4,3,4,4,2,4,4,4,33,63]

{"sheet":"KROHN, GARY","index":24,"n_rows":56,"n_cols":23,"rows_kept":56,"cut":false,"hidden":false,"merged":[]}
[]
["KROHN, GARY",null,null,null,null,null,null,null,null,null,null,null,null,null,null,null,null,null,null,null,null,null,"HANDICAP"]
["HOLE",1,2,3,4,5,6,7,8,9,"OUT",10,11,12,13,14,15,16,17,18,"IN","TOTAL"]
["HANDICAP",8,14,18,6,16,10,4,12,2,null,9,5,17,3,15,7,13,11,1]
["PAR",4,5,3,4,3,5,4,4,4,36,5,4,3,4,4,3,5,4,4,36,72]
["1 Jan 28 - NCGA 4-Ball",7,7,4,7,4,9,9,5,5,{"$f":"SUM(B6:J6)","v":57},7,9,4,6,5,4,9,6,7,{"$f":"SUM(L6:T6)","v":57},{"$f":"SUM(K6+U6)","v":114}]
["NET",{"$f":"B6-(B$4<=MOD($W7,18))-INT($W7/18)","v":6},{"$f":"C6-(C$4<=MOD($W7,18))-INT($W7/18)","v":6},4,6,3,8,8,4,4,49,{"$f":"L6-(L$4<=MOD($W7,18))-INT($W7/18)","v":6},8,3,5,4,3,8,5,6,48,97,17]
["2 Feb 11 - Super Bowl",5,6,4,5,5,7,5,6,5,48,8,5,3,5,6,5,7,5,6,50,98]
["NET",{"$f":"B8-(B$4<=MOD($W9,18))-INT($W9/18)","v":4},{"$f":"C8-(C$4<=MOD($W9,18))-INT($W9/18)","v":5},3,4,4,6,4,5,3,38,{"$f":"L8-(L$4<=MOD($W9,18))-INT($W9/18)","v":7},{"$f":"M8-(M$4<=MOD($W9,18))-INT($W9/18)","v":4},2,3,5,4,6,4,4,39,77,21]
["3 Feb 26 - Modified Stableford",null,null,null,null,null,null,null,null,null,0,null,null,null,null,null,null,null,null,null,0,0]
["NET",null,null,null,null,null,null,null,null,null,0,null,null,null,null,null,null,null,null,null,0,0]
["4 Mar 25 - Zone Qualifier Rd 1",null,null,null,null,null,null,null,null,null,0,null,null,null,null,null,null,null,null,null,0,0]
["NET",null,null,null,null,null,null,null,null,null,0,null,null,null,null,null,null,null,null,null,0,0]
["5 Mar 26 - Zone Qualifier Rd 2",null,null,null,null,null,null,null,null,null,0,null,null,null,null,null,null,null,null,null,0,0]
["NET",null,null,null,null,null,null,null,null,null,0,null,null,null,null,null,null,null,null,null,0,0]
["6 Apr 8 - RGC Masters",6,6,3,7,4,8,4,6,8,52,7,5,6,6,4,4,6,6,6,50,102]
["NET",{"$f":"B16-(B$4<=MOD($W17,18))-INT($W17/18)","v":5},{"$f":"C16-(C$4<=MOD($W17,18))-INT($W17/18)","v":5},2,6,3,7,2,5,6,41,{"$f":"L16-(L$4<=MOD($W17,18))-INT($W17/18)","v":6},{"$f":"M16-(M$4<=MOD($W17,18))-INT($W17/18)","v":3},5,4,3,3,5,5,4,38,79,23]
["7 Apr 11 - Day on the Oaks 1",5,5,4,4,4,7,4,5,5,43,7,7,4,5,4,3,6,9,6,51,94]
["NET",{"$f":"B18-(B$4<=MOD($W19,18))-INT($W19/18)","v":4},4,3,3,3,6,2,4,3,32,{"$f":"L18-(L$4<=MOD($W19,18))-INT($W19/18)","v":6},{"$f":"M18-(M$4<=MOD($W19,18))-INT($W19/18)","v":5},3,3,3,2,5,8,4,39,71,23]
["8 Apr 15 - 54 Hole Individual Rd 1",5,3,4,6,3,6,8,6,4,45,6,6,4,7,5,6,8,4,4,50,95]
["NET",{"$f":"B20-(B$4<=MOD($W21,18))-INT($W21/18)","v":4},2,3,5,2,5,6,5,2,34,{"$f":"L20-(L$4<=MOD($W21,18))-INT($W21/18)","v":5},{"$f":"M20-(M$4<=MOD($W21,18))-INT($W21/18)","v":4},3,5,4,5,7,3,2,38,72,23]
["9 Apr 16 - 54 Hole Individual Rd 2",5,8,3,4,4,8,9,6,7,54,7,6,3,5,4,5,6,5,7,48,102]
["NET",{"$f":"B22-(B$4<=MOD($W23,18))-INT($W23/18)","v":4},7,2,3,3,7,7,5,5,43,{"$f":"L22-(L$4<=MOD($W23,18))-INT($W23/18)","v":6},{"$f":"M22-(M$4<=MOD($W23,18))-INT($W23/18)","v":4},2,3,3,4,5,4,5,36,79,23]
["10 Apr 22 - 54 Hole Individual Rd 3",7,8,3,4,5,9,6,5,4,51,5,5,5,6,5,3,5,8,8,50,101]
["NET",{"$f":"B24-(B$4<=MOD($W25,18))-INT($W25/18)","v":6},7,2,3,4,8,4,4,2,40,{"$f":"L24-(L$4<=MOD($W25,18))-INT($W25/18)","v":4},{"$f":"M24-(M$4<=MOD($W25,18))-INT($W25/18)","v":3},4,4,4,2,4,7,6,38,78,23]
["11 May 7 - Senior 4-Ball Qualifier",6,10,6,5,4,4,6,5,7,53,6,5,2,5,5,4,5,4,5,41,94]
["NET",{"$f":"B26-(B$4<=MOD($W27,18))-INT($W27/18)","v":5},9,6,4,4,3,5,4,6,46,{"$f":"L26-(L$4<=MOD($W27,18))-INT($W27/18)","v":5},{"$f":"M26-(M$4<=MOD($W27,18))-INT($W27/18)","v":4},2,4,4,3,4,3,4,33,79,15]
["12 May 16 - Day on the Oaks 2",7,5,4,8,3,8,6,5,5,51,9,9,4,6,4,6,6,5,6,55,106]
["NET",{"$f":"B28-(B$4<=MOD($W29,18))-INT($W29/18)","v":6},4,3,7,2,7,4,4,3,40,{"$f":"L28-(L$4<=MOD($W29,18))-INT($W29/18)","v":8},{"$f":"M28-(M$4<=MOD($W29,18))-INT($W29/18)","v":7},3,4,3,5,5,4,4,43,83,23]
["13 May 28 - Memorial",5,6,3,5,3,5,5,4,7,43,8,5,4,4,6,5,7,5,8,52,95]
["NET",{"$f":"B30-(B$4<=MOD($W31,18))-INT($W31/18)","v":4},5,2,4,2,4,3,3,5,32,{"$f":"L30-(L$4<=MOD($W31,18))-INT($W31/18)","v":7},{"$f":"M30-(M$4<=MOD($W31,18))-INT($W31/18)","v":3},3,2,5,4,6,4,6,40,72,23]
["14 Jun 10 - 54 Hole Team Rd 1",7,5,4,5,4,7,6,5,6,49,8,6,4,7,6,4,8,7,6,56,105]
["NET",{"$f":"B32-(B$4<=MOD($W33,18))-INT($W33/18)","v":6},4,3,4,3,6,5,4,4,39,{"$f":"L32-(L$4<=MOD($W33,18))-INT($W33/18)","v":7},{"$f":"M32-(M$4<=MOD($W33,18))-INT($W33/18)","v":5},3,5,5,3,7,6,4,45,84,21]
["15 Jun 27 - Day on the Oaks 3",5,7,6,5,7,8,8,5,7,58,8,7,4,7,4,4,6,6,6,52,110]
["NET",{"$f":"B34-(B$4<=MOD($W35,18))-INT($W35/18)","v":4},6,5,4,6,7,7,4,5,48,{"$f":"L34-(L$4<=MOD($W35,18))-INT($W35/18)","v":7},{"$f":"M34-(M$4<=MOD($W35,18))-INT($W35/18)","v":6},3,5,3,3,5,5,4,41,89,21]
["17 Jul 11 - Day on the Oaks 4",5,6,7,8,4,7,5,5,5,52,7,5,3,6,5,4,5,5,5,45,97]
["NET",{"$f":"B36-(B$4<=MOD($W37,18))-INT($W37/18)","v":4},5,6,7,3,6,4,4,3,42,{"$f":"L36-(L$4<=MOD($W37,18))-INT($W37/18)","v":6},{"$f":"M36-(M$4<=MOD($W37,18))-INT($W37/18)","v":4},2,4,4,3,4,4,3,34,76,21]
["18 Aug 1 - Day on the Oaks 5",6,5,4,4,5,5,6,6,6,47,5,10,4,5,4,4,6,7,6,51,98]
["NET",{"$f":"B38-(B$4<=MOD($W39,18))-INT($W39/18)","v":5},4,3,3,4,4,5,5,4,37,{"$f":"L38-(L$4<=MOD($W39,18))-INT($W39/18)","v":4},{"$f":"M38-(M$4<=MOD($W39,18))-INT($W39/18)","v":9},3,3,3,3,5,6,4,40,77,21]
["19 Aug 13 - Rose Cup Qualifier",null,null,null,null,null,null,null,null,null,0,null,null,null,null,null,null,null,null,null,0,0]
["NET",null,null,null,null,null,null,null,null,null,0,null,null,null,null,null,null,null,null,null,0,0]
["20 Aug 29 - Day on the Oaks 6",null,null,null,null,null,null,null,null,null,0,null,null,null,null,null,null,null,null,null,0,0]
["NET",null,null,null,null,null,null,null,null,null,0,null,null,null,null,null,null,null,null,null,0,0]
["21 Sep 3 - Labor Day",null,null,null,null,null,null,null,null,null,0,null,null,null,null,null,null,null,null,null,0,0]
["NET",null,null,null,null,null,null,null,null,null,0,null,null,null,null,null,null,null,null,null,0,0]
["22 Oct 21 - Past Presidents",null,null,null,null,null,null,null,null,null,0,null,null,null,null,null,null,null,null,null,0,0]
["NET",null,null,null,null,null,null,null,null,null,0,null,null,null,null,null,null,null,null,null,0,0]
["23 Nov 12 - Turkey Shoot",null,null,null,null,null,null,null,null,null,0,null,null,null,null,null,null,null,null,null,0,0]
["NET",null,null,null,null,null,null,null,null,null,0,null,null,null,null,null,null,null,null,null,0,0]
["24 Dec 2 - Eclectic Final ",null,null,null,null,null,null,null,null,null,0,null,null,null,null,null,null,null,null,null,0,0]
["NET",null,null,null,null,null,null,null,null,null,0,null,null,null,null,null,null,null,null,null,0,0]
[null,null,null,null,null,null,null,null,null,null,0,null,null,null,null,null,null,null,null,null,0,0]
[null,null,null,null,null,null,null,null,null,null,0,null,null,null,null,null,null,null,null,null,0,0]
[]
["Low Gross Score",{"$f":"MIN(B6,B8,B10,B12,B14,B16,B18,B20,B22,B24,B26,B28,B30,32,B34,B36,B38,B40,B42,B44,B46,B48,B50,B52)","v":5},{"$f":"MIN(C6,C8,C10,C12,C14,C16,C18,C20,C22,C24,C26,C28,C30,32,C34,C36,C38,C40,C42,C44,C46,C48,C50,C52)","v":3},3,4,3,4,4,4,4,{"$f":"SUM(B55:J55)","v":34},{"$f":"MIN(L6,L8,L10,L12,L14,L16,L18,L20,L22,L24,L26,L28,L30,32,L34,L36,L38,L40,L42,L44,L46,L48,L50,L52)","v":5},5,2,4,4,3,5,4,4,{"$f":"SUM(L55:T55)","v":36},{"$f":"SUM(K55+U55)","v":70}]
["Low Net Score",{"$f":"MIN(B7,B9,B11,B13,B15,B17,B19,B21,B23,B25,B27,B29,B31,B33,B35,B37,B39,B41,B43,B45,B47,B49,B51,B53)","v":4},{"$f":"MIN(C7,C9,C11,C13,C15,C17,C19, C21,C23,C25,C27,C29,C31,C33,C35,C37,C39,C41,C43,C45,C47,C49,C51,C53)","v":2},2,3,2,3,2,3,2,23,{"$f":"MIN(L7,L9,L11,L13,L15,L17,L19, L21,L23,L25,L27,L29,L31,L33,L35,L37,L39,L41,L43,L45,L47,L49,L51,L53)","v":4},3,2,2,3,2,4,3,2,25,48]

{"sheet":"LACHMAN, MARK","index":25,"n_rows":56,"n_cols":23,"rows_kept":56,"cut":false,"hidden":false,"merged":[]}
[]
["LACHMAN, MARK",null,null,null,null,null,null,null,null,null,null,null,null,null,null,null,null,null,null,null,null,null,"HANDICAP"]
["HOLE",1,2,3,4,5,6,7,8,9,"OUT",10,11,12,13,14,15,16,17,18,"IN","TOTAL"]
["HANDICAP",8,14,18,6,16,10,4,12,2,null,9,5,17,3,15,7,13,11,1]
["PAR",4,5,3,4,3,5,4,4,4,36,5,4,3,4,4,3,5,4,4,36,72]
["1 Jan 28 - NCGA 4-Ball",8,6,3,6,4,8,6,4,6,{"$f":"SUM(B6:J6)","v":51},6,5,6,6,6,4,7,6,7,{"$f":"SUM(L6:T6)","v":53},{"$f":"SUM(K6+U6)","v":104}]
["NET",{"$f":"B6-(B$4<=MOD($W7,18))-INT($W7/18)","v":7},{"$f":"C6-(C$4<=MOD($W7,18))-INT($W7/18)","v":5},3,5,4,7,5,3,5,44,{"$f":"L6-(L$4<=MOD($W7,18))-INT($W7/18)","v":5},4,6,5,5,3,6,5,6,45,89,15]
["2 Feb 11 - Super Bowl",6,5,4,4,6,7,5,5,5,47,7,5,4,4,5,4,5,7,7,48,95]
["NET",{"$f":"B8-(B$4<=MOD($W9,18))-INT($W9/18)","v":5},{"$f":"C8-(C$4<=MOD($W9,18))-INT($W9/18)","v":4},4,3,6,6,4,4,4,40,{"$f":"L8-(L$4<=MOD($W9,18))-INT($W9/18)","v":6},{"$f":"M8-(M$4<=MOD($W9,18))-INT($W9/18)","v":4},4,3,4,3,4,6,6,40,80,15]
["3 Feb 26 - Modified Stableford",5,8,5,6,3,8,6,8,5,54,9,6,4,5,5,4,7,5,5,50,104]
["NET",{"$f":"B10-(B$4<=MOD($W11,18))-INT($W11/18)","v":4},7,5,5,3,7,5,7,4,47,{"$f":"L10-(L$4<=MOD($W11,18))-INT($W11/18)","v":8},{"$f":"M10-(M$4<=MOD($W11,18))-INT($W11/18)","v":5},4,4,4,3,6,4,4,42,89,15]
["4 Mar 25 - Zone Qualifier Rd 1",null,null,null,null,null,null,null,null,null,0,null,null,null,null,null,null,null,null,null,0,0]
["NET",null,null,null,null,null,null,null,null,null,0,null,null,null,null,null,null,null,null,null,0,0]
["5 Mar 26 - Zone Qualifier Rd 2",null,null,null,null,null,null,null,null,null,0,null,null,null,null,null,null,null,null,null,0,0]
["NET",null,null,null,null,null,null,null,null,null,0,null,null,null,null,null,null,null,null,null,0,0]
["6 Apr 8 - RGC Masters",5,5,4,5,4,6,8,5,5,47,5,6,4,7,5,4,6,4,5,46,93]
["NET",{"$f":"B16-(B$4<=MOD($W17,18))-INT($W17/18)","v":4},{"$f":"C16-(C$4<=MOD($W17,18))-INT($W17/18)","v":4},4,4,4,5,7,4,4,40,{"$f":"L16-(L$4<=MOD($W17,18))-INT($W17/18)","v":4},{"$f":"M16-(M$4<=MOD($W17,18))-INT($W17/18)","v":5},4,6,4,3,5,3,4,38,78,15]
["7 Apr 11 - Day on the Oaks 1",null,null,null,null,null,null,null,null,null,0,null,null,null,null,null,null,null,null,null,0,0]
["NET",null,null,null,null,null,null,null,null,null,0,null,null,null,null,null,null,null,null,null,0,0]
["8 Apr 15 - 54 Hole Individual Rd 1",null,null,null,null,null,null,null,null,null,0,null,null,null,null,null,null,null,null,null,0,0]
["NET",null,null,null,null,null,null,null,null,null,0,null,null,null,null,null,null,null,null,null,0,0]
["9 Apr 16 - 54 Hole Individual Rd 2",null,null,null,null,null,null,null,null,null,0,null,null,null,null,null,null,null,null,null,0,0]
["NET",null,null,null,null,null,null,null,null,null,0,null,null,null,null,null,null,null,null,null,0,0]
["10 Apr 22 - 54 Hole Individual Rd 3",null,null,null,null,null,null,null,null,null,0,null,null,null,null,null,null,null,null,null,0,0]
["NET",null,null,null,null,null,null,null,null,null,0,null,null,null,null,null,null,null,null,null,0,0]
["11 May 7 - Senior 4-Ball Qualifier",null,null,null,null,null,null,null,null,null,0,null,null,null,null,null,null,null,null,null,0,0]
["NET",null,null,null,null,null,null,null,null,null,0,null,null,null,null,null,null,null,null,null,0,0]
["12 May 16 - Day on the Oaks 2",null,null,null,null,null,null,null,null,null,0,null,null,null,null,null,null,null,null,null,0,0]
["NET",null,null,null,null,null,null,null,null,null,0,null,null,null,null,null,null,null,null,null,0,0]
["13 May 28 - Memorial",9,8,5,6,4,7,4,4,5,52,5,4,3,6,5,3,6,6,8,46,98]
["NET",{"$f":"B30-(B$4<=MOD($W31,18))-INT($W31/18)","v":8},{"$f":"C30-(C$4<=MOD($W31,18))-INT($W31/18)","v":7},5,5,4,6,3,3,4,45,{"$f":"L30-(L$4<=MOD($W31,18))-INT($W31/18)","v":4},{"$f":"M30-(M$4<=MOD($W31,18))-INT($W31/18)","v":3},3,5,4,2,5,5,7,38,83,15]
["14 Jun 10 - 54 Hole Team Rd 1",null,null,null,null,null,null,null,null,null,0,null,null,null,null,null,null,null,null,null,0,0]
["NET",null,null,null,null,null,null,null,null,null,0,null,null,null,null,null,null,null,null,null,0,0]
["15 Jun 27 - Day on the Oaks 3",4,9,4,5,4,5,5,5,4,45,5,6,4,4,5,5,5,4,7,45,90]
["NET",{"$f":"B34-(B$4<=MOD($W35,18))-INT($W35/18)","v":3},{"$f":"C34-(C$4<=MOD($W35,18))-INT($W35/18)","v":8},4,4,3,4,4,4,3,37,{"$f":"L34-(L$4<=MOD($W35,18))-INT($W35/18)","v":4},{"$f":"M34-(M$4<=MOD($W35,18))-INT($W35/18)","v":5},4,3,4,4,4,3,6,37,74,16]
["17 Jul 11 - Day on the Oaks 4",null,null,null,null,null,null,null,null,null,0,null,null,null,null,null,null,null,null,null,0,0]
["NET",null,null,null,null,null,null,null,null,null,0,null,null,null,null,null,null,null,null,null,0,0]
["18 Aug 1 - Day on the Oaks 5",null,null,null,null,null,null,null,null,null,0,null,null,null,null,null,null,null,null,null,0,0]
["NET",null,null,null,null,null,null,null,null,null,0,null,null,null,null,null,null,null,null,null,0,0]
["19 Aug 13 - Rose Cup Qualifier",null,null,null,null,null,null,null,null,null,0,null,null,null,null,null,null,null,null,null,0,0]
["NET",null,null,null,null,null,null,null,null,null,0,null,null,null,null,null,null,null,null,null,0,0]
["20 Aug 29 - Day on the Oaks 6",null,null,null,null,null,null,null,null,null,0,null,null,null,null,null,null,null,null,null,0,0]
["NET",null,null,null,null,null,null,null,null,null,0,null,null,null,null,null,null,null,null,null,0,0]
["21 Sep 3 - Labor Day",null,null,null,null,null,null,null,null,null,0,null,null,null,null,null,null,null,null,null,0,0]
["NET",null,null,null,null,null,null,null,null,null,0,null,null,null,null,null,null,null,null,null,0,0]
["22 Oct 21 - Past Presidents",null,null,null,null,null,null,null,null,null,0,null,null,null,null,null,null,null,null,null,0,0]
["NET",null,null,null,null,null,null,null,null,null,0,null,null,null,null,null,null,null,null,null,0,0]
["23 Nov 12 - Turkey Shoot",null,null,null,null,null,null,null,null,null,0,null,null,null,null,null,null,null,null,null,0,0]
["NET",null,null,null,null,null,null,null,null,null,0,null,null,null,null,null,null,null,null,null,0,0]
["24 Dec 2 - Eclectic Final ",null,null,null,null,null,null,null,null,null,0,null,null,null,null,null,null,null,null,null,0,0]
["NET",null,null,null,null,null,null,null,null,null,0,null,null,null,null,null,null,null,null,null,0,0]
[null,null,null,null,null,null,null,null,null,null,0,null,null,null,null,null,null,null,null,null,0,0]
[null,null,null,null,null,null,null,null,null,null,0,null,null,null,null,null,null,null,null,null,0,0]
[]
["Low Gross Score",{"$f":"MIN(B6,B8,B10,B12,B14,B16,B18,B20,B22,B24,B26,B28,B30,32,B34,B36,B38,B40,B42,B44,B46,B48,B50,B52)","v":4},{"$f":"MIN(C6,C8,C10,C12,C14,C16,C18,C20,C22,C24,C26,C28,C30,32,C34,C36,C38,C40,C42,C44,C46,C48,C50,C52)","v":5},3,4,3,5,4,4,4,{"$f":"SUM(B55:J55)","v":36},{"$f":"MIN(L6,L8,L10,L12,L14,L16,L18,L20,L22,L24,L26,L28,L30,32,L34,L36,L38,L40,L42,L44,L46,L48,L50,L52)","v":5},4,3,4,5,3,5,4,5,{"$f":"SUM(L55:T55)","v":38},{"$f":"SUM(K55+U55)","v":74}]
["Low Net Score",{"$f":"MIN(B7,B9,B11,B13,B15,B17,B19,B21,B23,B25,B27,B29,B31,B33,B35,B37,B39,B41,B43,B45,B47,B49,B51,B53)","v":3},{"$f":"MIN(C7,C9,C11,C13,C15,C17,C19, C21,C23,C25,C27,C29,C31,C33,C35,C37,C39,C41,C43,C45,C47,C49,C51,C53)","v":4},3,3,3,4,3,3,3,29,{"$f":"MIN(L7,L9,L11,L13,L15,L17,L19, L21,L23,L25,L27,L29,L31,L33,L35,L37,L39,L41,L43,L45,L47,L49,L51,L53)","v":4},3,3,3,4,2,4,3,4,30,59]

{"sheet":"LANGE, BRYAN","index":26,"n_rows":56,"n_cols":23,"rows_kept":56,"cut":false,"hidden":false,"merged":[]}
[]
["LANGE, BRYAN",null,null,null,null,null,null,null,null,null,null,null,null,null,null,null,null,null,null,null,null,null,"HANDICAP"]
["HOLE",1,2,3,4,5,6,7,8,9,"OUT",10,11,12,13,14,15,16,17,18,"IN","TOTAL"]
["HANDICAP",8,14,18,6,16,10,4,12,2,null,9,5,17,3,15,7,13,11,1]
["PAR",4,5,3,4,3,5,4,4,4,36,5,4,3,4,4,3,5,4,4,36,72]
["1 Jan 28 - NCGA 4-Ball",4,4,4,4,4,6,5,4,4,{"$f":"SUM(B6:J6)","v":39},5,4,4,3,3,3,5,6,5,{"$f":"SUM(L6:T6)","v":38},{"$f":"SUM(K6+U6)","v":77}]
["NET",{"$f":"B6-(B$4<=MOD($W7,18))-INT($W7/18)","v":4},{"$f":"C6-(C$4<=MOD($W7,18))-INT($W7/18)","v":4},4,3,4,6,4,4,3,36,{"$f":"L6-(L$4<=MOD($W7,18))-INT($W7/18)","v":5},3,4,2,3,2,5,6,4,34,70,7]
["2 Feb 11 - Super Bowl",5,5,3,4,3,8,5,5,5,43,5,7,4,4,4,5,4,4,4,41,84]
["NET",{"$f":"B8-(B$4<=MOD($W9,18))-INT($W9/18)","v":5},{"$f":"C8-(C$4<=MOD($W9,18))-INT($W9/18)","v":5},3,3,3,8,4,5,4,40,{"$f":"L8-(L$4<=MOD($W9,18))-INT($W9/18)","v":5},{"$f":"M8-(M$4<=MOD($W9,18))-INT($W9/18)","v":6},4,3,4,5,4,4,3,38,78,6]
["3 Feb 26 - Modified Stableford",null,null,null,null,null,null,null,null,null,0,null,null,null,null,null,null,null,null,null,0,0]
["NET",null,null,null,null,null,null,null,null,null,0,null,null,null,null,null,null,null,null,null,0,0]
["4 Mar 25 - Zone Qualifier Rd 1",4,6,3,4,4,5,5,5,3,39,5,3,3,5,4,4,5,5,5,39,78]
["NET",{"$f":"B12-(B$4<=MOD($W13,18))-INT($W13/18)","v":4},6,3,3,4,5,4,5,2,36,{"$f":"L12-(L$4<=MOD($W13,18))-INT($W13/18)","v":5},{"$f":"M12-(M$4<=MOD($W13,18))-INT($W13/18)","v":2},3,4,4,4,5,5,4,36,72,6]
["5 Mar 26 - Zone Qualifier Rd 2",5,7,3,5,3,5,4,6,5,43,5,4,4,4,4,3,5,5,5,39,82]
["NET",{"$f":"B14-(B$4<=MOD($W15,18))-INT($W15/18)","v":5},7,3,4,3,5,3,6,4,40,{"$f":"L14-(L$4<=MOD($W15,18))-INT($W15/18)","v":5},{"$f":"M14-(M$4<=MOD($W15,18))-INT($W15/18)","v":3},4,3,4,3,5,5,4,36,76,6]
["6 Apr 8 - RGC Masters",null,null,null,null,null,null,null,null,null,0,null,null,null,null,null,null,null,null,null,0,0]
["NET",null,null,null,null,null,null,null,null,null,0,null,null,null,null,null,null,null,null,null,0,0]
["7 Apr 11 - Day on the Oaks 1",null,null,null,null,null,null,null,null,null,0,null,null,null,null,null,null,null,null,null,0,0]
["NET",null,null,null,null,null,null,null,null,null,0,null,null,null,null,null,null,null,null,null,0,0]
["8 Apr 15 - 54 Hole Individual Rd 1",4,5,4,3,3,6,4,4,4,37,6,4,3,4,4,3,5,6,4,39,76]
["NET",{"$f":"B20-(B$4<=MOD($W21,18))-INT($W21/18)","v":4},{"$f":"C20-(C$4<=MOD($W21,18))-INT($W21/18)","v":5},4,3,3,6,3,4,3,35,{"$f":"L20-(L$4<=MOD($W21,18))-INT($W21/18)","v":6},{"$f":"M20-(M$4<=MOD($W21,18))-INT($W21/18)","v":3},3,3,4,3,5,6,3,36,71,5]
["9 Apr 16 - 54 Hole Individual Rd 2",4,6,2,3,4,5,4,5,6,39,4,5,4,4,3,4,5,6,6,41,80]
["NET",{"$f":"B22-(B$4<=MOD($W23,18))-INT($W23/18)","v":4},{"$f":"C22-(C$4<=MOD($W23,18))-INT($W23/18)","v":6},2,3,4,5,3,5,5,37,{"$f":"L22-(L$4<=MOD($W23,18))-INT($W23/18)","v":4},{"$f":"M22-(M$4<=MOD($W23,18))-INT($W23/18)","v":4},4,3,3,4,5,6,5,38,75,5]
["10 Apr 22 - 54 Hole Individual Rd 3",5,4,4,5,3,6,5,4,4,40,5,3,3,4,4,4,5,4,3,35,75]
["NET",{"$f":"B24-(B$4<=MOD($W25,18))-INT($W25/18)","v":5},{"$f":"C24-(C$4<=MOD($W25,18))-INT($W25/18)","v":4},4,5,3,6,4,4,3,38,{"$f":"L24-(L$4<=MOD($W25,18))-INT($W25/18)","v":5},{"$f":"M24-(M$4<=MOD($W25,18))-INT($W25/18)","v":2},3,3,4,4,5,4,2,32,70,5]
["11 May 7 - Senior 4-Ball Qualifier",5,6,3,4,3,6,4,4,4,39,4,4,3,5,4,4,6,5,3,38,77]
["NET",{"$f":"B26-(B$4<=MOD($W27,18))-INT($W27/18)","v":5},6,3,4,3,6,4,4,3,38,{"$f":"L26-(L$4<=MOD($W27,18))-INT($W27/18)","v":4},{"$f":"M26-(M$4<=MOD($W27,18))-INT($W27/18)","v":4},3,5,4,4,6,5,2,37,75,2]
["12 May 16 - Day on the Oaks 2",null,null,null,null,null,null,null,null,null,0,null,null,null,null,null,null,null,null,null,0,0]
["NET",null,null,null,null,null,null,null,null,null,0,null,null,null,null,null,null,null,null,null,0,0]
["13 May 28 - Memorial",null,null,null,null,null,null,null,null,null,0,null,null,null,null,null,null,null,null,null,0,0]
["NET",null,null,null,null,null,null,null,null,null,0,null,null,null,null,null,null,null,null,null,0,0]
["14 Jun 10 - 54 Hole Team Rd 1",7,5,4,5,3,5,4,5,5,43,4,5,3,4,5,4,6,4,5,40,83]
["NET",{"$f":"B32-(B$4<=MOD($W33,18))-INT($W33/18)","v":7},{"$f":"C32-(C$4<=MOD($W33,18))-INT($W33/18)","v":5},4,5,3,5,3,5,4,41,{"$f":"L32-(L$4<=MOD($W33,18))-INT($W33/18)","v":4},{"$f":"M32-(M$4<=MOD($W33,18))-INT($W33/18)","v":5},3,3,5,4,6,4,4,38,79,4]
["15 Jun 27 - Day on the Oaks 3",null,null,null,null,null,null,null,null,null,0,null,null,null,null,null,null,null,null,null,0,0]
["NET",null,null,null,null,null,null,null,null,null,0,null,null,null,null,null,null,null,null,null,0,0]
["17 Jul 11 - Day on the Oaks 4",null,null,null,null,null,null,null,null,null,0,null,null,null,null,null,null,null,null,null,0,0]
["NET",null,null,null,null,null,null,null,null,null,0,null,null,null,null,null,null,null,null,null,0,0]
["18 Aug 1 - Day on the Oaks 5",null,null,null,null,null,null,null,null,null,0,null,null,null,null,null,null,null,null,null,0,0]
["NET",null,null,null,null,null,null,null,null,null,0,null,null,null,null,null,null,null,null,null,0,0]
["19 Aug 13 - Rose Cup Qualifier",null,null,null,null,null,null,null,null,null,0,null,null,null,null,null,null,null,null,null,0,0]
["NET",null,null,null,null,null,null,null,null,null,0,null,null,null,null,null,null,null,null,null,0,0]
["20 Aug 29 - Day on the Oaks 6",null,null,null,null,null,null,null,null,null,0,null,null,null,null,null,null,null,null,null,0,0]
["NET",null,null,null,null,null,null,null,null,null,0,null,null,null,null,null,null,null,null,null,0,0]
["21 Sep 3 - Labor Day",null,null,null,null,null,null,null,null,null,0,null,null,null,null,null,null,null,null,null,0,0]
["NET",null,null,null,null,null,null,null,null,null,0,null,null,null,null,null,null,null,null,null,0,0]
["22 Oct 21 - Past Presidents",null,null,null,null,null,null,null,null,null,0,null,null,null,null,null,null,null,null,null,0,0]
["NET",null,null,null,null,null,null,null,null,null,0,null,null,null,null,null,null,null,null,null,0,0]
["23 Nov 12 - Turkey Shoot",null,null,null,null,null,null,null,null,null,0,null,null,null,null,null,null,null,null,null,0,0]
["NET",null,null,null,null,null,null,null,null,null,0,null,null,null,null,null,null,null,null,null,0,0]
["24 Dec 2 - Eclectic Final ",null,null,null,null,null,null,null,null,null,0,null,null,null,null,null,null,null,null,null,0,0]
["NET",null,null,null,null,null,null,null,null,null,0,null,null,null,null,null,null,null,null,null,0,0]
[null,null,null,null,null,null,null,null,null,null,0,null,null,null,null,null,null,null,null,null,0,0]
[null,null,null,null,null,null,null,null,null,null,0,null,null,null,null,null,null,null,null,null,0,0]
[]
["Low Gross Score",{"$f":"MIN(B6,B8,B10,B12,B14,B16,B18,B20,B22,B24,B26,B28,B30,32,B34,B36,B38,B40,B42,B44,B46,B48,B50,B52)","v":4},{"$f":"MIN(C6,C8,C10,C12,C14,C16,C18,C20,C22,C24,C26,C28,C30,32,C34,C36,C38,C40,C42,C44,C46,C48,C50,C52)","v":4},2,3,3,5,4,4,3,{"$f":"SUM(B55:J55)","v":32},{"$f":"MIN(L6,L8,L10,L12,L14,L16,L18,L20,L22,L24,L26,L28,L30,32,L34,L36,L38,L40,L42,L44,L46,L48,L50,L52)","v":4},3,3,3,3,3,4,4,3,{"$f":"SUM(L55:T55)","v":30},{"$f":"SUM(K55+U55)","v":62}]
["Low Net Score",{"$f":"MIN(B7,B9,B11,B13,B15,B17,B19,B21,B23,B25,B27,B29,B31,B33,B35,B37,B39,B41,B43,B45,B47,B49,B51,B53)","v":4},{"$f":"MIN(C7,C9,C11,C13,C15,C17,C19, C21,C23,C25,C27,C29,C31,C33,C35,C37,C39,C41,C43,C45,C47,C49,C51,C53)","v":4},2,3,3,5,3,4,2,30,{"$f":"MIN(L7,L9,L11,L13,L15,L17,L19, L21,L23,L25,L27,L29,L31,L33,L35,L37,L39,L41,L43,L45,L47,L49,L51,L53)","v":4},2,3,2,3,2,4,4,2,26,56]

{"sheet":"LENAKAKIS, YIANNI","index":27,"n_rows":56,"n_cols":23,"rows_kept":56,"cut":false,"hidden":false,"merged":[]}
[]
["LENAKAKIS, YIANNI",null,null,null,null,null,null,null,null,null,null,null,null,null,null,null,null,null,null,null,null,null,"HANDICAP"]
["HOLE",1,2,3,4,5,6,7,8,9,"OUT",10,11,12,13,14,15,16,17,18,"IN","TOTAL"]
["HANDICAP",8,14,18,6,16,10,4,12,2,null,9,5,17,3,15,7,13,11,1]
["PAR",4,5,3,4,3,5,4,4,4,36,5,4,3,4,4,3,5,4,4,36,72]
["1 Jan 28 - NCGA 4-Ball",5,5,5,5,4,5,5,5,4,{"$f":"SUM(B6:J6)","v":43},5,5,4,7,5,4,5,4,6,{"$f":"SUM(L6:T6)","v":45},{"$f":"SUM(K6+U6)","v":88}]
["NET",{"$f":"B6-(B$4<=MOD($W7,18))-INT($W7/18)","v":4},{"$f":"C6-(C$4<=MOD($W7,18))-INT($W7/18)","v":4},5,4,4,4,4,4,3,36,{"$f":"L6-(L$4<=MOD($W7,18))-INT($W7/18)","v":4},4,4,6,5,3,4,3,5,38,74,14]
["2 Feb 11 - Super Bowl",6,9,4,5,4,4,5,6,4,47,5,7,4,6,6,4,5,5,5,47,94]
["NET",{"$f":"B8-(B$4<=MOD($W9,18))-INT($W9/18)","v":5},{"$f":"C8-(C$4<=MOD($W9,18))-INT($W9/18)","v":9},4,4,4,3,4,5,3,41,{"$f":"L8-(L$4<=MOD($W9,18))-INT($W9/18)","v":4},{"$f":"M8-(M$4<=MOD($W9,18))-INT($W9/18)","v":6},4,5,6,3,4,4,4,40,81,13]
["3 Feb 26 - Modified Stableford",4,8,3,6,5,5,7,5,6,49,7,5,3,7,6,4,5,4,6,47,96]
["NET",{"$f":"B10-(B$4<=MOD($W11,18))-INT($W11/18)","v":3},8,3,5,5,4,6,4,5,43,{"$f":"L10-(L$4<=MOD($W11,18))-INT($W11/18)","v":6},{"$f":"M10-(M$4<=MOD($W11,18))-INT($W11/18)","v":4},3,6,6,3,4,3,5,40,83,13]
["4 Mar 25 - Zone Qualifier Rd 1",5,6,6,5,5,7,4,4,5,47,7,5,4,7,6,3,7,4,6,49,96]
["NET",{"$f":"B12-(B$4<=MOD($W13,18))-INT($W13/18)","v":4},5,6,4,5,6,3,3,4,40,{"$f":"L12-(L$4<=MOD($W13,18))-INT($W13/18)","v":6},{"$f":"M12-(M$4<=MOD($W13,18))-INT($W13/18)","v":4},4,6,6,2,6,3,5,42,82,14]
["5 Mar 26 - Zone Qualifier Rd 2",7,6,3,6,4,7,6,4,6,49,7,4,3,5,5,4,5,7,7,47,96]
["NET",{"$f":"B14-(B$4<=MOD($W15,18))-INT($W15/18)","v":6},5,3,5,4,6,5,3,5,42,{"$f":"L14-(L$4<=MOD($W15,18))-INT($W15/18)","v":6},{"$f":"M14-(M$4<=MOD($W15,18))-INT($W15/18)","v":3},3,4,5,3,4,6,6,40,82,14]
["6 Apr 8 - RGC Masters",4,7,4,6,5,7,5,5,5,48,7,6,3,6,4,4,4,3,7,44,92]
["NET",{"$f":"B16-(B$4<=MOD($W17,18))-INT($W17/18)","v":3},6,4,5,5,6,4,4,4,41,{"$f":"L16-(L$4<=MOD($W17,18))-INT($W17/18)","v":6},{"$f":"M16-(M$4<=MOD($W17,18))-INT($W17/18)","v":5},3,5,4,3,3,2,6,37,78,14]
["7 Apr 11 - Day on the Oaks 1",null,null,null,null,null,null,null,null,null,0,null,null,null,null,null,null,null,null,null,0,0]
["NET",null,null,null,null,null,null,null,null,null,0,null,null,null,null,null,null,null,null,null,0,0]
["8 Apr 15 - 54 Hole Individual Rd 1",5,5,3,8,4,4,5,6,7,47,9,5,3,4,4,4,6,4,4,43,90]
["NET",{"$f":"B20-(B$4<=MOD($W21,18))-INT($W21/18)","v":4},{"$f":"C20-(C$4<=MOD($W21,18))-INT($W21/18)","v":4},3,7,4,3,4,5,6,40,{"$f":"L20-(L$4<=MOD($W21,18))-INT($W21/18)","v":8},{"$f":"M20-(M$4<=MOD($W21,18))-INT($W21/18)","v":4},3,3,4,3,5,3,3,36,76,14]
["9 Apr 16 - 54 Hole Individual Rd 2",6,5,4,5,5,5,5,4,4,43,7,4,4,6,6,5,6,6,5,49,92]
["NET",{"$f":"B22-(B$4<=MOD($W23,18))-INT($W23/18)","v":5},{"$f":"C22-(C$4<=MOD($W23,18))-INT($W23/18)","v":4},4,4,5,4,4,3,3,36,{"$f":"L22-(L$4<=MOD($W23,18))-INT($W23/18)","v":6},{"$f":"M22-(M$4<=MOD($W23,18))-INT($W23/18)","v":3},4,5,6,4,5,5,4,42,78,14]
["10 Apr 22 - 54 Hole Individual Rd 3",7,6,4,5,4,9,4,5,3,47,5,7,6,5,5,4,5,5,6,48,95]
["NET",{"$f":"B24-(B$4<=MOD($W25,18))-INT($W25/18)","v":6},{"$f":"C24-(C$4<=MOD($W25,18))-INT($W25/18)","v":5},4,4,4,8,3,4,2,40,{"$f":"L24-(L$4<=MOD($W25,18))-INT($W25/18)","v":4},{"$f":"M24-(M$4<=MOD($W25,18))-INT($W25/18)","v":6},6,4,5,3,4,4,5,41,81,14]
["11 May 7 - Senior 4-Ball Qualifier",null,null,null,null,null,null,null,null,null,0,null,null,null,null,null,null,null,null,null,0,0]
["NET",null,null,null,null,null,null,null,null,null,0,null,null,null,null,null,null,null,null,null,0,0]
["12 May 16 - Day on the Oaks 2",null,null,null,null,null,null,null,null,null,0,null,null,null,null,null,null,null,null,null,0,0]
["NET",null,null,null,null,null,null,null,null,null,0,null,null,null,null,null,null,null,null,null,0,0]
["13 May 28 - Memorial",null,null,null,null,null,null,null,null,null,0,null,null,null,null,null,null,null,null,null,0,0]
["NET",null,null,null,null,null,null,null,null,null,0,null,null,null,null,null,null,null,null,null,0,0]
["14 Jun 10 - 54 Hole Team Rd 1",6,6,3,6,3,5,5,5,6,45,6,4,3,4,4,4,4,5,5,39,84]
["NET",{"$f":"B32-(B$4<=MOD($W33,18))-INT($W33/18)","v":5},{"$f":"C32-(C$4<=MOD($W33,18))-INT($W33/18)","v":6},3,5,3,4,4,5,5,40,{"$f":"L32-(L$4<=MOD($W33,18))-INT($W33/18)","v":5},{"$f":"M32-(M$4<=MOD($W33,18))-INT($W33/18)","v":3},3,3,4,3,4,5,4,34,74,10]
["15 Jun 27 - Day on the Oaks 3",null,null,null,null,null,null,null,null,null,0,null,null,null,null,null,null,null,null,null,0,0]
["NET",null,null,null,null,null,null,null,null,null,0,null,null,null,null,null,null,null,null,null,0,0]
["17 Jul 11 - Day on the Oaks 4",null,null,null,null,null,null,null,null,null,0,null,null,null,null,null,null,null,null,null,0,0]
["NET",null,null,null,null,null,null,null,null,null,0,null,null,null,null,null,null,null,null,null,0,0]
["18 Aug 1 - Day on the Oaks 5",null,null,null,null,null,null,null,null,null,0,null,null,null,null,null,null,null,null,null,0,0]
["NET",null,null,null,null,null,null,null,null,null,0,null,null,null,null,null,null,null,null,null,0,0]
["19 Aug 13 - Rose Cup Qualifier",null,null,null,null,null,null,null,null,null,0,null,null,null,null,null,null,null,null,null,0,0]
["NET",null,null,null,null,null,null,null,null,null,0,null,null,null,null,null,null,null,null,null,0,0]
["20 Aug 29 - Day on the Oaks 6",null,null,null,null,null,null,null,null,null,0,null,null,null,null,null,null,null,null,null,0,0]
["NET",null,null,null,null,null,null,null,null,null,0,null,null,null,null,null,null,null,null,null,0,0]
["21 Sep 3 - Labor Day",null,null,null,null,null,null,null,null,null,0,null,null,null,null,null,null,null,null,null,0,0]
["NET",null,null,null,null,null,null,null,null,null,0,null,null,null,null,null,null,null,null,null,0,0]
["22 Oct 21 - Past Presidents",null,null,null,null,null,null,null,null,null,0,null,null,null,null,null,null,null,null,null,0,0]
["NET",null,null,null,null,null,null,null,null,null,0,null,null,null,null,null,null,null,null,null,0,0]
["23 Nov 12 - Turkey Shoot",null,null,null,null,null,null,null,null,null,0,null,null,null,null,null,null,null,null,null,0,0]
["NET",null,null,null,null,null,null,null,null,null,0,null,null,null,null,null,null,null,null,null,0,0]
["24 Dec 2 - Eclectic Final ",null,null,null,null,null,null,null,null,null,0,null,null,null,null,null,null,null,null,null,0,0]
["NET",null,null,null,null,null,null,null,null,null,0,null,null,null,null,null,null,null,null,null,0,0]
[null,null,null,null,null,null,null,null,null,null,0,null,null,null,null,null,null,null,null,null,0,0]
[null,null,null,null,null,null,null,null,null,null,0,null,null,null,null,null,null,null,null,null,0,0]
[]
["Low Gross Score",{"$f":"MIN(B6,B8,B10,B12,B14,B16,B18,B20,B22,B24,B26,B28,B30,32,B34,B36,B38,B40,B42,B44,B46,B48,B50,B52)","v":4},{"$f":"MIN(C6,C8,C10,C12,C14,C16,C18,C20,C22,C24,C26,C28,C30,32,C34,C36,C38,C40,C42,C44,C46,C48,C50,C52)","v":5},3,5,4,4,4,4,3,{"$f":"SUM(B55:J55)","v":36},{"$f":"MIN(L6,L8,L10,L12,L14,L16,L18,L20,L22,L24,L26,L28,L30,32,L34,L36,L38,L40,L42,L44,L46,L48,L50,L52)","v":5},4,3,4,4,3,4,3,4,{"$f":"SUM(L55:T55)","v":34},{"$f":"SUM(K55+U55)","v":70}]
["Low Net Score",{"$f":"MIN(B7,B9,B11,B13,B15,B17,B19,B21,B23,B25,B27,B29,B31,B33,B35,B37,B39,B41,B43,B45,B47,B49,B51,B53)","v":3},{"$f":"MIN(C7,C9,C11,C13,C15,C17,C19, C21,C23,C25,C27,C29,C31,C33,C35,C37,C39,C41,C43,C45,C47,C49,C51,C53)","v":4},3,4,3,3,3,3,2,28,{"$f":"MIN(L7,L9,L11,L13,L15,L17,L19, L21,L23,L25,L27,L29,L31,L33,L35,L37,L39,L41,L43,L45,L47,L49,L51,L53)","v":4},3,3,3,4,2,3,2,3,27,55]

{"sheet":"MCCULLOUGH, DAN","index":28,"n_rows":56,"n_cols":23,"rows_kept":56,"cut":false,"hidden":false,"merged":[]}
[]
["MCCULLOUGH, DAN",null,null,null,null,null,null,null,null,null,null,null,null,null,null,null,null,null,null,null,null,null,"HANDICAP"]
["HOLE",1,2,3,4,5,6,7,8,9,"OUT",10,11,12,13,14,15,16,17,18,"IN","TOTAL"]
["HANDICAP",8,14,18,6,16,10,4,12,2,null,9,5,17,3,15,7,13,11,1]
["PAR",4,5,3,4,3,5,4,4,4,36,5,4,3,4,4,3,5,4,4,36,72]
["1 Jan 28 - NCGA 4-Ball",6,5,4,4,4,5,5,5,5,{"$f":"SUM(B6:J6)","v":43},5,4,4,5,7,4,5,4,4,{"$f":"SUM(L6:T6)","v":42},{"$f":"SUM(K6+U6)","v":85}]
["NET",{"$f":"B6-(B$4<=MOD($W7,18))-INT($W7/18)","v":6},{"$f":"C6-(C$4<=MOD($W7,18))-INT($W7/18)","v":5},4,4,4,5,5,5,4,42,{"$f":"L6-(L$4<=MOD($W7,18))-INT($W7/18)","v":5},4,4,4,7,4,5,4,3,40,82,3]
["2 Feb 11 - Super Bowl",6,5,3,5,2,5,6,3,4,39,6,4,4,5,4,6,5,4,4,42,81]
["NET",{"$f":"B8-(B$4<=MOD($W9,18))-INT($W9/18)","v":6},{"$f":"C8-(C$4<=MOD($W9,18))-INT($W9/18)","v":5},3,5,2,5,6,3,3,38,{"$f":"L8-(L$4<=MOD($W9,18))-INT($W9/18)","v":6},{"$f":"M8-(M$4<=MOD($W9,18))-INT($W9/18)","v":4},4,4,4,6,5,4,3,40,78,3]
["3 Feb 26 - Modified Stableford",null,null,null,null,null,null,null,null,null,0,null,null,null,null,null,null,null,null,null,0,0]
["NET",null,null,null,null,null,null,null,null,null,0,null,null,null,null,null,null,null,null,null,0,0]
["4 Mar 25 - Zone Qualifier Rd 1",6,5,3,5,4,5,4,5,4,41,6,4,3,4,4,3,5,5,5,39,80]
["NET",{"$f":"B12-(B$4<=MOD($W13,18))-INT($W13/18)","v":6},5,3,5,4,5,4,5,3,40,{"$f":"L12-(L$4<=MOD($W13,18))-INT($W13/18)","v":6},{"$f":"M12-(M$4<=MOD($W13,18))-INT($W13/18)","v":4},3,3,4,3,5,5,4,37,77,3]
["5 Mar 26 - Zone Qualifier Rd 2",5,5,3,5,2,5,4,5,5,39,4,5,3,4,4,4,5,5,4,38,77]
["NET",{"$f":"B14-(B$4<=MOD($W15,18))-INT($W15/18)","v":5},5,3,5,2,5,4,5,4,38,{"$f":"L14-(L$4<=MOD($W15,18))-INT($W15/18)","v":4},{"$f":"M14-(M$4<=MOD($W15,18))-INT($W15/18)","v":5},3,3,4,4,5,5,3,36,74,3]
["6 Apr 8 - RGC Masters",5,4,3,5,4,5,4,3,5,38,5,5,3,4,4,4,4,5,5,39,77]
["NET",{"$f":"B16-(B$4<=MOD($W17,18))-INT($W17/18)","v":5},4,3,5,4,5,4,3,4,37,{"$f":"L16-(L$4<=MOD($W17,18))-INT($W17/18)","v":5},{"$f":"M16-(M$4<=MOD($W17,18))-INT($W17/18)","v":5},3,3,4,4,4,5,4,37,74,3]
["7 Apr 11 - Day on the Oaks 1",null,null,null,null,null,null,null,null,null,0,null,null,null,null,null,null,null,null,null,0,0]
["NET",null,null,null,null,null,null,null,null,null,0,null,null,null,null,null,null,null,null,null,0,0]
["8 Apr 15 - 54 Hole Individual Rd 1",5,4,4,6,3,6,4,5,5,42,4,4,3,5,3,2,5,4,5,35,77]
["NET",{"$f":"B20-(B$4<=MOD($W21,18))-INT($W21/18)","v":5},{"$f":"C20-(C$4<=MOD($W21,18))-INT($W21/18)","v":4},4,6,3,6,4,5,4,41,{"$f":"L20-(L$4<=MOD($W21,18))-INT($W21/18)","v":4},{"$f":"M20-(M$4<=MOD($W21,18))-INT($W21/18)","v":4},3,4,3,2,5,4,4,33,74,3]
["9 Apr 16 - 54 Hole Individual Rd 2",5,6,5,5,4,6,5,4,4,44,7,5,4,4,5,4,4,3,6,42,86]
["NET",{"$f":"B22-(B$4<=MOD($W23,18))-INT($W23/18)","v":5},{"$f":"C22-(C$4<=MOD($W23,18))-INT($W23/18)","v":6},5,5,4,6,5,4,3,43,{"$f":"L22-(L$4<=MOD($W23,18))-INT($W23/18)","v":7},{"$f":"M22-(M$4<=MOD($W23,18))-INT($W23/18)","v":5},4,3,5,4,4,3,5,40,83,3]
["10 Apr 22 - 54 Hole Individual Rd 3",4,5,4,5,3,4,6,5,4,40,6,4,3,5,4,4,5,3,4,38,78]
["NET",{"$f":"B24-(B$4<=MOD($W25,18))-INT($W25/18)","v":4},{"$f":"C24-(C$4<=MOD($W25,18))-INT($W25/18)","v":5},4,5,3,4,6,5,3,39,{"$f":"L24-(L$4<=MOD($W25,18))-INT($W25/18)","v":6},{"$f":"M24-(M$4<=MOD($W25,18))-INT($W25/18)","v":4},3,4,4,4,5,3,3,36,75,3]
["11 May 7 - Senior 4-Ball Qualifier",4,5,3,4,2,7,4,4,5,38,6,4,3,4,4,3,5,3,5,37,75]
["NET",{"$f":"B26-(B$4<=MOD($W27,18))-INT($W27/18)","v":4},5,3,4,2,7,4,4,4,37,{"$f":"L26-(L$4<=MOD($W27,18))-INT($W27/18)","v":6},{"$f":"M26-(M$4<=MOD($W27,18))-INT($W27/18)","v":4},3,4,4,3,5,3,4,36,73,2]
["12 May 16 - Day on the Oaks 2",null,null,null,null,null,null,null,null,null,0,null,null,null,null,null,null,null,null,null,0,0]
["NET",null,null,null,null,null,null,null,null,null,0,null,null,null,null,null,null,null,null,null,0,0]
["13 May 28 - Memorial",null,null,null,null,null,null,null,null,null,0,null,null,null,null,null,null,null,null,null,0,0]
["NET",null,null,null,null,null,null,null,null,null,0,null,null,null,null,null,null,null,null,null,0,0]
["14 Jun 10 - 54 Hole Team Rd 1",4,6,3,5,3,6,3,5,4,39,6,4,2,5,3,4,7,4,5,40,79]
["NET",{"$f":"B32-(B$4<=MOD($W33,18))-INT($W33/18)","v":4},{"$f":"C32-(C$4<=MOD($W33,18))-INT($W33/18)","v":6},3,5,3,6,3,5,3,38,{"$f":"L32-(L$4<=MOD($W33,18))-INT($W33/18)","v":6},{"$f":"M32-(M$4<=MOD($W33,18))-INT($W33/18)","v":4},2,4,3,4,7,4,4,38,76,3]
["15 Jun 27 - Day on the Oaks 3",null,null,null,null,null,null,null,null,null,0,null,null,null,null,null,null,null,null,null,0,0]
["NET",null,null,null,null,null,null,null,null,null,0,null,null,null,null,null,null,null,null,null,0,0]
["17 Jul 11 - Day on the Oaks 4",null,null,null,null,null,null,null,null,null,0,null,null,null,null,null,null,null,null,null,0,0]
["NET",null,null,null,null,null,null,null,null,null,0,null,null,null,null,null,null,null,null,null,0,0]
["18 Aug 1 - Day on the Oaks 5",null,null,null,null,null,null,null,null,null,0,null,null,null,null,null,null,null,null,null,0,0]
["NET",null,null,null,null,null,null,null,null,null,0,null,null,null,null,null,null,null,null,null,0,0]
["19 Aug 13 - Rose Cup Qualifier",null,null,null,null,null,null,null,null,null,0,null,null,null,null,null,null,null,null,null,0,0]
["NET",null,null,null,null,null,null,null,null,null,0,null,null,null,null,null,null,null,null,null,0,0]
["20 Aug 29 - Day on the Oaks 6",null,null,null,null,null,null,null,null,null,0,null,null,null,null,null,null,null,null,null,0,0]
["NET",null,null,null,null,null,null,null,null,null,0,null,null,null,null,null,null,null,null,null,0,0]
["21 Sep 3 - Labor Day",null,null,null,null,null,null,null,null,null,0,null,null,null,null,null,null,null,null,null,0,0]
["NET",null,null,null,null,null,null,null,null,null,0,null,null,null,null,null,null,null,null,null,0,0]
["22 Oct 21 - Past Presidents",null,null,null,null,null,null,null,null,null,0,null,null,null,null,null,null,null,null,null,0,0]
["NET",null,null,null,null,null,null,null,null,null,0,null,null,null,null,null,null,null,null,null,0,0]
["23 Nov 12 - Turkey Shoot",null,null,null,null,null,null,null,null,null,0,null,null,null,null,null,null,null,null,null,0,0]
["NET",null,null,null,null,null,null,null,null,null,0,null,null,null,null,null,null,null,null,null,0,0]
["24 Dec 2 - Eclectic Final ",null,null,null,null,null,null,null,null,null,0,null,null,null,null,null,null,null,null,null,0,0]
["NET",null,null,null,null,null,null,null,null,null,0,null,null,null,null,null,null,null,null,null,0,0]
[null,null,null,null,null,null,null,null,null,null,0,null,null,null,null,null,null,null,null,null,0,0]
[null,null,null,null,null,null,null,null,null,null,0,null,null,null,null,null,null,null,null,null,0,0]
[]
["Low Gross Score",{"$f":"MIN(B6,B8,B10,B12,B14,B16,B18,B20,B22,B24,B26,B28,B30,32,B34,B36,B38,B40,B42,B44,B46,B48,B50,B52)","v":4},{"$f":"MIN(C6,C8,C10,C12,C14,C16,C18,C20,C22,C24,C26,C28,C30,32,C34,C36,C38,C40,C42,C44,C46,C48,C50,C52)","v":4},3,4,2,4,4,3,4,{"$f":"SUM(B55:J55)","v":32},{"$f":"MIN(L6,L8,L10,L12,L14,L16,L18,L20,L22,L24,L26,L28,L30,32,L34,L36,L38,L40,L42,L44,L46,L48,L50,L52)","v":4},4,3,4,3,2,4,3,4,{"$f":"SUM(L55:T55)","v":31},{"$f":"SUM(K55+U55)","v":63}]
["Low Net Score",{"$f":"MIN(B7,B9,B11,B13,B15,B17,B19,B21,B23,B25,B27,B29,B31,B33,B35,B37,B39,B41,B43,B45,B47,B49,B51,B53)","v":4},{"$f":"MIN(C7,C9,C11,C13,C15,C17,C19, C21,C23,C25,C27,C29,C31,C33,C35,C37,C39,C41,C43,C45,C47,C49,C51,C53)","v":4},3,4,2,4,3,3,3,30,{"$f":"MIN(L7,L9,L11,L13,L15,L17,L19, L21,L23,L25,L27,L29,L31,L33,L35,L37,L39,L41,L43,L45,L47,L49,L51,L53)","v":4},4,2,3,3,2,4,3,3,28,58]

{"sheet":"MCELHATTON, THOMAS","index":29,"n_rows":56,"n_cols":23,"rows_kept":56,"cut":false,"hidden":false,"merged":[]}
[]
["MCELHATTON, THOMAS",null,null,null,null,null,null,null,null,null,null,null,null,null,null,null,null,null,null,null,null,null,"HANDICAP"]
["HOLE",1,2,3,4,5,6,7,8,9,"OUT",10,11,12,13,14,15,16,17,18,"IN","TOTAL"]
["HANDICAP",8,14,18,6,16,10,4,12,2,null,9,5,17,3,15,7,13,11,1]
["PAR",4,5,3,4,3,5,4,4,4,36,5,4,3,4,4,3,5,4,4,36,72]
["1 Jan 28 - NCGA 4-Ball",null,null,null,null,null,null,null,null,null,{"$f":"SUM(B6:J6)","v":0},null,null,null,null,null,null,null,null,null,{"$f":"SUM(L6:T6)","v":0},{"$f":"SUM(K6+U6)","v":0}]
["NET",null,null,null,null,null,null,null,null,null,0,null,null,null,null,null,null,null,null,null,0,0,"  "]
["2 Feb 11 - Super Bowl",null,null,null,null,null,null,null,null,null,0,null,null,null,null,null,null,null,null,null,0,0]
["NET",null,null,null,null,null,null,null,null,null,0,null,null,null,null,null,null,null,null,null,0,0]
["3 Feb 26 - Modified Stableford",null,null,null,null,null,null,null,null,null,0,null,null,null,null,null,null,null,null,null,0,0]
["NET",null,null,null,null,null,null,null,null,null,0,null,null,null,null,null,null,null,null,null,0,0]
["4 Mar 25 - Zone Qualifier Rd 1",5,6,4,5,4,6,5,5,5,45,7,5,3,5,6,4,6,5,5,46,91]
["NET",{"$f":"B12-(B$4<=MOD($W13,18))-INT($W13/18)","v":4},{"$f":"C12-(C$4<=MOD($W13,18))-INT($W13/18)","v":6},4,4,4,5,4,5,4,40,{"$f":"L12-(L$4<=MOD($W13,18))-INT($W13/18)","v":6},{"$f":"M12-(M$4<=MOD($W13,18))-INT($W13/18)","v":4},3,4,6,3,6,5,4,41,81,10]
["5 Mar 26 - Zone Qualifier Rd 2",6,5,3,5,4,6,6,6,4,45,6,5,3,5,5,4,5,4,4,41,86]
["NET",{"$f":"B14-(B$4<=MOD($W15,18))-INT($W15/18)","v":5},{"$f":"C14-(C$4<=MOD($W15,18))-INT($W15/18)","v":5},3,4,4,5,5,6,3,40,{"$f":"L14-(L$4<=MOD($W15,18))-INT($W15/18)","v":5},{"$f":"M14-(M$4<=MOD($W15,18))-INT($W15/18)","v":4},3,4,5,3,5,4,3,36,76,10]
["6 Apr 8 - RGC Masters",5,7,3,5,4,5,4,4,5,42,6,3,4,5,5,3,5,4,5,40,82]
["NET",{"$f":"B16-(B$4<=MOD($W17,18))-INT($W17/18)","v":4},7,3,4,4,4,3,4,4,37,{"$f":"L16-(L$4<=MOD($W17,18))-INT($W17/18)","v":5},{"$f":"M16-(M$4<=MOD($W17,18))-INT($W17/18)","v":2},4,4,5,2,5,4,4,35,72,10]
["7 Apr 11 - Day on the Oaks 1",5,6,4,5,4,5,4,4,5,42,5,4,3,5,4,4,6,5,8,44,86]
["NET",{"$f":"B18-(B$4<=MOD($W19,18))-INT($W19/18)","v":4},6,4,4,4,4,3,4,4,37,{"$f":"L18-(L$4<=MOD($W19,18))-INT($W19/18)","v":4},{"$f":"M18-(M$4<=MOD($W19,18))-INT($W19/18)","v":3},3,4,4,3,6,5,7,39,76,10]
["8 Apr 15 - 54 Hole Individual Rd 1",null,null,null,null,null,null,null,null,null,0,null,null,null,null,null,null,null,null,null,0,0]
["NET",null,null,null,null,null,null,null,null,null,0,null,null,null,null,null,null,null,null,null,0,0]
["9 Apr 16 - 54 Hole Individual Rd 2",null,null,null,null,null,null,null,null,null,0,null,null,null,null,null,null,null,null,null,0,0]
["NET",null,null,null,null,null,null,null,null,null,0,null,null,null,null,null,null,null,null,null,0,0]
["10 Apr 22 - 54 Hole Individual Rd 3",null,null,null,null,null,null,null,null,null,0,null,null,null,null,null,null,null,null,null,0,0]
["NET",null,null,null,null,null,null,null,null,null,0,null,null,null,null,null,null,null,null,null,0,0]
["11 May 7 - Senior 4-Ball Qualifier",null,null,null,null,null,null,null,null,null,0,null,null,null,null,null,null,null,null,null,0,0]
["NET",null,null,null,null,null,null,null,null,null,0,null,null,null,null,null,null,null,null,null,0,0]
["12 May 16 - Day on the Oaks 2",6,6,5,7,4,7,3,4,5,47,5,4,5,5,4,5,5,5,6,44,91]
["NET",{"$f":"B28-(B$4<=MOD($W29,18))-INT($W29/18)","v":5},{"$f":"C28-(C$4<=MOD($W29,18))-INT($W29/18)","v":6},5,6,4,6,2,4,4,42,{"$f":"L28-(L$4<=MOD($W29,18))-INT($W29/18)","v":4},{"$f":"M28-(M$4<=MOD($W29,18))-INT($W29/18)","v":3},5,4,4,4,5,5,5,39,81,10]
["13 May 28 - Memorial",4,6,3,5,4,7,4,4,5,42,5,7,3,5,5,5,4,3,5,42,84]
["NET",{"$f":"B30-(B$4<=MOD($W31,18))-INT($W31/18)","v":3},6,3,4,4,6,3,4,4,37,{"$f":"L30-(L$4<=MOD($W31,18))-INT($W31/18)","v":4},{"$f":"M30-(M$4<=MOD($W31,18))-INT($W31/18)","v":6},3,4,5,4,4,3,4,37,74,10]
["14 Jun 10 - 54 Hole Team Rd 1",null,null,null,null,null,null,null,null,null,0,null,null,null,null,null,null,null,null,null,0,0]
["NET",null,null,null,null,null,null,null,null,null,0,null,null,null,null,null,null,null,null,null,0,0]
["15 Jun 27 - Day on the Oaks 3",null,null,null,null,null,null,null,null,null,0,null,null,null,null,null,null,null,null,null,0,0]
["NET",null,null,null,null,null,null,null,null,null,0,null,null,null,null,null,null,null,null,null,0,0]
["17 Jul 11 - Day on the Oaks 4",4,6,4,4,5,5,6,5,5,44,5,6,3,5,4,2,5,5,6,41,85]
["NET",{"$f":"B36-(B$4<=MOD($W37,18))-INT($W37/18)","v":3},{"$f":"C36-(C$4<=MOD($W37,18))-INT($W37/18)","v":6},4,3,5,4,5,5,4,39,{"$f":"L36-(L$4<=MOD($W37,18))-INT($W37/18)","v":4},{"$f":"M36-(M$4<=MOD($W37,18))-INT($W37/18)","v":5},3,4,4,1,5,5,5,36,75,10]
["18 Aug 1 - Day on the Oaks 5",5,5,4,5,3,5,5,5,6,43,6,5,3,4,4,4,5,5,5,41,84]
["NET",{"$f":"B38-(B$4<=MOD($W39,18))-INT($W39/18)","v":4},5,4,4,3,4,4,5,5,38,{"$f":"L38-(L$4<=MOD($W39,18))-INT($W39/18)","v":5},{"$f":"M38-(M$4<=MOD($W39,18))-INT($W39/18)","v":4},3,3,4,3,5,5,4,36,74,10]
["19 Aug 13 - Rose Cup Qualifier",null,null,null,null,null,null,null,null,null,0,null,null,null,null,null,null,null,null,null,0,0]
["NET",null,null,null,null,null,null,null,null,null,0,null,null,null,null,null,null,null,null,null,0,0]
["20 Aug 29 - Day on the Oaks 6",null,null,null,null,null,null,null,null,null,0,null,null,null,null,null,null,null,null,null,0,0]
["NET",null,null,null,null,null,null,null,null,null,0,null,null,null,null,null,null,null,null,null,0,0]
["21 Sep 3 - Labor Day",null,null,null,null,null,null,null,null,null,0,null,null,null,null,null,null,null,null,null,0,0]
["NET",null,null,null,null,null,null,null,null,null,0,null,null,null,null,null,null,null,null,null,0,0]
["22 Oct 21 - Past Presidents",null,null,null,null,null,null,null,null,null,0,null,null,null,null,null,null,null,null,null,0,0]
["NET",null,null,null,null,null,null,null,null,null,0,null,null,null,null,null,null,null,null,null,0,0]
["23 Nov 12 - Turkey Shoot",null,null,null,null,null,null,null,null,null,0,null,null,null,null,null,null,null,null,null,0,0]
["NET",null,null,null,null,null,null,null,null,null,0,null,null,null,null,null,null,null,null,null,0,0]
["24 Dec 2 - Eclectic Final ",null,null,null,null,null,null,null,null,null,0,null,null,null,null,null,null,null,null,null,0,0]
["NET",null,null,null,null,null,null,null,null,null,0,null,null,null,null,null,null,null,null,null,0,0]
[null,null,null,null,null,null,null,null,null,null,0,null,null,null,null,null,null,null,null,null,0,0]
[null,null,null,null,null,null,null,null,null,null,0,null,null,null,null,null,null,null,null,null,0,0]
[]
["Low Gross Score",{"$f":"MIN(B6,B8,B10,B12,B14,B16,B18,B20,B22,B24,B26,B28,B30,32,B34,B36,B38,B40,B42,B44,B46,B48,B50,B52)","v":4},{"$f":"MIN(C6,C8,C10,C12,C14,C16,C18,C20,C22,C24,C26,C28,C30,32,C34,C36,C38,C40,C42,C44,C46,C48,C50,C52)","v":5},3,4,3,5,3,4,4,{"$f":"SUM(B55:J55)","v":35},{"$f":"MIN(L6,L8,L10,L12,L14,L16,L18,L20,L22,L24,L26,L28,L30,32,L34,L36,L38,L40,L42,L44,L46,L48,L50,L52)","v":5},3,3,4,4,2,4,3,4,{"$f":"SUM(L55:T55)","v":32},{"$f":"SUM(K55+U55)","v":67}]
["Low Net Score",{"$f":"MIN(B7,B9,B11,B13,B15,B17,B19,B21,B23,B25,B27,B29,B31,B33,B35,B37,B39,B41,B43,B45,B47,B49,B51,B53)","v":3},{"$f":"MIN(C7,C9,C11,C13,C15,C17,C19, C21,C23,C25,C27,C29,C31,C33,C35,C37,C39,C41,C43,C45,C47,C49,C51,C53)","v":5},3,3,3,4,2,4,3,30,{"$f":"MIN(L7,L9,L11,L13,L15,L17,L19, L21,L23,L25,L27,L29,L31,L33,L35,L37,L39,L41,L43,L45,L47,L49,L51,L53)","v":4},2,3,3,4,1,4,3,3,27,57]

{"sheet":"MCGEE, TONY","index":30,"n_rows":56,"n_cols":23,"rows_kept":56,"cut":false,"hidden":false,"merged":[]}
[]
["MCGEE, TONY",null,null,null,null,null,null,null,null,null,null,null,null,null,null,null,null,null,null,null,null,null,"HANDICAP"]
["HOLE",1,2,3,4,5,6,7,8,9,"OUT",10,11,12,13,14,15,16,17,18,"IN","TOTAL"]
["HANDICAP",8,14,18,6,16,10,4,12,2,null,9,5,17,3,15,7,13,11,1]
["PAR",4,5,3,4,3,5,4,4,4,36,5,4,3,4,4,3,5,4,4,36,72]
["1 Jan 28 - NCGA 4-Ball",5,5,4,6,4,5,5,4,5,{"$f":"SUM(B6:J6)","v":43},7,5,4,6,5,4,7,5,5,{"$f":"SUM(L6:T6)","v":48},{"$f":"SUM(K6+U6)","v":91}]
["NET",{"$f":"B6-(B$4<=MOD($W7,18))-INT($W7/18)","v":4},{"$f":"C6-(C$4<=MOD($W7,18))-INT($W7/18)","v":5},4,5,4,4,4,4,4,38,{"$f":"L6-(L$4<=MOD($W7,18))-INT($W7/18)","v":6},4,4,5,5,3,7,5,4,43,81,10]
["2 Feb 11 - Super Bowl",5,7,2,4,5,6,5,6,4,44,6,4,5,4,4,4,5,5,5,42,86]
["NET",{"$f":"B8-(B$4<=MOD($W9,18))-INT($W9/18)","v":4},{"$f":"C8-(C$4<=MOD($W9,18))-INT($W9/18)","v":7},2,3,5,5,4,6,3,39,{"$f":"L8-(L$4<=MOD($W9,18))-INT($W9/18)","v":5},{"$f":"M8-(M$4<=MOD($W9,18))-INT($W9/18)","v":3},5,3,4,3,5,5,4,37,76,10]
["3 Feb 26 - Modified Stableford",5,5,3,4,3,8,5,4,6,43,5,4,3,6,5,3,5,4,5,40,83]
["NET",{"$f":"B10-(B$4<=MOD($W11,18))-INT($W11/18)","v":4},5,3,3,3,7,4,4,5,38,{"$f":"L10-(L$4<=MOD($W11,18))-INT($W11/18)","v":4},{"$f":"M10-(M$4<=MOD($W11,18))-INT($W11/18)","v":3},3,5,5,2,5,4,4,35,73,10]
["4 Mar 25 - Zone Qualifier Rd 1",7,5,3,5,3,8,4,5,5,45,7,4,3,5,5,5,5,6,7,47,92]
["NET",{"$f":"B12-(B$4<=MOD($W13,18))-INT($W13/18)","v":6},5,3,4,3,7,3,4,4,39,{"$f":"L12-(L$4<=MOD($W13,18))-INT($W13/18)","v":6},{"$f":"M12-(M$4<=MOD($W13,18))-INT($W13/18)","v":3},3,4,5,4,5,5,6,41,80,12]
["5 Mar 26 - Zone Qualifier Rd 2",5,5,3,5,4,6,4,5,5,42,5,7,4,5,4,4,5,5,5,44,86]
["NET",{"$f":"B14-(B$4<=MOD($W15,18))-INT($W15/18)","v":4},5,3,4,4,5,3,4,4,36,{"$f":"L14-(L$4<=MOD($W15,18))-INT($W15/18)","v":4},{"$f":"M14-(M$4<=MOD($W15,18))-INT($W15/18)","v":6},4,4,4,3,5,4,4,38,74,12]
["6 Apr 8 - RGC Masters",5,5,5,5,2,6,7,6,5,46,6,5,4,5,4,3,5,5,5,42,88]
["NET",{"$f":"B16-(B$4<=MOD($W17,18))-INT($W17/18)","v":4},5,5,4,2,5,6,5,4,40,{"$f":"L16-(L$4<=MOD($W17,18))-INT($W17/18)","v":5},{"$f":"M16-(M$4<=MOD($W17,18))-INT($W17/18)","v":4},4,4,4,2,5,4,4,36,76,12]
["7 Apr 11 - Day on the Oaks 1",4,5,5,4,3,5,5,4,5,40,6,4,3,6,4,4,5,5,6,43,83]
["NET",{"$f":"B18-(B$4<=MOD($W19,18))-INT($W19/18)","v":3},5,5,3,3,4,4,3,4,34,{"$f":"L18-(L$4<=MOD($W19,18))-INT($W19/18)","v":5},{"$f":"M18-(M$4<=MOD($W19,18))-INT($W19/18)","v":3},3,5,4,3,5,4,5,37,71,12]
["8 Apr 15 - 54 Hole Individual Rd 1",4,5,3,5,4,6,5,5,6,43,5,4,3,5,4,5,6,5,4,41,84]
["NET",{"$f":"B20-(B$4<=MOD($W21,18))-INT($W21/18)","v":3},5,3,4,4,5,4,4,5,37,{"$f":"L20-(L$4<=MOD($W21,18))-INT($W21/18)","v":4},{"$f":"M20-(M$4<=MOD($W21,18))-INT($W21/18)","v":3},3,4,4,4,6,4,3,35,72,12]
["9 Apr 16 - 54 Hole Individual Rd 2",4,5,3,4,3,6,6,6,5,42,6,5,4,5,5,4,6,5,5,45,87]
["NET",{"$f":"B22-(B$4<=MOD($W23,18))-INT($W23/18)","v":3},5,3,3,3,5,5,5,4,36,{"$f":"L22-(L$4<=MOD($W23,18))-INT($W23/18)","v":5},{"$f":"M22-(M$4<=MOD($W23,18))-INT($W23/18)","v":4},4,4,5,3,6,4,4,39,75,12]
["10 Apr 22 - 54 Hole Individual Rd 3",4,6,3,5,4,5,5,4,4,40,6,5,4,5,4,5,6,4,6,45,85]
["NET",{"$f":"B24-(B$4<=MOD($W25,18))-INT($W25/18)","v":3},6,3,4,4,4,4,3,3,34,{"$f":"L24-(L$4<=MOD($W25,18))-INT($W25/18)","v":5},{"$f":"M24-(M$4<=MOD($W25,18))-INT($W25/18)","v":4},4,4,4,4,6,3,5,39,73,12]
["11 May 7 - Senior 4-Ball Qualifier",null,null,null,null,null,null,null,null,null,0,null,null,null,null,null,null,null,null,null,0,0]
["NET",null,null,null,null,null,null,null,null,null,0,null,null,null,null,null,null,null,null,null,0,0]
["12 May 16 - Day on the Oaks 2",5,5,3,6,3,7,4,6,4,43,6,4,3,4,5,4,6,5,5,42,85]
["NET",{"$f":"B28-(B$4<=MOD($W29,18))-INT($W29/18)","v":4},{"$f":"C28-(C$4<=MOD($W29,18))-INT($W29/18)","v":5},3,5,3,6,3,5,3,37,{"$f":"L28-(L$4<=MOD($W29,18))-INT($W29/18)","v":5},{"$f":"M28-(M$4<=MOD($W29,18))-INT($W29/18)","v":3},3,3,5,3,6,4,4,36,73,12]
["13 May 28 - Memorial",5,6,3,4,2,6,6,4,4,40,7,5,3,6,6,3,7,6,5,48,88]
["NET",{"$f":"B30-(B$4<=MOD($W31,18))-INT($W31/18)","v":4},6,3,3,2,5,5,3,3,34,{"$f":"L30-(L$4<=MOD($W31,18))-INT($W31/18)","v":6},{"$f":"M30-(M$4<=MOD($W31,18))-INT($W31/18)","v":4},3,5,6,2,7,5,4,42,76,12]
["14 Jun 10 - 54 Hole Team Rd 1",null,null,null,null,null,null,null,null,null,0,null,null,null,null,null,null,null,null,null,0,0]
["NET",null,null,null,null,null,null,null,null,null,0,null,null,null,null,null,null,null,null,null,0,0]
["15 Jun 27 - Day on the Oaks 3",4,5,3,4,4,7,5,5,4,41,5,5,4,4,5,4,7,4,5,43,84]
["NET",{"$f":"B34-(B$4<=MOD($W35,18))-INT($W35/18)","v":3},{"$f":"C34-(C$4<=MOD($W35,18))-INT($W35/18)","v":5},3,3,4,6,4,5,3,36,{"$f":"L34-(L$4<=MOD($W35,18))-INT($W35/18)","v":4},{"$f":"M34-(M$4<=MOD($W35,18))-INT($W35/18)","v":4},4,3,5,3,7,3,4,37,73,11]
["17 Jul 11 - Day on the Oaks 4",5,5,3,4,3,6,4,5,5,40,6,4,3,3,6,3,5,4,6,40,80]
["NET",{"$f":"B36-(B$4<=MOD($W37,18))-INT($W37/18)","v":4},5,3,3,3,5,3,5,4,35,{"$f":"L36-(L$4<=MOD($W37,18))-INT($W37/18)","v":5},{"$f":"M36-(M$4<=MOD($W37,18))-INT($W37/18)","v":3},3,2,6,2,5,3,5,34,69,11]
["18 Aug 1 - Day on the Oaks 5",4,5,3,4,2,5,5,4,5,37,5,5,3,5,4,2,5,7,5,41,78]
["NET",{"$f":"B38-(B$4<=MOD($W39,18))-INT($W39/18)","v":3},5,3,3,2,4,4,4,4,32,{"$f":"L38-(L$4<=MOD($W39,18))-INT($W39/18)","v":4},{"$f":"M38-(M$4<=MOD($W39,18))-INT($W39/18)","v":4},3,4,4,1,5,7,4,36,68,10]
["19 Aug 13 - Rose Cup Qualifier",null,null,null,null,null,null,null,null,null,0,null,null,null,null,null,null,null,null,null,0,0]
["NET",null,null,null,null,null,null,null,null,null,0,null,null,null,null,null,null,null,null,null,0,0]
["20 Aug 29 - Day on the Oaks 6",null,null,null,null,null,null,null,null,null,0,null,null,null,null,null,null,null,null,null,0,0]
["NET",null,null,null,null,null,null,null,null,null,0,null,null,null,null,null,null,null,null,null,0,0]
["21 Sep 3 - Labor Day",null,null,null,null,null,null,null,null,null,0,null,null,null,null,null,null,null,null,null,0,0]
["NET",null,null,null,null,null,null,null,null,null,0,null,null,null,null,null,null,null,null,null,0,0]
["22 Oct 21 - Past Presidents",null,null,null,null,null,null,null,null,null,0,null,null,null,null,null,null,null,null,null,0,0]
["NET",null,null,null,null,null,null,null,null,null,0,null,null,null,null,null,null,null,null,null,0,0]
["23 Nov 12 - Turkey Shoot",null,null,null,null,null,null,null,null,null,0,null,null,null,null,null,null,null,null,null,0,0]
["NET",null,null,null,null,null,null,null,null,null,0,null,null,null,null,null,null,null,null,null,0,0]
["24 Dec 2 - Eclectic Final ",null,null,null,null,null,null,null,null,null,0,null,null,null,null,null,null,null,null,null,0,0]
["NET",null,null,null,null,null,null,null,null,null,0,null,null,null,null,null,null,null,null,null,0,0]
[null,null,null,null,null,null,null,null,null,null,0,null,null,null,null,null,null,null,null,null,0,0]
[null,null,null,null,null,null,null,null,null,null,0,null,null,null,null,null,null,null,null,null,0,0]
[]
["Low Gross Score",{"$f":"MIN(B6,B8,B10,B12,B14,B16,B18,B20,B22,B24,B26,B28,B30,32,B34,B36,B38,B40,B42,B44,B46,B48,B50,B52)","v":4},{"$f":"MIN(C6,C8,C10,C12,C14,C16,C18,C20,C22,C24,C26,C28,C30,32,C34,C36,C38,C40,C42,C44,C46,C48,C50,C52)","v":5},2,4,2,5,4,4,4,{"$f":"SUM(B55:J55)","v":34},{"$f":"MIN(L6,L8,L10,L12,L14,L16,L18,L20,L22,L24,L26,L28,L30,32,L34,L36,L38,L40,L42,L44,L46,L48,L50,L52)","v":5},4,3,3,4,2,5,4,4,{"$f":"SUM(L55:T55)","v":34},{"$f":"SUM(K55+U55)","v":68}]
["Low Net Score",{"$f":"MIN(B7,B9,B11,B13,B15,B17,B19,B21,B23,B25,B27,B29,B31,B33,B35,B37,B39,B41,B43,B45,B47,B49,B51,B53)","v":3},{"$f":"MIN(C7,C9,C11,C13,C15,C17,C19, C21,C23,C25,C27,C29,C31,C33,C35,C37,C39,C41,C43,C45,C47,C49,C51,C53)","v":5},2,3,2,4,3,3,3,28,{"$f":"MIN(L7,L9,L11,L13,L15,L17,L19, L21,L23,L25,L27,L29,L31,L33,L35,L37,L39,L41,L43,L45,L47,L49,L51,L53)","v":4},3,3,2,4,1,5,3,3,28,56]

{"sheet":"MCKERNAN, BRAD","index":31,"n_rows":56,"n_cols":23,"rows_kept":56,"cut":false,"hidden":false,"merged":[]}
[]
["MCKERNAN, BRAD",null,null,null,null,null,null,null,null,null,null,null,null,null,null,null,null,null,null,null,null,null,"HANDICAP"]
["HOLE",1,2,3,4,5,6,7,8,9,"OUT",10,11,12,13,14,15,16,17,18,"IN","TOTAL"]
["HANDICAP",8,14,18,6,16,10,4,12,2,null,9,5,17,3,15,7,13,11,1]
["PAR",4,5,3,4,3,5,4,4,4,36,5,4,3,4,4,3,5,4,4,36,72]
["1 Jan 28 - NCGA 4-Ball",5,7,3,6,5,8,7,5,6,{"$f":"SUM(B6:J6)","v":52},6,5,5,6,5,4,7,6,5,{"$f":"SUM(L6:T6)","v":49},{"$f":"SUM(K6+U6)","v":101}]
["NET",{"$f":"B6-(B$4<=MOD($W7,18))-INT($W7/18)","v":4},{"$f":"C6-(C$4<=MOD($W7,18))-INT($W7/18)","v":6},3,5,5,7,6,4,5,45,{"$f":"L6-(L$4<=MOD($W7,18))-INT($W7/18)","v":5},4,5,5,4,3,6,5,4,41,86,15]
["2 Feb 11 - Super Bowl",6,7,6,6,3,7,5,6,7,53,8,6,5,5,5,4,6,6,5,50,103]
["NET",{"$f":"B8-(B$4<=MOD($W9,18))-INT($W9/18)","v":5},{"$f":"C8-(C$4<=MOD($W9,18))-INT($W9/18)","v":6},5,5,2,6,3,5,5,42,{"$f":"L8-(L$4<=MOD($W9,18))-INT($W9/18)","v":7},{"$f":"M8-(M$4<=MOD($W9,18))-INT($W9/18)","v":5},4,3,4,3,5,5,3,39,81,22]
["3 Feb 26 - Modified Stableford",null,null,null,null,null,null,null,null,null,0,null,null,null,null,null,null,null,null,null,0,0]
["NET",null,null,null,null,null,null,null,null,null,0,null,null,null,null,null,null,null,null,null,0,0]
["4 Mar 25 - Zone Qualifier Rd 1",null,null,null,null,null,null,null,null,null,0,null,null,null,null,null,null,null,null,null,0,0]
["NET",null,null,null,null,null,null,null,null,null,0,null,null,null,null,null,null,null,null,null,0,0]
["5 Mar 26 - Zone Qualifier Rd 2",null,null,null,null,null,null,null,null,null,0,null,null,null,null,null,null,null,null,null,0,0]
["NET",null,null,null,null,null,null,null,null,null,0,null,null,null,null,null,null,null,null,null,0,0]
["6 Apr 8 - RGC Masters",5,6,3,6,5,6,5,6,7,49,6,5,5,5,5,3,5,5,6,45,94]
["NET",{"$f":"B16-(B$4<=MOD($W17,18))-INT($W17/18)","v":4},{"$f":"C16-(C$4<=MOD($W17,18))-INT($W17/18)","v":5},2,5,4,5,3,5,5,38,{"$f":"L16-(L$4<=MOD($W17,18))-INT($W17/18)","v":5},{"$f":"M16-(M$4<=MOD($W17,18))-INT($W17/18)","v":4},4,3,4,2,4,4,4,34,72,22]
["7 Apr 11 - Day on the Oaks 1",6,7,6,6,3,6,6,5,6,51,6,6,3,6,6,4,6,6,6,49,100]
["NET",{"$f":"B18-(B$4<=MOD($W19,18))-INT($W19/18)","v":5},6,5,5,2,5,4,4,4,40,{"$f":"L18-(L$4<=MOD($W19,18))-INT($W19/18)","v":5},{"$f":"M18-(M$4<=MOD($W19,18))-INT($W19/18)","v":5},2,4,5,3,5,5,4,38,78,22]
["8 Apr 15 - 54 Hole Individual Rd 1",7,7,4,6,4,6,5,4,5,48,6,5,4,6,5,3,6,5,6,46,94]
["NET",{"$f":"B20-(B$4<=MOD($W21,18))-INT($W21/18)","v":6},6,3,5,3,5,3,3,3,37,{"$f":"L20-(L$4<=MOD($W21,18))-INT($W21/18)","v":5},{"$f":"M20-(M$4<=MOD($W21,18))-INT($W21/18)","v":4},3,4,4,2,5,4,4,35,72,22]
["9 Apr 16 - 54 Hole Individual Rd 2",7,7,3,5,5,8,8,7,6,56,5,5,4,6,5,4,6,5,7,47,103]
["NET",{"$f":"B22-(B$4<=MOD($W23,18))-INT($W23/18)","v":6},6,2,4,4,7,6,6,4,45,{"$f":"L22-(L$4<=MOD($W23,18))-INT($W23/18)","v":4},{"$f":"M22-(M$4<=MOD($W23,18))-INT($W23/18)","v":4},3,4,4,3,5,4,5,36,81,22]
["10 Apr 22 - 54 Hole Individual Rd 3",5,6,4,6,4,7,6,5,4,47,5,5,3,6,5,4,5,5,5,43,90]
["NET",{"$f":"B24-(B$4<=MOD($W25,18))-INT($W25/18)","v":4},5,3,5,3,6,4,4,2,36,{"$f":"L24-(L$4<=MOD($W25,18))-INT($W25/18)","v":4},{"$f":"M24-(M$4<=MOD($W25,18))-INT($W25/18)","v":4},2,4,4,3,4,4,3,32,68,22]
["11 May 7 - Senior 4-Ball Qualifier",8,7,5,6,4,8,5,5,6,54,6,5,4,5,6,4,6,5,5,46,100]
["NET",{"$f":"B26-(B$4<=MOD($W27,18))-INT($W27/18)","v":7},6,5,5,4,7,4,4,5,47,{"$f":"L26-(L$4<=MOD($W27,18))-INT($W27/18)","v":5},{"$f":"M26-(M$4<=MOD($W27,18))-INT($W27/18)","v":4},4,4,5,3,5,4,4,38,85,15]
["12 May 16 - Day on the Oaks 2",7,6,5,5,5,5,6,5,5,49,5,5,4,6,7,4,6,6,5,48,97]
["NET",{"$f":"B28-(B$4<=MOD($W29,18))-INT($W29/18)","v":6},5,4,4,4,4,5,4,3,39,{"$f":"L28-(L$4<=MOD($W29,18))-INT($W29/18)","v":4},{"$f":"M28-(M$4<=MOD($W29,18))-INT($W29/18)","v":4},3,5,6,3,5,5,3,38,77,20]
["13 May 28 - Memorial",6,6,4,5,4,6,5,8,7,51,5,6,3,5,5,3,5,5,5,42,93]
["NET",{"$f":"B30-(B$4<=MOD($W31,18))-INT($W31/18)","v":5},5,3,4,3,5,4,7,5,41,{"$f":"L30-(L$4<=MOD($W31,18))-INT($W31/18)","v":4},{"$f":"M30-(M$4<=MOD($W31,18))-INT($W31/18)","v":5},2,3,4,2,4,4,3,31,72,21]
["14 Jun 10 - 54 Hole Team Rd 1",5,7,3,5,4,8,7,4,5,48,7,5,3,5,5,3,6,5,5,44,92]
["NET",{"$f":"B32-(B$4<=MOD($W33,18))-INT($W33/18)","v":4},6,2,4,3,7,6,3,4,39,{"$f":"L32-(L$4<=MOD($W33,18))-INT($W33/18)","v":6},{"$f":"M32-(M$4<=MOD($W33,18))-INT($W33/18)","v":4},2,4,4,2,5,4,3,34,73,19]
["15 Jun 27 - Day on the Oaks 3",5,8,4,6,4,7,5,4,5,48,5,6,3,5,5,4,6,5,5,44,92]
["NET",{"$f":"B34-(B$4<=MOD($W35,18))-INT($W35/18)","v":4},7,3,5,3,6,4,3,3,38,{"$f":"L34-(L$4<=MOD($W35,18))-INT($W35/18)","v":4},{"$f":"M34-(M$4<=MOD($W35,18))-INT($W35/18)","v":5},2,4,4,3,5,4,3,34,72,20]
["17 Jul 11 - Day on the Oaks 4",4,7,4,7,5,7,7,5,5,51,7,5,5,6,5,4,6,5,6,49,100]
["NET",{"$f":"B36-(B$4<=MOD($W37,18))-INT($W37/18)","v":3},6,3,6,4,6,6,4,4,42,{"$f":"L36-(L$4<=MOD($W37,18))-INT($W37/18)","v":6},{"$f":"M36-(M$4<=MOD($W37,18))-INT($W37/18)","v":4},4,5,4,3,5,4,4,39,81,19]
["18 Aug 1 - Day on the Oaks 5",5,6,4,6,4,6,6,5,6,48,8,7,3,5,6,4,6,4,6,49,97]
["NET",{"$f":"B38-(B$4<=MOD($W39,18))-INT($W39/18)","v":4},5,3,5,3,5,5,4,5,39,{"$f":"L38-(L$4<=MOD($W39,18))-INT($W39/18)","v":7},{"$f":"M38-(M$4<=MOD($W39,18))-INT($W39/18)","v":6},2,4,5,3,5,3,4,39,78,19]
["19 Aug 13 - Rose Cup Qualifier",null,null,null,null,null,null,null,null,null,0,null,null,null,null,null,null,null,null,null,0,0]
["NET",null,null,null,null,null,null,null,null,null,0,null,null,null,null,null,null,null,null,null,0,0]
["20 Aug 29 - Day on the Oaks 6",null,null,null,null,null,null,null,null,null,0,null,null,null,null,null,null,null,null,null,0,0]
["NET",null,null,null,null,null,null,null,null,null,0,null,null,null,null,null,null,null,null,null,0,0]
["21 Sep 3 - Labor Day",null,null,null,null,null,null,null,null,null,0,null,null,null,null,null,null,null,null,null,0,0]
["NET",null,null,null,null,null,null,null,null,null,0,null,null,null,null,null,null,null,null,null,0,0]
["22 Oct 21 - Past Presidents",null,null,null,null,null,null,null,null,null,0,null,null,null,null,null,null,null,null,null,0,0]
["NET",null,null,null,null,null,null,null,null,null,0,null,null,null,null,null,null,null,null,null,0,0]
["23 Nov 12 - Turkey Shoot",null,null,null,null,null,null,null,null,null,0,null,null,null,null,null,null,null,null,null,0,0]
["NET",null,null,null,null,null,null,null,null,null,0,null,null,null,null,null,null,null,null,null,0,0]
["24 Dec 2 - Eclectic Final ",null,null,null,null,null,null,null,null,null,0,null,null,null,null,null,null,null,null,null,0,0]
["NET",null,null,null,null,null,null,null,null,null,0,null,null,null,null,null,null,null,null,null,0,0]
[null,null,null,null,null,null,null,null,null,null,0,null,null,null,null,null,null,null,null,null,0,0]
[null,null,null,null,null,null,null,null,null,null,0,null,null,null,null,null,null,null,null,null,0,0]
[]
["Low Gross Score",{"$f":"MIN(B6,B8,B10,B12,B14,B16,B18,B20,B22,B24,B26,B28,B30,32,B34,B36,B38,B40,B42,B44,B46,B48,B50,B52)","v":4},{"$f":"MIN(C6,C8,C10,C12,C14,C16,C18,C20,C22,C24,C26,C28,C30,32,C34,C36,C38,C40,C42,C44,C46,C48,C50,C52)","v":6},3,5,3,5,5,4,4,{"$f":"SUM(B55:J55)","v":39},{"$f":"MIN(L6,L8,L10,L12,L14,L16,L18,L20,L22,L24,L26,L28,L30,32,L34,L36,L38,L40,L42,L44,L46,L48,L50,L52)","v":5},5,3,5,5,3,5,4,5,{"$f":"SUM(L55:T55)","v":40},{"$f":"SUM(K55+U55)","v":79}]
["Low Net Score",{"$f":"MIN(B7,B9,B11,B13,B15,B17,B19,B21,B23,B25,B27,B29,B31,B33,B35,B37,B39,B41,B43,B45,B47,B49,B51,B53)","v":3},{"$f":"MIN(C7,C9,C11,C13,C15,C17,C19, C21,C23,C25,C27,C29,C31,C33,C35,C37,C39,C41,C43,C45,C47,C49,C51,C53)","v":5},2,4,2,4,3,3,2,28,{"$f":"MIN(L7,L9,L11,L13,L15,L17,L19, L21,L23,L25,L27,L29,L31,L33,L35,L37,L39,L41,L43,L45,L47,L49,L51,L53)","v":4},4,2,3,4,2,4,3,3,29,57]

{"sheet":"MONAGHAN, MILES","index":32,"n_rows":56,"n_cols":23,"rows_kept":56,"cut":false,"hidden":false,"merged":[]}
[]
["MONAGHAN, MILES",null,null,null,null,null,null,null,null,null,null,null,null,null,null,null,null,null,null,null,null,null,"HANDICAP"]
["HOLE",1,2,3,4,5,6,7,8,9,"OUT",10,11,12,13,14,15,16,17,18,"IN","TOTAL"]
["HANDICAP",8,14,18,6,16,10,4,12,2,null,9,5,17,3,15,7,13,11,1]
["PAR",4,5,3,4,3,5,4,4,4,36,5,4,3,4,4,3,5,4,4,36,72]
["1 Jan 28 - NCGA 4-Ball",5,6,3,5,4,7,6,4,5,{"$f":"SUM(B6:J6)","v":45},5,4,3,4,4,4,6,5,5,{"$f":"SUM(L6:T6)","v":40},{"$f":"SUM(K6+U6)","v":85}]
["NET",{"$f":"B6-(B$4<=MOD($W7,18))-INT($W7/18)","v":5},{"$f":"C6-(C$4<=MOD($W7,18))-INT($W7/18)","v":6},3,4,4,7,5,4,4,42,{"$f":"L6-(L$4<=MOD($W7,18))-INT($W7/18)","v":5},3,3,3,4,3,6,5,4,36,78,7]
["2 Feb 11 - Super Bowl",4,5,5,4,3,4,5,6,4,40,5,5,3,5,10,3,5,5,3,44,84]
["NET",{"$f":"B8-(B$4<=MOD($W9,18))-INT($W9/18)","v":4},{"$f":"C8-(C$4<=MOD($W9,18))-INT($W9/18)","v":5},5,3,3,4,4,6,3,37,{"$f":"L8-(L$4<=MOD($W9,18))-INT($W9/18)","v":5},{"$f":"M8-(M$4<=MOD($W9,18))-INT($W9/18)","v":4},3,4,10,2,5,5,2,40,77,7]
["3 Feb 26 - Modified Stableford",5,5,3,5,4,8,5,5,4,44,6,4,3,4,3,5,6,4,6,41,85]
["NET",{"$f":"B10-(B$4<=MOD($W11,18))-INT($W11/18)","v":5},5,3,4,4,8,4,5,3,41,{"$f":"L10-(L$4<=MOD($W11,18))-INT($W11/18)","v":6},{"$f":"M10-(M$4<=MOD($W11,18))-INT($W11/18)","v":3},3,3,3,4,6,4,5,37,78,7]
["4 Mar 25 - Zone Qualifier Rd 1",6,5,4,5,4,6,4,5,6,45,6,6,6,5,4,4,5,5,5,46,91]
["NET",{"$f":"B12-(B$4<=MOD($W13,18))-INT($W13/18)","v":6},5,4,4,4,6,3,5,5,42,{"$f":"L12-(L$4<=MOD($W13,18))-INT($W13/18)","v":6},{"$f":"M12-(M$4<=MOD($W13,18))-INT($W13/18)","v":5},6,4,4,3,5,5,4,42,84,7]
["5 Mar 26 - Zone Qualifier Rd 2",5,6,3,4,3,6,5,4,5,41,6,5,4,4,5,3,5,6,5,43,84]
["NET",{"$f":"B14-(B$4<=MOD($W15,18))-INT($W15/18)","v":5},6,3,3,3,6,4,4,4,38,{"$f":"L14-(L$4<=MOD($W15,18))-INT($W15/18)","v":6},{"$f":"M14-(M$4<=MOD($W15,18))-INT($W15/18)","v":4},4,3,5,2,5,6,4,39,77,7]
["6 Apr 8 - RGC Masters",null,null,null,null,null,null,null,null,null,0,null,null,null,null,null,null,null,null,null,0,0]
["NET",null,null,null,null,null,null,null,null,null,0,null,null,null,null,null,null,null,null,null,0,0]
["7 Apr 11 - Day on the Oaks 1",null,null,null,null,null,null,null,null,null,0,null,null,null,null,null,null,null,null,null,0,0]
["NET",null,null,null,null,null,null,null,null,null,0,null,null,null,null,null,null,null,null,null,0,0]
["8 Apr 15 - 54 Hole Individual Rd 1",null,null,null,null,null,null,null,null,null,0,null,null,null,null,null,null,null,null,null,0,0]
["NET",null,null,null,null,null,null,null,null,null,0,null,null,null,null,null,null,null,null,null,0,0]
["9 Apr 16 - 54 Hole Individual Rd 2",null,null,null,null,null,null,null,null,null,0,null,null,null,null,null,null,null,null,null,0,0]
["NET",null,null,null,null,null,null,null,null,null,0,null,null,null,null,null,null,null,null,null,0,0]
["10 Apr 22 - 54 Hole Individual Rd 3",null,null,null,null,null,null,null,null,null,0,null,null,null,null,null,null,null,null,null,0,0]
["NET",null,null,null,null,null,null,null,null,null,0,null,null,null,null,null,null,null,null,null,0,0]
["11 May 7 - Senior 4-Ball Qualifier",null,null,null,null,null,null,null,null,null,0,null,null,null,null,null,null,null,null,null,0,0]
["NET",null,null,null,null,null,null,null,null,null,0,null,null,null,null,null,null,null,null,null,0,0]
["12 May 16 - Day on the Oaks 2",null,null,null,null,null,null,null,null,null,0,null,null,null,null,null,null,null,null,null,0,0]
["NET",null,null,null,null,null,null,null,null,null,0,null,null,null,null,null,null,null,null,null,0,0]
["13 May 28 - Memorial",5,6,5,6,5,6,4,7,7,51,5,4,4,5,4,6,6,5,5,44,95]
["NET",{"$f":"B30-(B$4<=MOD($W31,18))-INT($W31/18)","v":4},{"$f":"C30-(C$4<=MOD($W31,18))-INT($W31/18)","v":6},5,5,5,6,3,7,6,47,{"$f":"L30-(L$4<=MOD($W31,18))-INT($W31/18)","v":5},{"$f":"M30-(M$4<=MOD($W31,18))-INT($W31/18)","v":3},4,4,4,5,6,5,4,40,87,8]
["14 Jun 10 - 54 Hole Team Rd 1",5,5,4,5,4,6,5,6,5,45,5,5,4,4,5,3,7,3,7,43,88]
["NET",{"$f":"B32-(B$4<=MOD($W33,18))-INT($W33/18)","v":4},5,4,4,4,6,4,6,4,41,{"$f":"L32-(L$4<=MOD($W33,18))-INT($W33/18)","v":5},{"$f":"M32-(M$4<=MOD($W33,18))-INT($W33/18)","v":4},4,3,5,2,7,3,6,39,80,8]
["15 Jun 27 - Day on the Oaks 3",null,null,null,null,null,null,null,null,null,0,null,null,null,null,null,null,null,null,null,0,0]
["NET",null,null,null,null,null,null,null,null,null,0,null,null,null,null,null,null,null,null,null,0,0]
["17 Jul 11 - Day on the Oaks 4",null,null,null,null,null,null,null,null,null,0,null,null,null,null,null,null,null,null,null,0,0]
["NET",null,null,null,null,null,null,null,null,null,0,null,null,null,null,null,null,null,null,null,0,0]
["18 Aug 1 - Day on the Oaks 5",null,null,null,null,null,null,null,null,null,0,null,null,null,null,null,null,null,null,null,0,0]
["NET",null,null,null,null,null,null,null,null,null,0,null,null,null,null,null,null,null,null,null,0,0]
["19 Aug 13 - Rose Cup Qualifier",null,null,null,null,null,null,null,null,null,0,null,null,null,null,null,null,null,null,null,0,0]
["NET",null,null,null,null,null,null,null,null,null,0,null,null,null,null,null,null,null,null,null,0,0]
["20 Aug 29 - Day on the Oaks 6",null,null,null,null,null,null,null,null,null,0,null,null,null,null,null,null,null,null,null,0,0]
["NET",null,null,null,null,null,null,null,null,null,0,null,null,null,null,null,null,null,null,null,0,0]
["21 Sep 3 - Labor Day",null,null,null,null,null,null,null,null,null,0,null,null,null,null,null,null,null,null,null,0,0]
["NET",null,null,null,null,null,null,null,null,null,0,null,null,null,null,null,null,null,null,null,0,0]
["22 Oct 21 - Past Presidents",null,null,null,null,null,null,null,null,null,0,null,null,null,null,null,null,null,null,null,0,0]
["NET",null,null,null,null,null,null,null,null,null,0,null,null,null,null,null,null,null,null,null,0,0]
["23 Nov 12 - Turkey Shoot",null,null,null,null,null,null,null,null,null,0,null,null,null,null,null,null,null,null,null,0,0]
["NET",null,null,null,null,null,null,null,null,null,0,null,null,null,null,null,null,null,null,null,0,0]
["24 Dec 2 - Eclectic Final ",null,null,null,null,null,null,null,null,null,0,null,null,null,null,null,null,null,null,null,0,0]
["NET",null,null,null,null,null,null,null,null,null,0,null,null,null,null,null,null,null,null,null,0,0]
[null,null,null,null,null,null,null,null,null,null,0,null,null,null,null,null,null,null,null,null,0,0]
[null,null,null,null,null,null,null,null,null,null,0,null,null,null,null,null,null,null,null,null,0,0]
[]
["Low Gross Score",{"$f":"MIN(B6,B8,B10,B12,B14,B16,B18,B20,B22,B24,B26,B28,B30,32,B34,B36,B38,B40,B42,B44,B46,B48,B50,B52)","v":4},{"$f":"MIN(C6,C8,C10,C12,C14,C16,C18,C20,C22,C24,C26,C28,C30,32,C34,C36,C38,C40,C42,C44,C46,C48,C50,C52)","v":5},3,4,3,4,4,4,4,{"$f":"SUM(B55:J55)","v":35},{"$f":"MIN(L6,L8,L10,L12,L14,L16,L18,L20,L22,L24,L26,L28,L30,32,L34,L36,L38,L40,L42,L44,L46,L48,L50,L52)","v":5},4,3,4,3,3,5,4,3,{"$f":"SUM(L55:T55)","v":34},{"$f":"SUM(K55+U55)","v":69}]
["Low Net Score",{"$f":"MIN(B7,B9,B11,B13,B15,B17,B19,B21,B23,B25,B27,B29,B31,B33,B35,B37,B39,B41,B43,B45,B47,B49,B51,B53)","v":4},{"$f":"MIN(C7,C9,C11,C13,C15,C17,C19, C21,C23,C25,C27,C29,C31,C33,C35,C37,C39,C41,C43,C45,C47,C49,C51,C53)","v":5},3,3,3,4,3,4,3,32,{"$f":"MIN(L7,L9,L11,L13,L15,L17,L19, L21,L23,L25,L27,L29,L31,L33,L35,L37,L39,L41,L43,L45,L47,L49,L51,L53)","v":5},3,3,3,3,2,5,3,2,29,61]

{"sheet":"NELSON, TIMOTHY","index":33,"n_rows":56,"n_cols":23,"rows_kept":56,"cut":false,"hidden":false,"merged":[]}
[]
["NELSON, TIMOTHY",null,null,null,null,null,null,null,null,null,null,null,null,null,null,null,null,null,null,null,null,null,"HANDICAP"]
["HOLE",1,2,3,4,5,6,7,8,9,"OUT",10,11,12,13,14,15,16,17,18,"IN","TOTAL"]
["HANDICAP",8,14,18,6,16,10,4,12,2,null,9,5,17,3,15,7,13,11,1]
["PAR",4,5,3,4,3,5,4,4,4,36,5,4,3,4,4,3,5,4,4,36,72]
["1 Jan 28 - NCGA 4-Ball",6,5,4,5,3,6,4,9,7,{"$f":"SUM(B6:J6)","v":49},5,7,3,6,6,5,6,6,6,{"$f":"SUM(L6:T6)","v":50},{"$f":"SUM(K6+U6)","v":99}]
["NET",{"$f":"B6-(B$4<=MOD($W7,18))-INT($W7/18)","v":5},{"$f":"C6-(C$4<=MOD($W7,18))-INT($W7/18)","v":5},4,4,3,5,3,9,6,44,{"$f":"L6-(L$4<=MOD($W7,18))-INT($W7/18)","v":4},6,3,5,6,4,6,5,5,44,88,11]
["2 Feb 11 - Super Bowl",null,null,null,null,null,null,null,null,null,0,null,null,null,null,null,null,null,null,null,0,0]
["NET",null,null,null,null,null,null,null,null,null,0,null,null,null,null,null,null,null,null,null,0,0]
["3 Feb 26 - Modified Stableford",7,6,4,5,4,6,6,4,5,47,8,6,4,6,5,4,7,6,5,51,98]
["NET",{"$f":"B10-(B$4<=MOD($W11,18))-INT($W11/18)","v":6},{"$f":"C10-(C$4<=MOD($W11,18))-INT($W11/18)","v":6},4,4,4,5,5,4,4,42,{"$f":"L10-(L$4<=MOD($W11,18))-INT($W11/18)","v":7},{"$f":"M10-(M$4<=MOD($W11,18))-INT($W11/18)","v":5},4,5,5,3,7,5,4,45,87,11]
["4 Mar 25 - Zone Qualifier Rd 1",null,null,null,null,null,null,null,null,null,0,null,null,null,null,null,null,null,null,null,0,0]
["NET",null,null,null,null,null,null,null,null,null,0,null,null,null,null,null,null,null,null,null,0,0]
["5 Mar 26 - Zone Qualifier Rd 2",null,null,null,null,null,null,null,null,null,0,null,null,null,null,null,null,null,null,null,0,0]
["NET",null,null,null,null,null,null,null,null,null,0,null,null,null,null,null,null,null,null,null,0,0]
["6 Apr 8 - RGC Masters",6,5,3,4,4,6,5,4,5,42,5,5,3,5,4,5,6,6,5,44,86]
["NET",{"$f":"B16-(B$4<=MOD($W17,18))-INT($W17/18)","v":5},{"$f":"C16-(C$4<=MOD($W17,18))-INT($W17/18)","v":5},3,3,4,5,4,3,4,36,{"$f":"L16-(L$4<=MOD($W17,18))-INT($W17/18)","v":4},{"$f":"M16-(M$4<=MOD($W17,18))-INT($W17/18)","v":4},3,4,4,4,6,5,4,38,74,12]
["7 Apr 11 - Day on the Oaks 1",6,5,4,5,4,5,5,5,6,45,5,5,4,6,4,4,6,5,5,44,89]
["NET",{"$f":"B18-(B$4<=MOD($W19,18))-INT($W19/18)","v":5},5,4,4,4,4,4,4,5,39,{"$f":"L18-(L$4<=MOD($W19,18))-INT($W19/18)","v":4},{"$f":"M18-(M$4<=MOD($W19,18))-INT($W19/18)","v":4},4,5,4,3,6,4,4,38,77,12]
["8 Apr 15 - 54 Hole Individual Rd 1",4,6,3,3,3,6,5,5,5,40,5,5,4,4,5,4,5,5,5,42,82]
["NET",{"$f":"B20-(B$4<=MOD($W21,18))-INT($W21/18)","v":3},6,3,2,3,5,4,4,4,34,{"$f":"L20-(L$4<=MOD($W21,18))-INT($W21/18)","v":4},{"$f":"M20-(M$4<=MOD($W21,18))-INT($W21/18)","v":4},4,3,5,3,5,4,4,36,70,12]
["9 Apr 16 - 54 Hole Individual Rd 2",5,5,4,5,3,6,5,5,5,43,6,5,5,6,4,5,6,5,2,44,87]
["NET",{"$f":"B22-(B$4<=MOD($W23,18))-INT($W23/18)","v":4},5,4,4,3,5,4,4,4,37,{"$f":"L22-(L$4<=MOD($W23,18))-INT($W23/18)","v":5},{"$f":"M22-(M$4<=MOD($W23,18))-INT($W23/18)","v":4},5,5,4,4,6,4,1,38,75,12]
["10 Apr 22 - 54 Hole Individual Rd 3",6,4,4,5,3,5,5,6,5,43,4,4,4,4,4,4,6,5,4,39,82]
["NET",{"$f":"B24-(B$4<=MOD($W25,18))-INT($W25/18)","v":5},4,4,4,3,4,4,5,4,37,{"$f":"L24-(L$4<=MOD($W25,18))-INT($W25/18)","v":3},{"$f":"M24-(M$4<=MOD($W25,18))-INT($W25/18)","v":3},4,3,4,3,6,4,3,33,70,12]
["11 May 7 - Senior 4-Ball Qualifier",5,6,4,4,2,8,5,5,5,44,4,5,4,5,4,4,5,4,7,42,86]
["NET",{"$f":"B26-(B$4<=MOD($W27,18))-INT($W27/18)","v":4},6,4,3,2,8,4,5,4,40,{"$f":"L26-(L$4<=MOD($W27,18))-INT($W27/18)","v":3},{"$f":"M26-(M$4<=MOD($W27,18))-INT($W27/18)","v":4},4,4,4,3,5,4,6,37,77,9]
["12 May 16 - Day on the Oaks 2",null,null,null,null,null,null,null,null,null,0,null,null,null,null,null,null,null,null,null,0,0]
["NET",null,null,null,null,null,null,null,null,null,0,null,null,null,null,null,null,null,null,null,0,0]
["13 May 28 - Memorial",6,6,3,4,5,8,4,5,6,47,5,5,3,5,4,3,5,5,5,40,87]
["NET",{"$f":"B30-(B$4<=MOD($W31,18))-INT($W31/18)","v":5},{"$f":"C30-(C$4<=MOD($W31,18))-INT($W31/18)","v":6},3,3,5,7,3,5,5,42,{"$f":"L30-(L$4<=MOD($W31,18))-INT($W31/18)","v":4},{"$f":"M30-(M$4<=MOD($W31,18))-INT($W31/18)","v":4},3,4,4,2,5,5,4,35,77,10]
["14 Jun 10 - 54 Hole Team Rd 1",null,null,null,null,null,null,null,null,null,0,null,null,null,null,null,null,null,null,null,0,0]
["NET",null,null,null,null,null,null,null,null,null,0,null,null,null,null,null,null,null,null,null,0,0]
["15 Jun 27 - Day on the Oaks 3",5,6,3,5,4,5,5,4,4,41,5,4,3,5,4,3,6,5,6,41,82]
["NET",{"$f":"B34-(B$4<=MOD($W35,18))-INT($W35/18)","v":4},{"$f":"C34-(C$4<=MOD($W35,18))-INT($W35/18)","v":6},3,4,4,4,4,3,3,35,{"$f":"L34-(L$4<=MOD($W35,18))-INT($W35/18)","v":4},{"$f":"M34-(M$4<=MOD($W35,18))-INT($W35/18)","v":3},3,4,4,2,6,4,5,35,70,12]
["17 Jul 11 - Day on the Oaks 4",null,null,null,null,null,null,null,null,null,0,null,null,null,null,null,null,null,null,null,0,0]
["NET",null,null,null,null,null,null,null,null,null,0,null,null,null,null,null,null,null,null,null,0,0]
["18 Aug 1 - Day on the Oaks 5",5,5,3,4,4,5,4,6,5,41,5,6,3,4,5,3,6,5,6,43,84]
["NET",{"$f":"B38-(B$4<=MOD($W39,18))-INT($W39/18)","v":4},{"$f":"C38-(C$4<=MOD($W39,18))-INT($W39/18)","v":5},3,3,4,4,3,6,4,36,{"$f":"L38-(L$4<=MOD($W39,18))-INT($W39/18)","v":4},{"$f":"M38-(M$4<=MOD($W39,18))-INT($W39/18)","v":5},3,3,5,2,6,5,5,38,74,10]
["19 Aug 13 - Rose Cup Qualifier",null,null,null,null,null,null,null,null,null,0,null,null,null,null,null,null,null,null,null,0,0]
["NET",null,null,null,null,null,null,null,null,null,0,null,null,null,null,null,null,null,null,null,0,0]
["20 Aug 29 - Day on the Oaks 6",null,null,null,null,null,null,null,null,null,0,null,null,null,null,null,null,null,null,null,0,0]
["NET",null,null,null,null,null,null,null,null,null,0,null,null,null,null,null,null,null,null,null,0,0]
["21 Sep 3 - Labor Day",null,null,null,null,null,null,null,null,null,0,null,null,null,null,null,null,null,null,null,0,0]
["NET",null,null,null,null,null,null,null,null,null,0,null,null,null,null,null,null,null,null,null,0,0]
["22 Oct 21 - Past Presidents",null,null,null,null,null,null,null,null,null,0,null,null,null,null,null,null,null,null,null,0,0]
["NET",null,null,null,null,null,null,null,null,null,0,null,null,null,null,null,null,null,null,null,0,0]
["23 Nov 12 - Turkey Shoot",null,null,null,null,null,null,null,null,null,0,null,null,null,null,null,null,null,null,null,0,0]
["NET",null,null,null,null,null,null,null,null,null,0,null,null,null,null,null,null,null,null,null,0,0]
["24 Dec 2 - Eclectic Final ",null,null,null,null,null,null,null,null,null,0,null,null,null,null,null,null,null,null,null,0,0]
["NET",null,null,null,null,null,null,null,null,null,0,null,null,null,null,null,null,null,null,null,0,0]
[null,null,null,null,null,null,null,null,null,null,0,null,null,null,null,null,null,null,null,null,0,0]
[null,null,null,null,null,null,null,null,null,null,0,null,null,null,null,null,null,null,null,null,0,0]
[]
["Low Gross Score",{"$f":"MIN(B6,B8,B10,B12,B14,B16,B18,B20,B22,B24,B26,B28,B30,32,B34,B36,B38,B40,B42,B44,B46,B48,B50,B52)","v":4},{"$f":"MIN(C6,C8,C10,C12,C14,C16,C18,C20,C22,C24,C26,C28,C30,32,C34,C36,C38,C40,C42,C44,C46,C48,C50,C52)","v":4},3,3,2,5,4,4,4,{"$f":"SUM(B55:J55)","v":33},{"$f":"MIN(L6,L8,L10,L12,L14,L16,L18,L20,L22,L24,L26,L28,L30,32,L34,L36,L38,L40,L42,L44,L46,L48,L50,L52)","v":4},4,3,4,4,3,5,4,2,{"$f":"SUM(L55:T55)","v":33},{"$f":"SUM(K55+U55)","v":66}]
["Low Net Score",{"$f":"MIN(B7,B9,B11,B13,B15,B17,B19,B21,B23,B25,B27,B29,B31,B33,B35,B37,B39,B41,B43,B45,B47,B49,B51,B53)","v":3},{"$f":"MIN(C7,C9,C11,C13,C15,C17,C19, C21,C23,C25,C27,C29,C31,C33,C35,C37,C39,C41,C43,C45,C47,C49,C51,C53)","v":4},3,2,2,4,3,3,3,27,{"$f":"MIN(L7,L9,L11,L13,L15,L17,L19, L21,L23,L25,L27,L29,L31,L33,L35,L37,L39,L41,L43,L45,L47,L49,L51,L53)","v":3},3,3,3,4,2,5,4,1,28,55]

{"sheet":"NORTH, MICHAEL","index":34,"n_rows":56,"n_cols":23,"rows_kept":56,"cut":false,"hidden":false,"merged":[]}
[]
["NORTH, MICHAEL",null,null,null,null,null,null,null,null,null,null,null,null,null,null,null,null,null,null,null,null,null,"HANDICAP"]
["HOLE",1,2,3,4,5,6,7,8,9,"OUT",10,11,12,13,14,15,16,17,18,"IN","TOTAL"]
["HANDICAP",8,14,18,6,16,10,4,12,2,null,9,5,17,3,15,7,13,11,1]
["PAR",4,5,3,4,3,5,4,4,4,36,5,4,3,4,4,3,5,4,4,36,72]
["1 Jan 28 - NCGA 4-Ball",5,6,5,4,3,6,6,5,4,{"$f":"SUM(B6:J6)","v":44},6,4,5,5,5,5,5,6,6,{"$f":"SUM(L6:T6)","v":47},{"$f":"SUM(K6+U6)","v":91}]
["NET",{"$f":"B6-(B$4<=MOD($W7,18))-INT($W7/18)","v":4},{"$f":"C6-(C$4<=MOD($W7,18))-INT($W7/18)","v":6},5,3,3,5,5,5,3,39,{"$f":"L6-(L$4<=MOD($W7,18))-INT($W7/18)","v":5},3,5,4,5,4,5,6,5,42,81,10]
["2 Feb 11 - Super Bowl",5,6,6,5,3,5,5,5,5,45,6,5,5,4,5,4,6,6,6,47,92]
["NET",{"$f":"B8-(B$4<=MOD($W9,18))-INT($W9/18)","v":4},{"$f":"C8-(C$4<=MOD($W9,18))-INT($W9/18)","v":6},6,4,3,4,4,5,4,40,{"$f":"L8-(L$4<=MOD($W9,18))-INT($W9/18)","v":5},{"$f":"M8-(M$4<=MOD($W9,18))-INT($W9/18)","v":4},5,3,5,3,6,6,5,42,82,10]
["3 Feb 26 - Modified Stableford",5,7,3,5,4,4,6,5,5,44,6,7,4,5,4,4,4,7,5,46,90]
["NET",{"$f":"B10-(B$4<=MOD($W11,18))-INT($W11/18)","v":4},7,3,4,4,3,5,5,4,39,{"$f":"L10-(L$4<=MOD($W11,18))-INT($W11/18)","v":5},{"$f":"M10-(M$4<=MOD($W11,18))-INT($W11/18)","v":6},4,4,4,3,4,7,4,41,80,10]
["4 Mar 25 - Zone Qualifier Rd 1",null,null,null,null,null,null,null,null,null,0,null,null,null,null,null,null,null,null,null,0,0]
["NET",null,null,null,null,null,null,null,null,null,0,null,null,null,null,null,null,null,null,null,0,0]
["5 Mar 26 - Zone Qualifier Rd 2",null,null,null,null,null,null,null,null,null,0,null,null,null,null,null,null,null,null,null,0,0]
["NET",null,null,null,null,null,null,null,null,null,0,null,null,null,null,null,null,null,null,null,0,0]
["6 Apr 8 - RGC Masters",null,null,null,null,null,null,null,null,null,0,null,null,null,null,null,null,null,null,null,0,0]
["NET",null,null,null,null,null,null,null,null,null,0,null,null,null,null,null,null,null,null,null,0,0]
["7 Apr 11 - Day on the Oaks 1",null,null,null,null,null,null,null,null,null,0,null,null,null,null,null,null,null,null,null,0,0]
["NET",null,null,null,null,null,null,null,null,null,0,null,null,null,null,null,null,null,null,null,0,0]
["8 Apr 15 - 54 Hole Individual Rd 1",5,7,3,5,4,6,4,5,4,43,5,5,4,6,5,4,6,4,6,45,88]
["NET",{"$f":"B20-(B$4<=MOD($W21,18))-INT($W21/18)","v":4},{"$f":"C20-(C$4<=MOD($W21,18))-INT($W21/18)","v":7},3,4,4,5,3,5,3,38,{"$f":"L20-(L$4<=MOD($W21,18))-INT($W21/18)","v":4},{"$f":"M20-(M$4<=MOD($W21,18))-INT($W21/18)","v":4},4,5,5,3,6,4,5,40,78,10]
["9 Apr 16 - 54 Hole Individual Rd 2",4,6,5,5,3,7,4,5,5,44,5,6,3,5,4,4,6,6,5,44,88]
["NET",{"$f":"B22-(B$4<=MOD($W23,18))-INT($W23/18)","v":3},{"$f":"C22-(C$4<=MOD($W23,18))-INT($W23/18)","v":6},5,4,3,6,3,5,4,39,{"$f":"L22-(L$4<=MOD($W23,18))-INT($W23/18)","v":4},{"$f":"M22-(M$4<=MOD($W23,18))-INT($W23/18)","v":5},3,4,4,3,6,6,4,39,78,10]
["10 Apr 22 - 54 Hole Individual Rd 3",5,6,4,5,4,5,4,5,4,42,7,4,5,6,4,3,5,5,6,45,87]
["NET",{"$f":"B24-(B$4<=MOD($W25,18))-INT($W25/18)","v":4},{"$f":"C24-(C$4<=MOD($W25,18))-INT($W25/18)","v":6},4,4,4,4,3,5,3,37,{"$f":"L24-(L$4<=MOD($W25,18))-INT($W25/18)","v":6},{"$f":"M24-(M$4<=MOD($W25,18))-INT($W25/18)","v":3},5,5,4,2,5,5,5,40,77,10]
["11 May 7 - Senior 4-Ball Qualifier",null,null,null,null,null,null,null,null,null,0,null,null,null,null,null,null,null,null,null,0,0]
["NET",null,null,null,null,null,null,null,null,null,0,null,null,null,null,null,null,null,null,null,0,0]
["12 May 16 - Day on the Oaks 2",null,null,null,null,null,null,null,null,null,0,null,null,null,null,null,null,null,null,null,0,0]
["NET",null,null,null,null,null,null,null,null,null,0,null,null,null,null,null,null,null,null,null,0,0]
["13 May 28 - Memorial",null,null,null,null,null,null,null,null,null,0,null,null,null,null,null,null,null,null,null,0,0]
["NET",null,null,null,null,null,null,null,null,null,0,null,null,null,null,null,null,null,null,null,0,0]
["14 Jun 10 - 54 Hole Team Rd 1",5,6,6,5,4,6,5,4,4,45,5,4,3,4,4,3,5,5,5,38,83]
["NET",{"$f":"B32-(B$4<=MOD($W33,18))-INT($W33/18)","v":4},{"$f":"C32-(C$4<=MOD($W33,18))-INT($W33/18)","v":6},6,4,4,5,4,3,3,39,{"$f":"L32-(L$4<=MOD($W33,18))-INT($W33/18)","v":4},{"$f":"M32-(M$4<=MOD($W33,18))-INT($W33/18)","v":3},3,3,4,2,5,4,4,32,71,12]
["15 Jun 27 - Day on the Oaks 3",null,null,null,null,null,null,null,null,null,0,null,null,null,null,null,null,null,null,null,0,0]
["NET",null,null,null,null,null,null,null,null,null,0,null,null,null,null,null,null,null,null,null,0,0]
["17 Jul 11 - Day on the Oaks 4",null,null,null,null,null,null,null,null,null,0,null,null,null,null,null,null,null,null,null,0,0]
["NET",null,null,null,null,null,null,null,null,null,0,null,null,null,null,null,null,null,null,null,0,0]
["18 Aug 1 - Day on the Oaks 5",null,null,null,null,null,null,null,null,null,0,null,null,null,null,null,null,null,null,null,0,0]
["NET",null,null,null,null,null,null,null,null,null,0,null,null,null,null,null,null,null,null,null,0,0]
["19 Aug 13 - Rose Cup Qualifier",null,null,null,null,null,null,null,null,null,0,null,null,null,null,null,null,null,null,null,0,0]
["NET",null,null,null,null,null,null,null,null,null,0,null,null,null,null,null,null,null,null,null,0,0]
["20 Aug 29 - Day on the Oaks 6",null,null,null,null,null,null,null,null,null,0,null,null,null,null,null,null,null,null,null,0,0]
["NET",null,null,null,null,null,null,null,null,null,0,null,null,null,null,null,null,null,null,null,0,0]
["21 Sep 3 - Labor Day",null,null,null,null,null,null,null,null,null,0,null,null,null,null,null,null,null,null,null,0,0]
["NET",null,null,null,null,null,null,null,null,null,0,null,null,null,null,null,null,null,null,null,0,0]
["22 Oct 21 - Past Presidents",null,null,null,null,null,null,null,null,null,0,null,null,null,null,null,null,null,null,null,0,0]
["NET",null,null,null,null,null,null,null,null,null,0,null,null,null,null,null,null,null,null,null,0,0]
["23 Nov 12 - Turkey Shoot",null,null,null,null,null,null,null,null,null,0,null,null,null,null,null,null,null,null,null,0,0]
["NET",null,null,null,null,null,null,null,null,null,0,null,null,null,null,null,null,null,null,null,0,0]
["24 Dec 2 - Eclectic Final ",null,null,null,null,null,null,null,null,null,0,null,null,null,null,null,null,null,null,null,0,0]
["NET",null,null,null,null,null,null,null,null,null,0,null,null,null,null,null,null,null,null,null,0,0]
[null,null,null,null,null,null,null,null,null,null,0,null,null,null,null,null,null,null,null,null,0,0]
[null,null,null,null,null,null,null,null,null,null,0,null,null,null,null,null,null,null,null,null,0,0]
[]
["Low Gross Score",{"$f":"MIN(B6,B8,B10,B12,B14,B16,B18,B20,B22,B24,B26,B28,B30,32,B34,B36,B38,B40,B42,B44,B46,B48,B50,B52)","v":4},{"$f":"MIN(C6,C8,C10,C12,C14,C16,C18,C20,C22,C24,C26,C28,C30,32,C34,C36,C38,C40,C42,C44,C46,C48,C50,C52)","v":6},3,4,3,4,4,5,4,{"$f":"SUM(B55:J55)","v":37},{"$f":"MIN(L6,L8,L10,L12,L14,L16,L18,L20,L22,L24,L26,L28,L30,32,L34,L36,L38,L40,L42,L44,L46,L48,L50,L52)","v":5},4,3,4,4,3,4,4,5,{"$f":"SUM(L55:T55)","v":36},{"$f":"SUM(K55+U55)","v":73}]
["Low Net Score",{"$f":"MIN(B7,B9,B11,B13,B15,B17,B19,B21,B23,B25,B27,B29,B31,B33,B35,B37,B39,B41,B43,B45,B47,B49,B51,B53)","v":3},{"$f":"MIN(C7,C9,C11,C13,C15,C17,C19, C21,C23,C25,C27,C29,C31,C33,C35,C37,C39,C41,C43,C45,C47,C49,C51,C53)","v":6},3,3,3,3,3,3,3,30,{"$f":"MIN(L7,L9,L11,L13,L15,L17,L19, L21,L23,L25,L27,L29,L31,L33,L35,L37,L39,L41,L43,L45,L47,L49,L51,L53)","v":4},3,3,3,4,2,4,4,4,31,61]

{"sheet":"OLMSTEAD, KEN","index":35,"n_rows":56,"n_cols":23,"rows_kept":56,"cut":false,"hidden":false,"merged":[]}
[]
["OLMSTEAD, KEN",null,null,null,null,null,null,null,null,null,null,null,null,null,null,null,null,null,null,null,null,null,"HANDICAP"]
["HOLE",1,2,3,4,5,6,7,8,9,"OUT",10,11,12,13,14,15,16,17,18,"IN","TOTAL"]
["HANDICAP",8,14,18,6,16,10,4,12,2,null,9,5,17,3,15,7,13,11,1]
["PAR",4,5,3,4,3,5,4,4,4,36,5,4,3,4,4,3,5,4,4,36,72]
["1 Jan 28 - NCGA 4-Ball",6,5,3,4,3,6,6,6,6,{"$f":"SUM(B6:J6)","v":45},6,5,3,5,4,4,6,5,6,{"$f":"SUM(L6:T6)","v":44},{"$f":"SUM(K6+U6)","v":89}]
["NET",{"$f":"B6-(B$4<=MOD($W7,18))-INT($W7/18)","v":5},{"$f":"C6-(C$4<=MOD($W7,18))-INT($W7/18)","v":5},3,3,3,5,5,5,5,39,{"$f":"L6-(L$4<=MOD($W7,18))-INT($W7/18)","v":5},4,3,4,4,3,6,4,5,38,77,12]
["2 Feb 11 - Super Bowl",6,8,3,5,4,7,7,5,5,50,6,4,4,4,3,2,6,4,5,38,88]
["NET",{"$f":"B8-(B$4<=MOD($W9,18))-INT($W9/18)","v":5},{"$f":"C8-(C$4<=MOD($W9,18))-INT($W9/18)","v":8},3,4,4,6,6,4,4,44,{"$f":"L8-(L$4<=MOD($W9,18))-INT($W9/18)","v":5},{"$f":"M8-(M$4<=MOD($W9,18))-INT($W9/18)","v":3},4,3,3,1,6,3,4,32,76,12]
["3 Feb 26 - Modified Stableford",null,null,null,null,null,null,null,null,null,0,null,null,null,null,null,null,null,null,null,0,0]
["NET",null,null,null,null,null,null,null,null,null,0,null,null,null,null,null,null,null,null,null,0,0]
["4 Mar 25 - Zone Qualifier Rd 1",6,6,4,4,5,7,5,5,4,46,7,6,4,4,5,4,5,5,5,45,91]
["NET",{"$f":"B12-(B$4<=MOD($W13,18))-INT($W13/18)","v":5},{"$f":"C12-(C$4<=MOD($W13,18))-INT($W13/18)","v":6},4,3,5,6,4,4,3,40,{"$f":"L12-(L$4<=MOD($W13,18))-INT($W13/18)","v":6},{"$f":"M12-(M$4<=MOD($W13,18))-INT($W13/18)","v":5},4,3,5,3,5,4,4,39,79,12]
["5 Mar 26 - Zone Qualifier Rd 2",6,6,3,5,4,6,6,5,6,47,7,4,4,4,5,3,5,5,5,42,89]
["NET",{"$f":"B14-(B$4<=MOD($W15,18))-INT($W15/18)","v":5},{"$f":"C14-(C$4<=MOD($W15,18))-INT($W15/18)","v":6},3,4,4,5,5,4,5,41,{"$f":"L14-(L$4<=MOD($W15,18))-INT($W15/18)","v":6},{"$f":"M14-(M$4<=MOD($W15,18))-INT($W15/18)","v":3},4,3,5,2,5,4,4,36,77,12]
["6 Apr 8 - RGC Masters",5,6,4,5,4,6,8,3,7,48,6,4,5,4,4,3,5,5,4,40,88]
["NET",{"$f":"B16-(B$4<=MOD($W17,18))-INT($W17/18)","v":4},6,4,4,4,5,7,2,6,42,{"$f":"L16-(L$4<=MOD($W17,18))-INT($W17/18)","v":5},{"$f":"M16-(M$4<=MOD($W17,18))-INT($W17/18)","v":3},5,3,4,2,4,4,3,33,75,13]
["7 Apr 11 - Day on the Oaks 1",null,null,null,null,null,null,null,null,null,0,null,null,null,null,null,null,null,null,null,0,0]
["NET",null,null,null,null,null,null,null,null,null,0,null,null,null,null,null,null,null,null,null,0,0]
["8 Apr 15 - 54 Hole Individual Rd 1",6,5,3,4,4,10,6,6,6,50,4,5,3,5,4,4,6,4,6,41,91]
["NET",{"$f":"B20-(B$4<=MOD($W21,18))-INT($W21/18)","v":5},{"$f":"C20-(C$4<=MOD($W21,18))-INT($W21/18)","v":4},3,3,4,9,5,5,5,43,{"$f":"L20-(L$4<=MOD($W21,18))-INT($W21/18)","v":3},{"$f":"M20-(M$4<=MOD($W21,18))-INT($W21/18)","v":4},3,4,4,3,5,3,5,34,77,14]
["9 Apr 16 - 54 Hole Individual Rd 2",6,6,4,5,3,7,4,5,6,46,6,5,3,5,4,4,7,3,6,43,89]
["NET",{"$f":"B22-(B$4<=MOD($W23,18))-INT($W23/18)","v":5},{"$f":"C22-(C$4<=MOD($W23,18))-INT($W23/18)","v":5},4,4,3,6,3,4,5,39,{"$f":"L22-(L$4<=MOD($W23,18))-INT($W23/18)","v":5},{"$f":"M22-(M$4<=MOD($W23,18))-INT($W23/18)","v":4},3,4,4,3,6,2,5,36,75,14]
["10 Apr 22 - 54 Hole Individual Rd 3",6,5,5,4,5,5,3,5,5,43,6,4,3,5,4,4,5,5,6,42,85]
["NET",{"$f":"B24-(B$4<=MOD($W25,18))-INT($W25/18)","v":5},{"$f":"C24-(C$4<=MOD($W25,18))-INT($W25/18)","v":4},5,3,5,4,2,4,4,36,{"$f":"L24-(L$4<=MOD($W25,18))-INT($W25/18)","v":5},{"$f":"M24-(M$4<=MOD($W25,18))-INT($W25/18)","v":3},3,4,4,3,4,4,5,35,71,14]
["11 May 7 - Senior 4-Ball Qualifier",6,6,3,4,4,5,4,6,5,43,5,6,4,5,4,5,5,3,5,42,85]
["NET",{"$f":"B26-(B$4<=MOD($W27,18))-INT($W27/18)","v":5},6,3,3,4,4,3,5,4,37,{"$f":"L26-(L$4<=MOD($W27,18))-INT($W27/18)","v":4},{"$f":"M26-(M$4<=MOD($W27,18))-INT($W27/18)","v":5},4,4,4,4,5,2,4,36,73,12]
["12 May 16 - Day on the Oaks 2",null,null,null,null,null,null,null,null,null,0,null,null,null,null,null,null,null,null,null,0,0]
["NET",null,null,null,null,null,null,null,null,null,0,null,null,null,null,null,null,null,null,null,0,0]
["13 May 28 - Memorial",null,null,null,null,null,null,null,null,null,0,null,null,null,null,null,null,null,null,null,0,0]
["NET",null,null,null,null,null,null,null,null,null,0,null,null,null,null,null,null,null,null,null,0,0]
["14 Jun 10 - 54 Hole Team Rd 1",null,null,null,null,null,null,null,null,null,0,null,null,null,null,null,null,null,null,null,0,0]
["NET",null,null,null,null,null,null,null,null,null,0,null,null,null,null,null,null,null,null,null,0,0]
["15 Jun 27 - Day on the Oaks 3",6,6,4,5,4,5,4,5,5,44,6,4,4,3,4,5,7,4,5,42,86]
["NET",{"$f":"B34-(B$4<=MOD($W35,18))-INT($W35/18)","v":5},{"$f":"C34-(C$4<=MOD($W35,18))-INT($W35/18)","v":5},4,4,4,4,3,4,4,37,{"$f":"L34-(L$4<=MOD($W35,18))-INT($W35/18)","v":5},{"$f":"M34-(M$4<=MOD($W35,18))-INT($W35/18)","v":3},4,2,4,4,6,3,4,35,72,14]
["17 Jul 11 - Day on the Oaks 4",null,null,null,null,null,null,null,null,null,0,null,null,null,null,null,null,null,null,null,0,0]
["NET",null,null,null,null,null,null,null,null,null,0,null,null,null,null,null,null,null,null,null,0,0]
["18 Aug 1 - Day on the Oaks 5",null,null,null,null,null,null,null,null,null,0,null,null,null,null,null,null,null,null,null,0,0]
["NET",null,null,null,null,null,null,null,null,null,0,null,null,null,null,null,null,null,null,null,0,0]
["19 Aug 13 - Rose Cup Qualifier",null,null,null,null,null,null,null,null,null,0,null,null,null,null,null,null,null,null,null,0,0]
["NET",null,null,null,null,null,null,null,null,null,0,null,null,null,null,null,null,null,null,null,0,0]
["20 Aug 29 - Day on the Oaks 6",null,null,null,null,null,null,null,null,null,0,null,null,null,null,null,null,null,null,null,0,0]
["NET",null,null,null,null,null,null,null,null,null,0,null,null,null,null,null,null,null,null,null,0,0]
["21 Sep 3 - Labor Day",null,null,null,null,null,null,null,null,null,0,null,null,null,null,null,null,null,null,null,0,0]
["NET",null,null,null,null,null,null,null,null,null,0,null,null,null,null,null,null,null,null,null,0,0]
["22 Oct 21 - Past Presidents",null,null,null,null,null,null,null,null,null,0,null,null,null,null,null,null,null,null,null,0,0]
["NET",null,null,null,null,null,null,null,null,null,0,null,null,null,null,null,null,null,null,null,0,0]
["23 Nov 12 - Turkey Shoot",null,null,null,null,null,null,null,null,null,0,null,null,null,null,null,null,null,null,null,0,0]
["NET",null,null,null,null,null,null,null,null,null,0,null,null,null,null,null,null,null,null,null,0,0]
["24 Dec 2 - Eclectic Final ",null,null,null,null,null,null,null,null,null,0,null,null,null,null,null,null,null,null,null,0,0]
["NET",null,null,null,null,null,null,null,null,null,0,null,null,null,null,null,null,null,null,null,0,0]
[null,null,null,null,null,null,null,null,null,null,0,null,null,null,null,null,null,null,null,null,0,0]
[null,null,null,null,null,null,null,null,null,null,0,null,null,null,null,null,null,null,null,null,0,0]
[]
["Low Gross Score",{"$f":"MIN(B6,B8,B10,B12,B14,B16,B18,B20,B22,B24,B26,B28,B30,32,B34,B36,B38,B40,B42,B44,B46,B48,B50,B52)","v":5},{"$f":"MIN(C6,C8,C10,C12,C14,C16,C18,C20,C22,C24,C26,C28,C30,32,C34,C36,C38,C40,C42,C44,C46,C48,C50,C52)","v":5},3,4,3,5,3,3,4,{"$f":"SUM(B55:J55)","v":35},{"$f":"MIN(L6,L8,L10,L12,L14,L16,L18,L20,L22,L24,L26,L28,L30,32,L34,L36,L38,L40,L42,L44,L46,L48,L50,L52)","v":4},4,3,3,3,2,5,3,4,{"$f":"SUM(L55:T55)","v":31},{"$f":"SUM(K55+U55)","v":66}]
["Low Net Score",{"$f":"MIN(B7,B9,B11,B13,B15,B17,B19,B21,B23,B25,B27,B29,B31,B33,B35,B37,B39,B41,B43,B45,B47,B49,B51,B53)","v":4},{"$f":"MIN(C7,C9,C11,C13,C15,C17,C19, C21,C23,C25,C27,C29,C31,C33,C35,C37,C39,C41,C43,C45,C47,C49,C51,C53)","v":4},3,3,3,4,2,2,3,28,{"$f":"MIN(L7,L9,L11,L13,L15,L17,L19, L21,L23,L25,L27,L29,L31,L33,L35,L37,L39,L41,L43,L45,L47,L49,L51,L53)","v":3},3,3,2,3,1,4,2,3,24,52]

{"sheet":"PERRY, JAMES","index":36,"n_rows":56,"n_cols":23,"rows_kept":56,"cut":false,"hidden":false,"merged":[]}
[]
["PERRY, JAMES",null,null,null,null,null,null,null,null,null,null,null,null,null,null,null,null,null,null,null,null,null,"HANDICAP"]
["HOLE",1,2,3,4,5,6,7,8,9,"OUT",10,11,12,13,14,15,16,17,18,"IN","TOTAL"]
["HANDICAP",8,14,18,6,16,10,4,12,2,null,9,5,17,3,15,7,13,11,1]
["PAR",4,5,3,4,3,5,4,4,4,36,5,4,3,4,4,3,5,4,4,36,72]
["1 Jan 28 - NCGA 4-Ball",4,5,4,4,4,5,4,5,5,{"$f":"SUM(B6:J6)","v":40},6,6,4,5,4,4,6,6,5,{"$f":"SUM(L6:T6)","v":46},{"$f":"SUM(K6+U6)","v":86}]
["NET",{"$f":"B6-(B$4<=MOD($W7,18))-INT($W7/18)","v":4},{"$f":"C6-(C$4<=MOD($W7,18))-INT($W7/18)","v":5},4,3,4,5,3,5,4,37,{"$f":"L6-(L$4<=MOD($W7,18))-INT($W7/18)","v":6},5,4,4,4,3,6,6,4,42,79,7]
["2 Feb 11 - Super Bowl",4,5,3,5,4,5,5,4,5,40,6,5,3,6,4,2,5,6,6,43,83]
["NET",{"$f":"B8-(B$4<=MOD($W9,18))-INT($W9/18)","v":4},{"$f":"C8-(C$4<=MOD($W9,18))-INT($W9/18)","v":5},3,4,4,5,4,4,4,37,{"$f":"L8-(L$4<=MOD($W9,18))-INT($W9/18)","v":6},{"$f":"M8-(M$4<=MOD($W9,18))-INT($W9/18)","v":4},3,5,4,1,5,6,5,39,76,7]
["3 Feb 26 - Modified Stableford",null,null,null,null,null,null,null,null,null,0,null,null,null,null,null,null,null,null,null,0,0]
["NET",null,null,null,null,null,null,null,null,null,0,null,null,null,null,null,null,null,null,null,0,0]
["4 Mar 25 - Zone Qualifier Rd 1",5,5,4,4,3,5,5,5,4,40,5,4,4,4,5,4,6,6,4,42,82]
["NET",{"$f":"B12-(B$4<=MOD($W13,18))-INT($W13/18)","v":5},{"$f":"C12-(C$4<=MOD($W13,18))-INT($W13/18)","v":5},4,3,3,5,4,5,3,37,{"$f":"L12-(L$4<=MOD($W13,18))-INT($W13/18)","v":5},{"$f":"M12-(M$4<=MOD($W13,18))-INT($W13/18)","v":3},4,3,5,3,6,6,3,38,75,7]
["5 Mar 26 - Zone Qualifier Rd 2",4,6,4,5,3,5,4,5,4,40,6,5,3,5,4,4,5,4,6,42,82]
["NET",{"$f":"B14-(B$4<=MOD($W15,18))-INT($W15/18)","v":4},{"$f":"C14-(C$4<=MOD($W15,18))-INT($W15/18)","v":6},4,4,3,5,3,5,3,37,{"$f":"L14-(L$4<=MOD($W15,18))-INT($W15/18)","v":6},{"$f":"M14-(M$4<=MOD($W15,18))-INT($W15/18)","v":4},3,4,4,3,5,4,5,38,75,7]
["6 Apr 8 - RGC Masters",5,5,4,4,4,6,5,4,4,41,5,5,3,5,4,4,5,5,5,41,82]
["NET",{"$f":"B16-(B$4<=MOD($W17,18))-INT($W17/18)","v":5},5,4,3,4,6,4,4,3,38,{"$f":"L16-(L$4<=MOD($W17,18))-INT($W17/18)","v":5},{"$f":"M16-(M$4<=MOD($W17,18))-INT($W17/18)","v":4},3,4,4,3,5,5,4,37,75,7]
["7 Apr 11 - Day on the Oaks 1",null,null,null,null,null,null,null,null,null,0,null,null,null,null,null,null,null,null,null,0,0]
["NET",null,null,null,null,null,null,null,null,null,0,null,null,null,null,null,null,null,null,null,0,0]
["8 Apr 15 - 54 Hole Individual Rd 1",5,5,4,5,4,5,4,4,5,41,6,8,2,5,4,3,5,4,5,42,83]
["NET",{"$f":"B20-(B$4<=MOD($W21,18))-INT($W21/18)","v":4},{"$f":"C20-(C$4<=MOD($W21,18))-INT($W21/18)","v":5},4,4,4,5,3,4,4,37,{"$f":"L20-(L$4<=MOD($W21,18))-INT($W21/18)","v":6},{"$f":"M20-(M$4<=MOD($W21,18))-INT($W21/18)","v":7},2,4,4,2,5,4,4,38,75,8]
["9 Apr 16 - 54 Hole Individual Rd 2",5,6,5,4,4,6,5,4,4,43,4,4,3,5,4,3,7,4,5,39,82]
["NET",{"$f":"B22-(B$4<=MOD($W23,18))-INT($W23/18)","v":4},{"$f":"C22-(C$4<=MOD($W23,18))-INT($W23/18)","v":6},5,3,4,6,4,4,3,39,{"$f":"L22-(L$4<=MOD($W23,18))-INT($W23/18)","v":4},{"$f":"M22-(M$4<=MOD($W23,18))-INT($W23/18)","v":3},3,4,4,2,7,4,4,35,74,8]
["10 Apr 22 - 54 Hole Individual Rd 3",3,5,2,4,4,6,4,4,4,36,5,4,4,4,4,3,5,5,5,39,75]
["NET",{"$f":"B24-(B$4<=MOD($W25,18))-INT($W25/18)","v":2},{"$f":"C24-(C$4<=MOD($W25,18))-INT($W25/18)","v":5},2,3,4,6,3,4,3,32,{"$f":"L24-(L$4<=MOD($W25,18))-INT($W25/18)","v":5},{"$f":"M24-(M$4<=MOD($W25,18))-INT($W25/18)","v":3},4,3,4,2,5,5,4,35,67,8]
["11 May 7 - Senior 4-Ball Qualifier",4,6,5,5,3,6,6,3,4,42,5,5,3,5,5,5,4,4,4,40,82]
["NET",{"$f":"B26-(B$4<=MOD($W27,18))-INT($W27/18)","v":4},6,5,5,3,6,5,3,3,40,{"$f":"L26-(L$4<=MOD($W27,18))-INT($W27/18)","v":5},{"$f":"M26-(M$4<=MOD($W27,18))-INT($W27/18)","v":4},3,4,5,5,4,4,3,37,77,5]
["12 May 16 - Day on the Oaks 2",null,null,null,null,null,null,null,null,null,0,null,null,null,null,null,null,null,null,null,0,0]
["NET",null,null,null,null,null,null,null,null,null,0,null,null,null,null,null,null,null,null,null,0,0]
["13 May 28 - Memorial",4,5,3,4,4,6,5,4,3,38,6,5,3,4,4,4,5,6,5,42,80]
["NET",{"$f":"B30-(B$4<=MOD($W31,18))-INT($W31/18)","v":4},{"$f":"C30-(C$4<=MOD($W31,18))-INT($W31/18)","v":5},3,3,4,6,4,4,2,35,{"$f":"L30-(L$4<=MOD($W31,18))-INT($W31/18)","v":6},{"$f":"M30-(M$4<=MOD($W31,18))-INT($W31/18)","v":4},3,3,4,3,5,6,4,38,73,7]
["14 Jun 10 - 54 Hole Team Rd 1",4,5,4,6,3,6,5,5,5,43,4,4,3,5,3,3,7,4,6,39,82]
["NET",{"$f":"B32-(B$4<=MOD($W33,18))-INT($W33/18)","v":4},5,4,6,3,6,4,5,4,41,{"$f":"L32-(L$4<=MOD($W33,18))-INT($W33/18)","v":4},{"$f":"M32-(M$4<=MOD($W33,18))-INT($W33/18)","v":3},3,4,3,3,7,4,5,36,77,5]
["15 Jun 27 - Day on the Oaks 3",null,null,null,null,null,null,null,null,null,0,null,null,null,null,null,null,null,null,null,0,0]
["NET",null,null,null,null,null,null,null,null,null,0,null,null,null,null,null,null,null,null,null,0,0]
["17 Jul 11 - Day on the Oaks 4",null,null,null,null,null,null,null,null,null,0,null,null,null,null,null,null,null,null,null,0,0]
["NET",null,null,null,null,null,null,null,null,null,0,null,null,null,null,null,null,null,null,null,0,0]
["18 Aug 1 - Day on the Oaks 5",null,null,null,null,null,null,null,null,null,0,null,null,null,null,null,null,null,null,null,0,0]
["NET",null,null,null,null,null,null,null,null,null,0,null,null,null,null,null,null,null,null,null,0,0]
["19 Aug 13 - Rose Cup Qualifier",null,null,null,null,null,null,null,null,null,0,null,null,null,null,null,null,null,null,null,0,0]
["NET",null,null,null,null,null,null,null,null,null,0,null,null,null,null,null,null,null,null,null,0,0]
["20 Aug 29 - Day on the Oaks 6",null,null,null,null,null,null,null,null,null,0,null,null,null,null,null,null,null,null,null,0,0]
["NET",null,null,null,null,null,null,null,null,null,0,null,null,null,null,null,null,null,null,null,0,0]
["21 Sep 3 - Labor Day",null,null,null,null,null,null,null,null,null,0,null,null,null,null,null,null,null,null,null,0,0]
["NET",null,null,null,null,null,null,null,null,null,0,null,null,null,null,null,null,null,null,null,0,0]
["22 Oct 21 - Past Presidents",null,null,null,null,null,null,null,null,null,0,null,null,null,null,null,null,null,null,null,0,0]
["NET",null,null,null,null,null,null,null,null,null,0,null,null,null,null,null,null,null,null,null,0,0]
["23 Nov 12 - Turkey Shoot",null,null,null,null,null,null,null,null,null,0,null,null,null,null,null,null,null,null,null,0,0]
["NET",null,null,null,null,null,null,null,null,null,0,null,null,null,null,null,null,null,null,null,0,0]
["24 Dec 2 - Eclectic Final ",null,null,null,null,null,null,null,null,null,0,null,null,null,null,null,null,null,null,null,0,0]
["NET",null,null,null,null,null,null,null,null,null,0,null,null,null,null,null,null,null,null,null,0,0]
[null,null,null,null,null,null,null,null,null,null,0,null,null,null,null,null,null,null,null,null,0,0]
[null,null,null,null,null,null,null,null,null,null,0,null,null,null,null,null,null,null,null,null,0,0]
[]
["Low Gross Score",{"$f":"MIN(B6,B8,B10,B12,B14,B16,B18,B20,B22,B24,B26,B28,B30,32,B34,B36,B38,B40,B42,B44,B46,B48,B50,B52)","v":3},{"$f":"MIN(C6,C8,C10,C12,C14,C16,C18,C20,C22,C24,C26,C28,C30,32,C34,C36,C38,C40,C42,C44,C46,C48,C50,C52)","v":5},2,4,3,5,4,3,3,{"$f":"SUM(B55:J55)","v":32},{"$f":"MIN(L6,L8,L10,L12,L14,L16,L18,L20,L22,L24,L26,L28,L30,32,L34,L36,L38,L40,L42,L44,L46,L48,L50,L52)","v":4},4,2,4,4,2,4,4,4,{"$f":"SUM(L55:T55)","v":32},{"$f":"SUM(K55+U55)","v":64}]
["Low Net Score",{"$f":"MIN(B7,B9,B11,B13,B15,B17,B19,B21,B23,B25,B27,B29,B31,B33,B35,B37,B39,B41,B43,B45,B47,B49,B51,B53)","v":2},{"$f":"MIN(C7,C9,C11,C13,C15,C17,C19, C21,C23,C25,C27,C29,C31,C33,C35,C37,C39,C41,C43,C45,C47,C49,C51,C53)","v":5},2,3,3,5,3,3,2,28,{"$f":"MIN(L7,L9,L11,L13,L15,L17,L19, L21,L23,L25,L27,L29,L31,L33,L35,L37,L39,L41,L43,L45,L47,L49,L51,L53)","v":4},3,2,3,3,1,4,4,3,27,55]

{"sheet":"POWELL, ED","index":37,"n_rows":56,"n_cols":23,"rows_kept":56,"cut":false,"hidden":false,"merged":[]}
[]
["POWELL, ED",null,null,null,null,null,null,null,null,null,null,null,null,null,null,null,null,null,null,null,null,null,"HANDICAP"]
["HOLE",1,2,3,4,5,6,7,8,9,"OUT",10,11,12,13,14,15,16,17,18,"IN","TOTAL"]
["HANDICAP",8,14,18,6,16,10,4,12,2,null,9,5,17,3,15,7,13,11,1]
["PAR",4,5,3,4,3,5,4,4,4,36,5,4,3,4,4,3,5,4,4,36,72]
["1 Jan 28 - NCGA 4-Ball",4,5,3,5,3,5,5,5,5,{"$f":"SUM(B6:J6)","v":40},5,6,3,5,4,3,5,4,4,{"$f":"SUM(L6:T6)","v":39},{"$f":"SUM(K6+U6)","v":79}]
["NET",{"$f":"B6-(B$4<=MOD($W7,18))-INT($W7/18)","v":3},{"$f":"C6-(C$4<=MOD($W7,18))-INT($W7/18)","v":5},3,4,3,5,4,5,4,36,{"$f":"L6-(L$4<=MOD($W7,18))-INT($W7/18)","v":4},5,3,4,4,2,5,4,3,34,70,9]
["2 Feb 11 - Super Bowl",5,6,4,5,4,6,5,6,5,46,6,4,4,6,5,4,5,5,5,44,90]
["NET",{"$f":"B8-(B$4<=MOD($W9,18))-INT($W9/18)","v":5},{"$f":"C8-(C$4<=MOD($W9,18))-INT($W9/18)","v":6},4,4,4,6,4,6,4,43,{"$f":"L8-(L$4<=MOD($W9,18))-INT($W9/18)","v":6},{"$f":"M8-(M$4<=MOD($W9,18))-INT($W9/18)","v":3},4,5,5,3,5,5,4,40,83,7]
["3 Feb 26 - Modified Stableford",5,6,4,5,3,5,5,5,6,44,6,5,4,5,4,4,6,5,5,44,88]
["NET",{"$f":"B10-(B$4<=MOD($W11,18))-INT($W11/18)","v":5},6,4,4,3,5,4,5,5,41,{"$f":"L10-(L$4<=MOD($W11,18))-INT($W11/18)","v":6},{"$f":"M10-(M$4<=MOD($W11,18))-INT($W11/18)","v":4},4,4,4,3,6,5,4,40,81,7]
["4 Mar 25 - Zone Qualifier Rd 1",6,7,3,6,4,5,4,4,5,44,6,5,3,5,5,5,5,5,5,44,88]
["NET",{"$f":"B12-(B$4<=MOD($W13,18))-INT($W13/18)","v":5},7,3,5,4,5,3,4,4,40,{"$f":"L12-(L$4<=MOD($W13,18))-INT($W13/18)","v":6},{"$f":"M12-(M$4<=MOD($W13,18))-INT($W13/18)","v":4},3,4,5,4,5,5,4,40,80,8]
["5 Mar 26 - Zone Qualifier Rd 2",4,5,4,5,3,6,4,4,5,40,5,5,3,5,4,5,4,5,4,40,80]
["NET",{"$f":"B14-(B$4<=MOD($W15,18))-INT($W15/18)","v":3},5,4,4,3,6,3,4,4,36,{"$f":"L14-(L$4<=MOD($W15,18))-INT($W15/18)","v":5},{"$f":"M14-(M$4<=MOD($W15,18))-INT($W15/18)","v":4},3,4,4,4,4,5,3,36,72,8]
["6 Apr 8 - RGC Masters",5,5,3,5,4,5,5,4,5,41,5,5,3,3,4,4,5,5,5,39,80]
["NET",{"$f":"B16-(B$4<=MOD($W17,18))-INT($W17/18)","v":4},5,3,4,4,5,4,4,4,37,{"$f":"L16-(L$4<=MOD($W17,18))-INT($W17/18)","v":4},{"$f":"M16-(M$4<=MOD($W17,18))-INT($W17/18)","v":4},3,2,4,3,5,5,4,34,71,9]
["7 Apr 11 - Day on the Oaks 1",null,null,null,null,null,null,null,null,null,0,null,null,null,null,null,null,null,null,null,0,0]
["NET",null,null,null,null,null,null,null,null,null,0,null,null,null,null,null,null,null,null,null,0,0]
["8 Apr 15 - 54 Hole Individual Rd 1",5,5,4,4,3,5,5,4,5,40,5,7,3,5,5,4,5,5,6,45,85]
["NET",{"$f":"B20-(B$4<=MOD($W21,18))-INT($W21/18)","v":4},{"$f":"C20-(C$4<=MOD($W21,18))-INT($W21/18)","v":5},4,3,3,5,4,4,4,36,{"$f":"L20-(L$4<=MOD($W21,18))-INT($W21/18)","v":5},{"$f":"M20-(M$4<=MOD($W21,18))-INT($W21/18)","v":6},3,4,5,3,5,5,5,41,77,8]
["9 Apr 16 - 54 Hole Individual Rd 2",5,5,3,5,3,6,5,4,5,41,6,5,4,5,5,4,5,4,6,44,85]
["NET",{"$f":"B22-(B$4<=MOD($W23,18))-INT($W23/18)","v":4},{"$f":"C22-(C$4<=MOD($W23,18))-INT($W23/18)","v":5},3,4,3,6,4,4,4,37,{"$f":"L22-(L$4<=MOD($W23,18))-INT($W23/18)","v":6},{"$f":"M22-(M$4<=MOD($W23,18))-INT($W23/18)","v":4},4,4,5,3,5,4,5,40,77,8]
["10 Apr 22 - 54 Hole Individual Rd 3",5,5,3,5,4,8,4,4,4,42,6,4,3,4,4,4,6,5,5,41,83]
["NET",{"$f":"B24-(B$4<=MOD($W25,18))-INT($W25/18)","v":4},{"$f":"C24-(C$4<=MOD($W25,18))-INT($W25/18)","v":5},3,4,4,8,3,4,3,38,{"$f":"L24-(L$4<=MOD($W25,18))-INT($W25/18)","v":6},{"$f":"M24-(M$4<=MOD($W25,18))-INT($W25/18)","v":3},3,3,4,3,6,5,4,37,75,8]
["11 May 7 - Senior 4-Ball Qualifier",5,6,3,5,3,5,4,5,4,40,6,4,4,5,4,3,6,4,5,41,81]
["NET",{"$f":"B26-(B$4<=MOD($W27,18))-INT($W27/18)","v":4},6,3,4,3,5,3,5,3,36,{"$f":"L26-(L$4<=MOD($W27,18))-INT($W27/18)","v":5},{"$f":"M26-(M$4<=MOD($W27,18))-INT($W27/18)","v":3},4,4,4,2,6,4,4,36,72,9]
["12 May 16 - Day on the Oaks 2",6,7,3,5,3,6,4,5,4,43,6,5,6,5,4,4,5,5,6,46,89]
["NET",{"$f":"B28-(B$4<=MOD($W29,18))-INT($W29/18)","v":5},7,3,4,3,6,3,5,3,39,{"$f":"L28-(L$4<=MOD($W29,18))-INT($W29/18)","v":6},{"$f":"M28-(M$4<=MOD($W29,18))-INT($W29/18)","v":4},6,4,4,3,5,5,5,42,81,8]
["13 May 28 - Memorial",4,8,3,4,3,6,4,4,5,41,5,6,3,5,4,3,6,5,5,42,83]
["NET",{"$f":"B30-(B$4<=MOD($W31,18))-INT($W31/18)","v":3},8,3,3,3,6,3,4,4,37,{"$f":"L30-(L$4<=MOD($W31,18))-INT($W31/18)","v":4},{"$f":"M30-(M$4<=MOD($W31,18))-INT($W31/18)","v":5},3,4,4,2,6,5,4,37,74,9]
["14 Jun 10 - 54 Hole Team Rd 1",5,5,4,4,4,5,5,5,5,42,5,4,3,5,4,3,6,5,5,40,82]
["NET",{"$f":"B32-(B$4<=MOD($W33,18))-INT($W33/18)","v":4},5,4,3,4,5,4,5,4,38,{"$f":"L32-(L$4<=MOD($W33,18))-INT($W33/18)","v":4},{"$f":"M32-(M$4<=MOD($W33,18))-INT($W33/18)","v":3},3,4,4,2,6,5,4,35,73,9]
["15 Jun 27 - Day on the Oaks 3",null,null,null,null,null,null,null,null,null,0,null,null,null,null,null,null,null,null,null,0,0]
["NET",null,null,null,null,null,null,null,null,null,0,null,null,null,null,null,null,null,null,null,0,0]
["17 Jul 11 - Day on the Oaks 4",null,null,null,null,null,null,null,null,null,0,null,null,null,null,null,null,null,null,null,0,0]
["NET",null,null,null,null,null,null,null,null,null,0,null,null,null,null,null,null,null,null,null,0,0]
["18 Aug 1 - Day on the Oaks 5",null,null,null,null,null,null,null,null,null,0,null,null,null,null,null,null,null,null,null,0,0]
["NET",null,null,null,null,null,null,null,null,null,0,null,null,null,null,null,null,null,null,null,0,0]
["19 Aug 13 - Rose Cup Qualifier",null,null,null,null,null,null,null,null,null,0,null,null,null,null,null,null,null,null,null,0,0]
["NET",null,null,null,null,null,null,null,null,null,0,null,null,null,null,null,null,null,null,null,0,0]
["20 Aug 29 - Day on the Oaks 6",null,null,null,null,null,null,null,null,null,0,null,null,null,null,null,null,null,null,null,0,0]
["NET",null,null,null,null,null,null,null,null,null,0,null,null,null,null,null,null,null,null,null,0,0]
["21 Sep 3 - Labor Day",null,null,null,null,null,null,null,null,null,0,null,null,null,null,null,null,null,null,null,0,0]
["NET",null,null,null,null,null,null,null,null,null,0,null,null,null,null,null,null,null,null,null,0,0]
["22 Oct 21 - Past Presidents",null,null,null,null,null,null,null,null,null,0,null,null,null,null,null,null,null,null,null,0,0]
["NET",null,null,null,null,null,null,null,null,null,0,null,null,null,null,null,null,null,null,null,0,0]
["23 Nov 12 - Turkey Shoot",null,null,null,null,null,null,null,null,null,0,null,null,null,null,null,null,null,null,null,0,0]
["NET",null,null,null,null,null,null,null,null,null,0,null,null,null,null,null,null,null,null,null,0,0]
["24 Dec 2 - Eclectic Final ",null,null,null,null,null,null,null,null,null,0,null,null,null,null,null,null,null,null,null,0,0]
["NET",null,null,null,null,null,null,null,null,null,0,null,null,null,null,null,null,null,null,null,0,0]
[null,null,null,null,null,null,null,null,null,null,0,null,null,null,null,null,null,null,null,null,0,0]
[null,null,null,null,null,null,null,null,null,null,0,null,null,null,null,null,null,null,null,null,0,0]
[]
["Low Gross Score",{"$f":"MIN(B6,B8,B10,B12,B14,B16,B18,B20,B22,B24,B26,B28,B30,32,B34,B36,B38,B40,B42,B44,B46,B48,B50,B52)","v":4},{"$f":"MIN(C6,C8,C10,C12,C14,C16,C18,C20,C22,C24,C26,C28,C30,32,C34,C36,C38,C40,C42,C44,C46,C48,C50,C52)","v":5},3,4,3,5,4,4,4,{"$f":"SUM(B55:J55)","v":36},{"$f":"MIN(L6,L8,L10,L12,L14,L16,L18,L20,L22,L24,L26,L28,L30,32,L34,L36,L38,L40,L42,L44,L46,L48,L50,L52)","v":5},4,3,3,4,3,4,4,4,{"$f":"SUM(L55:T55)","v":34},{"$f":"SUM(K55+U55)","v":70}]
["Low Net Score",{"$f":"MIN(B7,B9,B11,B13,B15,B17,B19,B21,B23,B25,B27,B29,B31,B33,B35,B37,B39,B41,B43,B45,B47,B49,B51,B53)","v":3},{"$f":"MIN(C7,C9,C11,C13,C15,C17,C19, C21,C23,C25,C27,C29,C31,C33,C35,C37,C39,C41,C43,C45,C47,C49,C51,C53)","v":5},3,3,3,5,3,4,3,32,{"$f":"MIN(L7,L9,L11,L13,L15,L17,L19, L21,L23,L25,L27,L29,L31,L33,L35,L37,L39,L41,L43,L45,L47,L49,L51,L53)","v":4},3,3,2,4,2,4,4,3,29,61]

{"sheet":"PRZEPIORSKI, KARRY","index":38,"n_rows":56,"n_cols":23,"rows_kept":56,"cut":false,"hidden":false,"merged":[]}
[]
["PRZEPIORSKI, KARRY",null,null,null,null,null,null,null,null,null,null,null,null,null,null,null,null,null,null,null,null,null,"HANDICAP"]
["HOLE",1,2,3,4,5,6,7,8,9,"OUT",10,11,12,13,14,15,16,17,18,"IN","TOTAL"]
["HANDICAP",8,14,18,6,16,10,4,12,2,null,9,5,17,3,15,7,13,11,1]
["PAR",4,5,3,4,3,5,4,4,4,36,5,4,3,4,4,3,5,4,4,36,72]
["1 Jan 28 - NCGA 4-Ball",5,5,7,4,2,7,5,5,6,{"$f":"SUM(B6:J6)","v":46},9,6,3,7,5,4,6,5,7,{"$f":"SUM(L6:T6)","v":52},{"$f":"SUM(K6+U6)","v":98}]
["NET",{"$f":"B6-(B$4<=MOD($W7,18))-INT($W7/18)","v":4},{"$f":"C6-(C$4<=MOD($W7,18))-INT($W7/18)","v":4},7,3,2,6,4,4,5,39,{"$f":"L6-(L$4<=MOD($W7,18))-INT($W7/18)","v":8},5,3,6,4,3,5,4,6,44,83,15]
["2 Feb 11 - Super Bowl",5,8,3,5,4,7,6,6,6,50,5,5,5,6,7,4,6,5,5,48,98]
["NET",{"$f":"B8-(B$4<=MOD($W9,18))-INT($W9/18)","v":4},{"$f":"C8-(C$4<=MOD($W9,18))-INT($W9/18)","v":7},2,4,3,6,5,5,5,41,{"$f":"L8-(L$4<=MOD($W9,18))-INT($W9/18)","v":4},{"$f":"M8-(M$4<=MOD($W9,18))-INT($W9/18)","v":4},4,5,6,3,5,4,3,38,79,19]
["3 Feb 26 - Modified Stableford",6,6,3,6,3,8,7,6,7,52,6,7,3,7,6,4,6,7,6,52,104]
["NET",{"$f":"B10-(B$4<=MOD($W11,18))-INT($W11/18)","v":5},5,2,5,2,7,6,5,5,42,{"$f":"L10-(L$4<=MOD($W11,18))-INT($W11/18)","v":5},{"$f":"M10-(M$4<=MOD($W11,18))-INT($W11/18)","v":6},2,6,5,3,5,6,4,42,84,20]
["4 Mar 25 - Zone Qualifier Rd 1",null,null,null,null,null,null,null,null,null,0,null,null,null,null,null,null,null,null,null,0,0]
["NET",null,null,null,null,null,null,null,null,null,0,null,null,null,null,null,null,null,null,null,0,0]
["5 Mar 26 - Zone Qualifier Rd 2",null,null,null,null,null,null,null,null,null,0,null,null,null,null,null,null,null,null,null,0,0]
["NET",null,null,null,null,null,null,null,null,null,0,null,null,null,null,null,null,null,null,null,0,0]
["6 Apr 8 - RGC Masters",5,8,4,4,5,6,5,5,6,48,7,4,5,5,5,4,5,5,6,46,94]
["NET",{"$f":"B16-(B$4<=MOD($W17,18))-INT($W17/18)","v":4},{"$f":"C16-(C$4<=MOD($W17,18))-INT($W17/18)","v":7},3,3,4,5,4,4,4,38,{"$f":"L16-(L$4<=MOD($W17,18))-INT($W17/18)","v":6},{"$f":"M16-(M$4<=MOD($W17,18))-INT($W17/18)","v":3},4,3,4,3,4,4,4,35,73,21]
["7 Apr 11 - Day on the Oaks 1",6,6,4,5,3,5,6,5,6,46,6,5,5,6,6,4,6,6,6,50,96]
["NET",{"$f":"B18-(B$4<=MOD($W19,18))-INT($W19/18)","v":5},5,3,4,2,4,5,4,4,36,{"$f":"L18-(L$4<=MOD($W19,18))-INT($W19/18)","v":5},{"$f":"M18-(M$4<=MOD($W19,18))-INT($W19/18)","v":4},4,4,5,3,5,5,4,39,75,21]
["8 Apr 15 - 54 Hole Individual Rd 1",5,6,2,5,4,6,5,5,5,43,6,5,4,5,5,4,5,5,6,45,88]
["NET",{"$f":"B20-(B$4<=MOD($W21,18))-INT($W21/18)","v":4},5,1,4,3,5,4,4,3,33,{"$f":"L20-(L$4<=MOD($W21,18))-INT($W21/18)","v":5},{"$f":"M20-(M$4<=MOD($W21,18))-INT($W21/18)","v":4},3,3,4,3,4,4,4,34,67,21]
["9 Apr 16 - 54 Hole Individual Rd 2",5,6,3,5,3,6,5,5,7,45,5,5,3,5,5,4,6,5,6,44,89]
["NET",{"$f":"B22-(B$4<=MOD($W23,18))-INT($W23/18)","v":4},5,2,4,2,5,4,4,5,35,{"$f":"L22-(L$4<=MOD($W23,18))-INT($W23/18)","v":4},{"$f":"M22-(M$4<=MOD($W23,18))-INT($W23/18)","v":4},2,3,4,3,5,4,4,33,68,21]
["10 Apr 22 - 54 Hole Individual Rd 3",5,8,5,5,4,6,6,5,5,49,5,5,3,6,4,4,7,5,5,44,93]
["NET",{"$f":"B24-(B$4<=MOD($W25,18))-INT($W25/18)","v":4},7,4,4,3,5,5,4,3,39,{"$f":"L24-(L$4<=MOD($W25,18))-INT($W25/18)","v":4},{"$f":"M24-(M$4<=MOD($W25,18))-INT($W25/18)","v":4},2,4,3,3,6,4,3,33,72,21]
["11 May 7 - Senior 4-Ball Qualifier",null,null,null,null,null,null,null,null,null,0,null,null,null,null,null,null,null,null,null,0,0]
["NET",null,null,null,null,null,null,null,null,null,0,null,null,null,null,null,null,null,null,null,0,0]
["12 May 16 - Day on the Oaks 2",6,7,4,6,4,6,5,5,5,48,6,6,3,4,5,4,6,4,6,44,92]
["NET",{"$f":"B28-(B$4<=MOD($W29,18))-INT($W29/18)","v":5},{"$f":"C28-(C$4<=MOD($W29,18))-INT($W29/18)","v":6},4,5,3,5,4,4,4,40,{"$f":"L28-(L$4<=MOD($W29,18))-INT($W29/18)","v":5},{"$f":"M28-(M$4<=MOD($W29,18))-INT($W29/18)","v":5},3,3,4,3,5,3,5,36,76,16]
["13 May 28 - Memorial",5,7,4,5,3,8,5,4,5,46,7,5,4,5,4,4,7,5,5,46,92]
["NET",{"$f":"B30-(B$4<=MOD($W31,18))-INT($W31/18)","v":4},6,4,4,2,7,4,3,4,38,{"$f":"L30-(L$4<=MOD($W31,18))-INT($W31/18)","v":6},{"$f":"M30-(M$4<=MOD($W31,18))-INT($W31/18)","v":4},4,4,3,3,6,4,4,38,76,16]
["14 Jun 10 - 54 Hole Team Rd 1",7,6,3,5,4,6,5,5,6,47,5,5,3,6,5,4,6,5,6,45,92]
["NET",{"$f":"B32-(B$4<=MOD($W33,18))-INT($W33/18)","v":6},5,3,4,3,5,4,4,5,39,{"$f":"L32-(L$4<=MOD($W33,18))-INT($W33/18)","v":4},{"$f":"M32-(M$4<=MOD($W33,18))-INT($W33/18)","v":4},2,5,4,3,5,4,5,36,75,17]
["15 Jun 27 - Day on the Oaks 3",null,null,null,null,null,null,null,null,null,0,null,null,null,null,null,null,null,null,null,0,0]
["NET",null,null,null,null,null,null,null,null,null,0,null,null,null,null,null,null,null,null,null,0,0]
["17 Jul 11 - Day on the Oaks 4",null,null,null,null,null,null,null,null,null,0,null,null,null,null,null,null,null,null,null,0,0]
["NET",null,null,null,null,null,null,null,null,null,0,null,null,null,null,null,null,null,null,null,0,0]
["18 Aug 1 - Day on the Oaks 5",5,7,3,4,3,6,6,5,6,45,6,5,4,5,5,4,7,4,6,46,91]
["NET",{"$f":"B38-(B$4<=MOD($W39,18))-INT($W39/18)","v":4},{"$f":"C38-(C$4<=MOD($W39,18))-INT($W39/18)","v":6},2,3,2,5,5,4,5,36,{"$f":"L38-(L$4<=MOD($W39,18))-INT($W39/18)","v":5},{"$f":"M38-(M$4<=MOD($W39,18))-INT($W39/18)","v":4},3,4,4,3,6,3,5,37,73,18]
["19 Aug 13 - Rose Cup Qualifier",null,null,null,null,null,null,null,null,null,0,null,null,null,null,null,null,null,null,null,0,0]
["NET",null,null,null,null,null,null,null,null,null,0,null,null,null,null,null,null,null,null,null,0,0]
["20 Aug 29 - Day on the Oaks 6",null,null,null,null,null,null,null,null,null,0,null,null,null,null,null,null,null,null,null,0,0]
["NET",null,null,null,null,null,null,null,null,null,0,null,null,null,null,null,null,null,null,null,0,0]
["21 Sep 3 - Labor Day",null,null,null,null,null,null,null,null,null,0,null,null,null,null,null,null,null,null,null,0,0]
["NET",null,null,null,null,null,null,null,null,null,0,null,null,null,null,null,null,null,null,null,0,0]
["22 Oct 21 - Past Presidents",null,null,null,null,null,null,null,null,null,0,null,null,null,null,null,null,null,null,null,0,0]
["NET",null,null,null,null,null,null,null,null,null,0,null,null,null,null,null,null,null,null,null,0,0]
["23 Nov 12 - Turkey Shoot",null,null,null,null,null,null,null,null,null,0,null,null,null,null,null,null,null,null,null,0,0]
["NET",null,null,null,null,null,null,null,null,null,0,null,null,null,null,null,null,null,null,null,0,0]
["24 Dec 2 - Eclectic Final ",null,null,null,null,null,null,null,null,null,0,null,null,null,null,null,null,null,null,null,0,0]
["NET",null,null,null,null,null,null,null,null,null,0,null,null,null,null,null,null,null,null,null,0,0]
[null,null,null,null,null,null,null,null,null,null,0,null,null,null,null,null,null,null,null,null,0,0]
[null,null,null,null,null,null,null,null,null,null,0,null,null,null,null,null,null,null,null,null,0,0]
[]
["Low Gross Score",{"$f":"MIN(B6,B8,B10,B12,B14,B16,B18,B20,B22,B24,B26,B28,B30,32,B34,B36,B38,B40,B42,B44,B46,B48,B50,B52)","v":5},{"$f":"MIN(C6,C8,C10,C12,C14,C16,C18,C20,C22,C24,C26,C28,C30,32,C34,C36,C38,C40,C42,C44,C46,C48,C50,C52)","v":5},2,4,2,5,5,4,5,{"$f":"SUM(B55:J55)","v":37},{"$f":"MIN(L6,L8,L10,L12,L14,L16,L18,L20,L22,L24,L26,L28,L30,32,L34,L36,L38,L40,L42,L44,L46,L48,L50,L52)","v":5},4,3,4,4,4,5,4,5,{"$f":"SUM(L55:T55)","v":38},{"$f":"SUM(K55+U55)","v":75}]
["Low Net Score",{"$f":"MIN(B7,B9,B11,B13,B15,B17,B19,B21,B23,B25,B27,B29,B31,B33,B35,B37,B39,B41,B43,B45,B47,B49,B51,B53)","v":4},{"$f":"MIN(C7,C9,C11,C13,C15,C17,C19, C21,C23,C25,C27,C29,C31,C33,C35,C37,C39,C41,C43,C45,C47,C49,C51,C53)","v":4},1,3,2,4,4,3,3,28,{"$f":"MIN(L7,L9,L11,L13,L15,L17,L19, L21,L23,L25,L27,L29,L31,L33,L35,L37,L39,L41,L43,L45,L47,L49,L51,L53)","v":4},3,2,3,3,3,4,3,3,28,56]

{"sheet":"REED, DAVID","index":39,"n_rows":56,"n_cols":23,"rows_kept":56,"cut":false,"hidden":false,"merged":[]}
[]
["REED, DAVID",null,null,null,null,null,null,null,null,null,null,null,null,null,null,null,null,null,null,null,null,null,"HANDICAP"]
["HOLE",1,2,3,4,5,6,7,8,9,"OUT",10,11,12,13,14,15,16,17,18,"IN","TOTAL"]
["HANDICAP",8,14,18,6,16,10,4,12,2,null,9,5,17,3,15,7,13,11,1]
["PAR",4,5,3,4,3,5,4,4,4,36,5,4,3,4,4,3,5,4,4,36,72]
["1 Jan 28 - NCGA 4-Ball",null,null,null,null,null,null,null,null,null,{"$f":"SUM(B6:J6)","v":0},null,null,null,null,null,null,null,null,null,{"$f":"SUM(L6:T6)","v":0},{"$f":"SUM(K6+U6)","v":0}]
["NET",null,null,null,null,null,null,null,null,null,0,null,null,null,null,null,null,null,null,null,0,0]
["2 Feb 11 - Super Bowl",4,5,2,4,3,6,4,4,5,37,4,5,3,4,4,3,5,6,5,39,76]
["NET",{"$f":"B8-(B$4<=MOD($W9,18))-INT($W9/18)","v":4},{"$f":"C8-(C$4<=MOD($W9,18))-INT($W9/18)","v":5},2,4,3,6,3,4,4,35,{"$f":"L8-(L$4<=MOD($W9,18))-INT($W9/18)","v":4},{"$f":"M8-(M$4<=MOD($W9,18))-INT($W9/18)","v":5},3,3,4,3,5,6,4,37,72,4]
["3 Feb 26 - Modified Stableford",5,5,3,5,4,6,4,5,4,41,5,5,4,4,4,5,6,4,6,43,84]
["NET",{"$f":"B10-(B$4<=MOD($W11,18))-INT($W11/18)","v":5},5,3,5,4,6,3,5,3,39,{"$f":"L10-(L$4<=MOD($W11,18))-INT($W11/18)","v":5},{"$f":"M10-(M$4<=MOD($W11,18))-INT($W11/18)","v":5},4,3,4,5,6,4,5,41,80,4]
["4 Mar 25 - Zone Qualifier Rd 1",5,6,4,5,3,5,4,4,6,42,6,5,4,4,4,3,5,5,4,40,82]
["NET",{"$f":"B12-(B$4<=MOD($W13,18))-INT($W13/18)","v":5},6,4,5,3,5,3,4,5,40,{"$f":"L12-(L$4<=MOD($W13,18))-INT($W13/18)","v":6},{"$f":"M12-(M$4<=MOD($W13,18))-INT($W13/18)","v":5},4,3,4,3,5,5,3,38,78,4]
["5 Mar 26 - Zone Qualifier Rd 2",5,5,3,5,3,5,4,5,5,40,6,4,3,4,4,4,4,6,6,41,81]
["NET",{"$f":"B14-(B$4<=MOD($W15,18))-INT($W15/18)","v":5},5,3,5,3,5,3,5,4,38,{"$f":"L14-(L$4<=MOD($W15,18))-INT($W15/18)","v":6},{"$f":"M14-(M$4<=MOD($W15,18))-INT($W15/18)","v":4},3,3,4,4,4,6,5,39,77,4]
["6 Apr 8 - RGC Masters",5,5,4,4,3,6,6,5,4,42,5,4,3,4,4,3,5,4,6,38,80]
["NET",{"$f":"B16-(B$4<=MOD($W17,18))-INT($W17/18)","v":5},5,4,4,3,6,5,5,3,40,{"$f":"L16-(L$4<=MOD($W17,18))-INT($W17/18)","v":5},{"$f":"M16-(M$4<=MOD($W17,18))-INT($W17/18)","v":3},3,3,4,3,5,4,5,35,75,5]
["7 Apr 11 - Day on the Oaks 1",null,null,null,null,null,null,null,null,null,0,null,null,null,null,null,null,null,null,null,0,0]
["NET",null,null,null,null,null,null,null,null,null,0,null,null,null,null,null,null,null,null,null,0,0]
["8 Apr 15 - 54 Hole Individual Rd 1",4,6,4,4,3,6,4,5,4,40,6,5,3,5,4,3,5,4,3,38,78]
["NET",{"$f":"B20-(B$4<=MOD($W21,18))-INT($W21/18)","v":4},{"$f":"C20-(C$4<=MOD($W21,18))-INT($W21/18)","v":6},4,4,3,6,3,5,3,38,{"$f":"L20-(L$4<=MOD($W21,18))-INT($W21/18)","v":6},{"$f":"M20-(M$4<=MOD($W21,18))-INT($W21/18)","v":4},3,4,4,3,5,4,2,35,73,5]
["9 Apr 16 - 54 Hole Individual Rd 2",4,5,3,5,4,5,4,4,5,39,5,5,3,5,5,3,6,4,5,41,80]
["NET",{"$f":"B22-(B$4<=MOD($W23,18))-INT($W23/18)","v":4},{"$f":"C22-(C$4<=MOD($W23,18))-INT($W23/18)","v":5},3,5,4,5,3,4,4,37,{"$f":"L22-(L$4<=MOD($W23,18))-INT($W23/18)","v":5},{"$f":"M22-(M$4<=MOD($W23,18))-INT($W23/18)","v":4},3,4,5,3,6,4,4,38,75,5]
["10 Apr 22 - 54 Hole Individual Rd 3",6,5,4,5,3,5,4,4,5,41,5,5,4,4,4,3,4,4,4,37,78]
["NET",{"$f":"B24-(B$4<=MOD($W25,18))-INT($W25/18)","v":6},{"$f":"C24-(C$4<=MOD($W25,18))-INT($W25/18)","v":5},4,5,3,5,3,4,4,39,{"$f":"L24-(L$4<=MOD($W25,18))-INT($W25/18)","v":5},{"$f":"M24-(M$4<=MOD($W25,18))-INT($W25/18)","v":4},4,3,4,3,4,4,3,34,73,5]
["11 May 7 - Senior 4-Ball Qualifier",null,null,null,null,null,null,null,null,null,0,null,null,null,null,null,null,null,null,null,0,0]
["NET",null,null,null,null,null,null,null,null,null,0,null,null,null,null,null,null,null,null,null,0,0]
["12 May 16 - Day on the Oaks 2",7,5,3,4,3,5,4,5,6,42,5,5,4,4,4,3,5,5,4,39,81]
["NET",{"$f":"B28-(B$4<=MOD($W29,18))-INT($W29/18)","v":7},{"$f":"C28-(C$4<=MOD($W29,18))-INT($W29/18)","v":5},3,4,3,5,3,5,5,40,{"$f":"L28-(L$4<=MOD($W29,18))-INT($W29/18)","v":5},{"$f":"M28-(M$4<=MOD($W29,18))-INT($W29/18)","v":4},4,3,4,3,5,5,3,36,76,5]
["13 May 28 - Memorial",null,null,null,null,null,null,null,null,null,0,null,null,null,null,null,null,null,null,null,0,0]
["NET",null,null,null,null,null,null,null,null,null,0,null,null,null,null,null,null,null,null,null,0,0]
["14 Jun 10 - 54 Hole Team Rd 1",null,null,null,null,null,null,null,null,null,0,null,null,null,null,null,null,null,null,null,0,0]
["NET",null,null,null,null,null,null,null,null,null,0,null,null,null,null,null,null,null,null,null,0,0]
["15 Jun 27 - Day on the Oaks 3",null,null,null,null,null,null,null,null,null,0,null,null,null,null,null,null,null,null,null,0,0]
["NET",null,null,null,null,null,null,null,null,null,0,null,null,null,null,null,null,null,null,null,0,0]
["17 Jul 11 - Day on the Oaks 4",null,null,null,null,null,null,null,null,null,0,null,null,null,null,null,null,null,null,null,0,0]
["NET",null,null,null,null,null,null,null,null,null,0,null,null,null,null,null,null,null,null,null,0,0]
["18 Aug 1 - Day on the Oaks 5",null,null,null,null,null,null,null,null,null,0,null,null,null,null,null,null,null,null,null,0,0]
["NET",null,null,null,null,null,null,null,null,null,0,null,null,null,null,null,null,null,null,null,0,0]
["19 Aug 13 - Rose Cup Qualifier",null,null,null,null,null,null,null,null,null,0,null,null,null,null,null,null,null,null,null,0,0]
["NET",null,null,null,null,null,null,null,null,null,0,null,null,null,null,null,null,null,null,null,0,0]
["20 Aug 29 - Day on the Oaks 6",null,null,null,null,null,null,null,null,null,0,null,null,null,null,null,null,null,null,null,0,0]
["NET",null,null,null,null,null,null,null,null,null,0,null,null,null,null,null,null,null,null,null,0,0]
["21 Sep 3 - Labor Day",null,null,null,null,null,null,null,null,null,0,null,null,null,null,null,null,null,null,null,0,0]
["NET",null,null,null,null,null,null,null,null,null,0,null,null,null,null,null,null,null,null,null,0,0]
["22 Oct 21 - Past Presidents",null,null,null,null,null,null,null,null,null,0,null,null,null,null,null,null,null,null,null,0,0]
["NET",null,null,null,null,null,null,null,null,null,0,null,null,null,null,null,null,null,null,null,0,0]
["23 Nov 12 - Turkey Shoot",null,null,null,null,null,null,null,null,null,0,null,null,null,null,null,null,null,null,null,0,0]
["NET",null,null,null,null,null,null,null,null,null,0,null,null,null,null,null,null,null,null,null,0,0]
["24 Dec 2 - Eclectic Final ",null,null,null,null,null,null,null,null,null,0,null,null,null,null,null,null,null,null,null,0,0]
["NET",null,null,null,null,null,null,null,null,null,0,null,null,null,null,null,null,null,null,null,0,0]
[null,null,null,null,null,null,null,null,null,null,0,null,null,null,null,null,null,null,null,null,0,0]
[null,null,null,null,null,null,null,null,null,null,0,null,null,null,null,null,null,null,null,null,0,0]
[]
["Low Gross Score",{"$f":"MIN(B6,B8,B10,B12,B14,B16,B18,B20,B22,B24,B26,B28,B30,32,B34,B36,B38,B40,B42,B44,B46,B48,B50,B52)","v":4},{"$f":"MIN(C6,C8,C10,C12,C14,C16,C18,C20,C22,C24,C26,C28,C30,32,C34,C36,C38,C40,C42,C44,C46,C48,C50,C52)","v":5},2,4,3,5,4,4,4,{"$f":"SUM(B55:J55)","v":35},{"$f":"MIN(L6,L8,L10,L12,L14,L16,L18,L20,L22,L24,L26,L28,L30,32,L34,L36,L38,L40,L42,L44,L46,L48,L50,L52)","v":4},4,3,4,4,3,4,4,3,{"$f":"SUM(L55:T55)","v":33},{"$f":"SUM(K55+U55)","v":68}]
["Low Net Score",{"$f":"MIN(B7,B9,B11,B13,B15,B17,B19,B21,B23,B25,B27,B29,B31,B33,B35,B37,B39,B41,B43,B45,B47,B49,B51,B53)","v":4},{"$f":"MIN(C7,C9,C11,C13,C15,C17,C19, C21,C23,C25,C27,C29,C31,C33,C35,C37,C39,C41,C43,C45,C47,C49,C51,C53)","v":5},2,4,3,5,3,4,3,33,{"$f":"MIN(L7,L9,L11,L13,L15,L17,L19, L21,L23,L25,L27,L29,L31,L33,L35,L37,L39,L41,L43,L45,L47,L49,L51,L53)","v":4},3,3,3,4,3,4,4,2,30,63]

{"sheet":"RUSSI, BRYON","index":40,"n_rows":56,"n_cols":23,"rows_kept":56,"cut":false,"hidden":false,"merged":[]}
[]
["RUSSI, BRYON",null,null,null,null,null,null,null,null,null,null,null,null,null,null,null,null,null,null,null,null,null,"HANDICAP"]
["HOLE",1,2,3,4,5,6,7,8,9,"OUT",10,11,12,13,14,15,16,17,18,"IN","TOTAL"]
["HANDICAP",8,14,18,6,16,10,4,12,2,null,9,5,17,3,15,7,13,11,1]
["PAR",4,5,3,4,3,5,4,4,4,36,5,4,3,4,4,3,5,4,4,36,72]
["1 Jan 28 - NCGA 4-Ball",null,null,null,null,null,null,null,null,null,{"$f":"SUM(B6:J6)","v":0},null,null,null,null,null,null,null,null,null,{"$f":"SUM(L6:T6)","v":0},{"$f":"SUM(K6+U6)","v":0}]
["NET",null,null,null,null,null,null,null,null,null,0,null,null,null,null,null,null,null,null,null,0,0]
["2 Feb 11 - Super Bowl",3,6,3,3,4,8,5,4,5,41,5,6,3,8,5,3,4,4,5,43,84]
["NET",{"$f":"B8-(B$4<=MOD($W9,18))-INT($W9/18)","v":2},{"$f":"C8-(C$4<=MOD($W9,18))-INT($W9/18)","v":6},3,2,4,8,4,4,4,37,{"$f":"L8-(L$4<=MOD($W9,18))-INT($W9/18)","v":4},{"$f":"M8-(M$4<=MOD($W9,18))-INT($W9/18)","v":5},3,7,5,2,4,4,4,38,75,9]
["3 Feb 26 - Modified Stableford",null,null,null,null,null,null,null,null,null,0,null,null,null,null,null,null,null,null,null,0,0]
["NET",null,null,null,null,null,null,null,null,null,0,null,null,null,null,null,null,null,null,null,0,0]
["4 Mar 25 - Zone Qualifier Rd 1",null,null,null,null,null,null,null,null,null,0,null,null,null,null,null,null,null,null,null,0,0]
["NET",null,null,null,null,null,null,null,null,null,0,null,null,null,null,null,null,null,null,null,0,0]
["5 Mar 26 - Zone Qualifier Rd 2",null,null,null,null,null,null,null,null,null,0,null,null,null,null,null,null,null,null,null,0,0]
["NET",null,null,null,null,null,null,null,null,null,0,null,null,null,null,null,null,null,null,null,0,0]
["6 Apr 8 - RGC Masters",null,null,null,null,null,null,null,null,null,0,null,null,null,null,null,null,null,null,null,0,0]
["NET",null,null,null,null,null,null,null,null,null,0,null,null,null,null,null,null,null,null,null,0,0]
["7 Apr 11 - Day on the Oaks 1",null,null,null,null,null,null,null,null,null,0,null,null,null,null,null,null,null,null,null,0,0]
["NET",null,null,null,null,null,null,null,null,null,0,null,null,null,null,null,null,null,null,null,0,0]
["8 Apr 15 - 54 Hole Individual Rd 1",4,5,3,7,2,5,4,6,4,40,5,5,3,5,6,4,5,4,5,42,82]
["NET",{"$f":"B20-(B$4<=MOD($W21,18))-INT($W21/18)","v":3},{"$f":"C20-(C$4<=MOD($W21,18))-INT($W21/18)","v":5},3,6,2,5,3,6,3,36,{"$f":"L20-(L$4<=MOD($W21,18))-INT($W21/18)","v":4},{"$f":"M20-(M$4<=MOD($W21,18))-INT($W21/18)","v":4},3,4,6,3,5,4,4,37,73,9]
["9 Apr 16 - 54 Hole Individual Rd 2",5,5,4,5,4,6,4,5,5,43,6,5,3,4,5,4,5,5,5,42,85]
["NET",{"$f":"B22-(B$4<=MOD($W23,18))-INT($W23/18)","v":4},{"$f":"C22-(C$4<=MOD($W23,18))-INT($W23/18)","v":5},4,4,4,6,3,5,4,39,{"$f":"L22-(L$4<=MOD($W23,18))-INT($W23/18)","v":5},{"$f":"M22-(M$4<=MOD($W23,18))-INT($W23/18)","v":4},3,3,5,3,5,5,4,37,76,9]
["10 Apr 22 - 54 Hole Individual Rd 3",5,6,4,4,4,7,4,5,4,43,5,6,4,4,4,3,5,4,5,40,83]
["NET",{"$f":"B24-(B$4<=MOD($W25,18))-INT($W25/18)","v":4},{"$f":"C24-(C$4<=MOD($W25,18))-INT($W25/18)","v":6},4,3,4,7,3,5,3,39,{"$f":"L24-(L$4<=MOD($W25,18))-INT($W25/18)","v":4},{"$f":"M24-(M$4<=MOD($W25,18))-INT($W25/18)","v":5},4,3,4,2,5,4,4,35,74,9]
["11 May 7 - Senior 4-Ball Qualifier",null,null,null,null,null,null,null,null,null,0,null,null,null,null,null,null,null,null,null,0,0]
["NET",null,null,null,null,null,null,null,null,null,0,null,null,null,null,null,null,null,null,null,0,0]
["12 May 16 - Day on the Oaks 2",null,null,null,null,null,null,null,null,null,0,null,null,null,null,null,null,null,null,null,0,0]
["NET",null,null,null,null,null,null,null,null,null,0,null,null,null,null,null,null,null,null,null,0,0]
["13 May 28 - Memorial",6,5,2,5,3,6,5,5,5,42,6,3,3,4,4,4,5,4,5,38,80]
["NET",{"$f":"B30-(B$4<=MOD($W31,18))-INT($W31/18)","v":5},{"$f":"C30-(C$4<=MOD($W31,18))-INT($W31/18)","v":5},2,4,3,6,4,5,4,38,{"$f":"L30-(L$4<=MOD($W31,18))-INT($W31/18)","v":5},{"$f":"M30-(M$4<=MOD($W31,18))-INT($W31/18)","v":2},3,3,4,3,5,4,4,33,71,9]
["14 Jun 10 - 54 Hole Team Rd 1",null,null,null,null,null,null,null,null,null,0,null,null,null,null,null,null,null,null,null,0,0]
["NET",null,null,null,null,null,null,null,null,null,0,null,null,null,null,null,null,null,null,null,0,0]
["15 Jun 27 - Day on the Oaks 3",null,null,null,null,null,null,null,null,null,0,null,null,null,null,null,null,null,null,null,0,0]
["NET",null,null,null,null,null,null,null,null,null,0,null,null,null,null,null,null,null,null,null,0,0]
["17 Jul 11 - Day on the Oaks 4",null,null,null,null,null,null,null,null,null,0,null,null,null,null,null,null,null,null,null,0,0]
["NET",null,null,null,null,null,null,null,null,null,0,null,null,null,null,null,null,null,null,null,0,0]
["18 Aug 1 - Day on the Oaks 5",null,null,null,null,null,null,null,null,null,0,null,null,null,null,null,null,null,null,null,0,0]
["NET",null,null,null,null,null,null,null,null,null,0,null,null,null,null,null,null,null,null,null,0,0]
["19 Aug 13 - Rose Cup Qualifier",null,null,null,null,null,null,null,null,null,0,null,null,null,null,null,null,null,null,null,0,0]
["NET",null,null,null,null,null,null,null,null,null,0,null,null,null,null,null,null,null,null,null,0,0]
["20 Aug 29 - Day on the Oaks 6",null,null,null,null,null,null,null,null,null,0,null,null,null,null,null,null,null,null,null,0,0]
["NET",null,null,null,null,null,null,null,null,null,0,null,null,null,null,null,null,null,null,null,0,0]
["21 Sep 3 - Labor Day",null,null,null,null,null,null,null,null,null,0,null,null,null,null,null,null,null,null,null,0,0]
["NET",null,null,null,null,null,null,null,null,null,0,null,null,null,null,null,null,null,null,null,0,0]
["22 Oct 21 - Past Presidents",null,null,null,null,null,null,null,null,null,0,null,null,null,null,null,null,null,null,null,0,0]
["NET",null,null,null,null,null,null,null,null,null,0,null,null,null,null,null,null,null,null,null,0,0]
["23 Nov 12 - Turkey Shoot",null,null,null,null,null,null,null,null,null,0,null,null,null,null,null,null,null,null,null,0,0]
["NET",null,null,null,null,null,null,null,null,null,0,null,null,null,null,null,null,null,null,null,0,0]
["24 Dec 2 - Eclectic Final ",null,null,null,null,null,null,null,null,null,0,null,null,null,null,null,null,null,null,null,0,0]
["NET",null,null,null,null,null,null,null,null,null,0,null,null,null,null,null,null,null,null,null,0,0]
[null,null,null,null,null,null,null,null,null,null,0,null,null,null,null,null,null,null,null,null,0,0]
[null,null,null,null,null,null,null,null,null,null,0,null,null,null,null,null,null,null,null,null,0,0]
[]
["Low Gross Score",{"$f":"MIN(B6,B8,B10,B12,B14,B16,B18,B20,B22,B24,B26,B28,B30,32,B34,B36,B38,B40,B42,B44,B46,B48,B50,B52)","v":3},{"$f":"MIN(C6,C8,C10,C12,C14,C16,C18,C20,C22,C24,C26,C28,C30,32,C34,C36,C38,C40,C42,C44,C46,C48,C50,C52)","v":5},2,3,2,5,4,4,4,{"$f":"SUM(B55:J55)","v":32},{"$f":"MIN(L6,L8,L10,L12,L14,L16,L18,L20,L22,L24,L26,L28,L30,32,L34,L36,L38,L40,L42,L44,L46,L48,L50,L52)","v":5},3,3,4,4,3,4,4,5,{"$f":"SUM(L55:T55)","v":35},{"$f":"SUM(K55+U55)","v":67}]
["Low Net Score",{"$f":"MIN(B7,B9,B11,B13,B15,B17,B19,B21,B23,B25,B27,B29,B31,B33,B35,B37,B39,B41,B43,B45,B47,B49,B51,B53)","v":2},{"$f":"MIN(C7,C9,C11,C13,C15,C17,C19, C21,C23,C25,C27,C29,C31,C33,C35,C37,C39,C41,C43,C45,C47,C49,C51,C53)","v":5},2,2,2,5,3,4,3,28,{"$f":"MIN(L7,L9,L11,L13,L15,L17,L19, L21,L23,L25,L27,L29,L31,L33,L35,L37,L39,L41,L43,L45,L47,L49,L51,L53)","v":4},2,3,3,4,2,4,4,4,30,58]

{"sheet":"SALCEDO, JOSE","index":41,"n_rows":56,"n_cols":23,"rows_kept":56,"cut":false,"hidden":false,"merged":[]}
[]
["SALCEDO, JOSE",null,null,null,null,null,null,null,null,null,null,null,null,null,null,null,null,null,null,null,null,null,"HANDICAP"]
["HOLE",1,2,3,4,5,6,7,8,9,"OUT",10,11,12,13,14,15,16,17,18,"IN","TOTAL"]
["HANDICAP",8,14,18,6,16,10,4,12,2,null,9,5,17,3,15,7,13,11,1]
["PAR",4,5,3,4,3,5,4,4,4,36,5,4,3,4,4,3,5,4,4,36,72]
["1 Jan 28 - NCGA 4-Ball",6,6,4,4,3,5,5,5,5,{"$f":"SUM(B6:J6)","v":43},6,4,4,7,5,3,5,5,5,{"$f":"SUM(L6:T6)","v":44},{"$f":"SUM(K6+U6)","v":87}]
["NET",{"$f":"B6-(B$4<=MOD($W7,18))-INT($W7/18)","v":5},{"$f":"C6-(C$4<=MOD($W7,18))-INT($W7/18)","v":6},4,3,3,4,4,5,4,38,{"$f":"L6-(L$4<=MOD($W7,18))-INT($W7/18)","v":5},3,4,6,5,2,5,5,4,39,77,10]
["2 Feb 11 - Super Bowl",5,6,3,5,3,5,3,5,5,40,6,5,4,6,4,4,5,4,4,42,82]
["NET",{"$f":"B8-(B$4<=MOD($W9,18))-INT($W9/18)","v":4},{"$f":"C8-(C$4<=MOD($W9,18))-INT($W9/18)","v":6},3,4,3,4,2,5,4,35,{"$f":"L8-(L$4<=MOD($W9,18))-INT($W9/18)","v":5},{"$f":"M8-(M$4<=MOD($W9,18))-INT($W9/18)","v":4},4,5,4,3,5,4,3,37,72,10]
["3 Feb 26 - Modified Stableford",5,5,5,6,3,5,4,6,5,44,7,6,4,5,4,4,5,6,6,47,91]
["NET",{"$f":"B10-(B$4<=MOD($W11,18))-INT($W11/18)","v":4},5,5,5,3,4,3,6,4,39,{"$f":"L10-(L$4<=MOD($W11,18))-INT($W11/18)","v":6},{"$f":"M10-(M$4<=MOD($W11,18))-INT($W11/18)","v":5},4,4,4,3,5,6,5,42,81,10]
["4 Mar 25 - Zone Qualifier Rd 1",4,6,3,5,3,5,4,5,5,40,7,5,4,5,5,4,5,5,6,46,86]
["NET",{"$f":"B12-(B$4<=MOD($W13,18))-INT($W13/18)","v":3},6,3,4,3,5,3,5,4,36,{"$f":"L12-(L$4<=MOD($W13,18))-INT($W13/18)","v":6},{"$f":"M12-(M$4<=MOD($W13,18))-INT($W13/18)","v":4},4,4,5,3,5,5,5,41,77,9]
["5 Mar 26 - Zone Qualifier Rd 2",6,7,4,6,4,5,4,5,4,45,6,4,3,6,4,4,5,4,4,40,85]
["NET",{"$f":"B14-(B$4<=MOD($W15,18))-INT($W15/18)","v":5},7,4,5,4,5,3,5,3,41,{"$f":"L14-(L$4<=MOD($W15,18))-INT($W15/18)","v":5},{"$f":"M14-(M$4<=MOD($W15,18))-INT($W15/18)","v":3},3,5,4,3,5,4,3,35,76,9]
["6 Apr 8 - RGC Masters",5,5,3,4,4,5,5,4,5,40,4,5,3,5,6,4,4,6,6,43,83]
["NET",{"$f":"B16-(B$4<=MOD($W17,18))-INT($W17/18)","v":4},5,3,3,4,5,4,4,4,36,{"$f":"L16-(L$4<=MOD($W17,18))-INT($W17/18)","v":3},{"$f":"M16-(M$4<=MOD($W17,18))-INT($W17/18)","v":4},3,4,6,3,4,6,5,38,74,9]
["7 Apr 11 - Day on the Oaks 1",null,null,null,null,null,null,null,null,null,0,null,null,null,null,null,null,null,null,null,0,0]
["NET",null,null,null,null,null,null,null,null,null,0,null,null,null,null,null,null,null,null,null,0,0]
["8 Apr 15 - 54 Hole Individual Rd 1",5,6,3,5,4,6,5,4,6,44,6,4,3,5,4,4,7,5,5,43,87]
["NET",{"$f":"B20-(B$4<=MOD($W21,18))-INT($W21/18)","v":4},{"$f":"C20-(C$4<=MOD($W21,18))-INT($W21/18)","v":6},3,4,4,6,4,4,5,40,{"$f":"L20-(L$4<=MOD($W21,18))-INT($W21/18)","v":5},{"$f":"M20-(M$4<=MOD($W21,18))-INT($W21/18)","v":3},3,4,4,3,7,5,4,38,78,9]
["9 Apr 16 - 54 Hole Individual Rd 2",5,6,4,6,4,5,4,6,6,46,5,4,3,6,4,3,6,5,5,41,87]
["NET",{"$f":"B22-(B$4<=MOD($W23,18))-INT($W23/18)","v":4},{"$f":"C22-(C$4<=MOD($W23,18))-INT($W23/18)","v":6},4,5,4,5,3,6,5,42,{"$f":"L22-(L$4<=MOD($W23,18))-INT($W23/18)","v":4},{"$f":"M22-(M$4<=MOD($W23,18))-INT($W23/18)","v":3},3,5,4,2,6,5,4,36,78,9]
["10 Apr 22 - 54 Hole Individual Rd 3",6,6,4,6,3,4,5,4,3,41,4,3,3,4,6,4,5,4,5,38,79]
["NET",{"$f":"B24-(B$4<=MOD($W25,18))-INT($W25/18)","v":5},{"$f":"C24-(C$4<=MOD($W25,18))-INT($W25/18)","v":6},4,5,3,4,4,4,2,37,{"$f":"L24-(L$4<=MOD($W25,18))-INT($W25/18)","v":3},{"$f":"M24-(M$4<=MOD($W25,18))-INT($W25/18)","v":2},3,3,6,3,5,4,4,33,70,9]
["11 May 7 - Senior 4-Ball Qualifier",null,null,null,null,null,null,null,null,null,0,null,null,null,null,null,null,null,null,null,0,0]
["NET",null,null,null,null,null,null,null,null,null,0,null,null,null,null,null,null,null,null,null,0,0]
["12 May 16 - Day on the Oaks 2",null,null,null,null,null,null,null,null,null,0,null,null,null,null,null,null,null,null,null,0,0]
["NET",null,null,null,null,null,null,null,null,null,0,null,null,null,null,null,null,null,null,null,0,0]
["13 May 28 - Memorial",null,null,null,null,null,null,null,null,null,0,null,null,null,null,null,null,null,null,null,0,0]
["NET",null,null,null,null,null,null,null,null,null,0,null,null,null,null,null,null,null,null,null,0,0]
["14 Jun 10 - 54 Hole Team Rd 1",6,7,3,5,3,6,5,4,5,44,6,6,3,5,4,3,6,5,6,44,88]
["NET",{"$f":"B32-(B$4<=MOD($W33,18))-INT($W33/18)","v":5},{"$f":"C32-(C$4<=MOD($W33,18))-INT($W33/18)","v":7},3,4,3,6,4,4,4,40,{"$f":"L32-(L$4<=MOD($W33,18))-INT($W33/18)","v":5},{"$f":"M32-(M$4<=MOD($W33,18))-INT($W33/18)","v":5},3,4,4,2,6,5,5,39,79,9]
["15 Jun 27 - Day on the Oaks 3",6,5,3,5,4,5,6,5,5,44,5,6,2,6,5,5,9,4,6,48,92]
["NET",{"$f":"B34-(B$4<=MOD($W35,18))-INT($W35/18)","v":5},5,3,4,4,4,5,5,4,39,{"$f":"L34-(L$4<=MOD($W35,18))-INT($W35/18)","v":4},{"$f":"M34-(M$4<=MOD($W35,18))-INT($W35/18)","v":5},2,5,5,4,9,3,5,42,81,11]
["17 Jul 11 - Day on the Oaks 4",5,6,4,3,3,7,5,5,6,44,5,4,3,6,4,4,6,5,4,41,85]
["NET",{"$f":"B36-(B$4<=MOD($W37,18))-INT($W37/18)","v":4},6,4,2,3,6,4,5,5,39,{"$f":"L36-(L$4<=MOD($W37,18))-INT($W37/18)","v":4},{"$f":"M36-(M$4<=MOD($W37,18))-INT($W37/18)","v":3},3,5,4,3,6,4,3,35,74,11]
["18 Aug 1 - Day on the Oaks 5",5,5,4,5,3,5,4,5,5,41,5,5,3,5,4,4,5,5,5,41,82]
["NET",{"$f":"B38-(B$4<=MOD($W39,18))-INT($W39/18)","v":4},5,4,4,3,4,3,5,4,36,{"$f":"L38-(L$4<=MOD($W39,18))-INT($W39/18)","v":4},{"$f":"M38-(M$4<=MOD($W39,18))-INT($W39/18)","v":4},3,4,4,3,5,5,4,36,72,10]
["19 Aug 13 - Rose Cup Qualifier",null,null,null,null,null,null,null,null,null,0,null,null,null,null,null,null,null,null,null,0,0]
["NET",null,null,null,null,null,null,null,null,null,0,null,null,null,null,null,null,null,null,null,0,0]
["20 Aug 29 - Day on the Oaks 6",null,null,null,null,null,null,null,null,null,0,null,null,null,null,null,null,null,null,null,0,0]
["NET",null,null,null,null,null,null,null,null,null,0,null,null,null,null,null,null,null,null,null,0,0]
["21 Sep 3 - Labor Day",null,null,null,null,null,null,null,null,null,0,null,null,null,null,null,null,null,null,null,0,0]
["NET",null,null,null,null,null,null,null,null,null,0,null,null,null,null,null,null,null,null,null,0,0]
["22 Oct 21 - Past Presidents",null,null,null,null,null,null,null,null,null,0,null,null,null,null,null,null,null,null,null,0,0]
["NET",null,null,null,null,null,null,null,null,null,0,null,null,null,null,null,null,null,null,null,0,0]
["23 Nov 12 - Turkey Shoot",null,null,null,null,null,null,null,null,null,0,null,null,null,null,null,null,null,null,null,0,0]
["NET",null,null,null,null,null,null,null,null,null,0,null,null,null,null,null,null,null,null,null,0,0]
["24 Dec 2 - Eclectic Final ",null,null,null,null,null,null,null,null,null,0,null,null,null,null,null,null,null,null,null,0,0]
["NET",null,null,null,null,null,null,null,null,null,0,null,null,null,null,null,null,null,null,null,0,0]
[null,null,null,null,null,null,null,null,null,null,0,null,null,null,null,null,null,null,null,null,0,0]
[null,null,null,null,null,null,null,null,null,null,0,null,null,null,null,null,null,null,null,null,0,0]
[]
["Low Gross Score",{"$f":"MIN(B6,B8,B10,B12,B14,B16,B18,B20,B22,B24,B26,B28,B30,32,B34,B36,B38,B40,B42,B44,B46,B48,B50,B52)","v":4},{"$f":"MIN(C6,C8,C10,C12,C14,C16,C18,C20,C22,C24,C26,C28,C30,32,C34,C36,C38,C40,C42,C44,C46,C48,C50,C52)","v":5},3,3,3,4,3,4,3,{"$f":"SUM(B55:J55)","v":32},{"$f":"MIN(L6,L8,L10,L12,L14,L16,L18,L20,L22,L24,L26,L28,L30,32,L34,L36,L38,L40,L42,L44,L46,L48,L50,L52)","v":4},3,2,4,4,3,4,4,4,{"$f":"SUM(L55:T55)","v":32},{"$f":"SUM(K55+U55)","v":64}]
["Low Net Score",{"$f":"MIN(B7,B9,B11,B13,B15,B17,B19,B21,B23,B25,B27,B29,B31,B33,B35,B37,B39,B41,B43,B45,B47,B49,B51,B53)","v":3},{"$f":"MIN(C7,C9,C11,C13,C15,C17,C19, C21,C23,C25,C27,C29,C31,C33,C35,C37,C39,C41,C43,C45,C47,C49,C51,C53)","v":5},3,2,3,4,2,4,2,28,{"$f":"MIN(L7,L9,L11,L13,L15,L17,L19, L21,L23,L25,L27,L29,L31,L33,L35,L37,L39,L41,L43,L45,L47,L49,L51,L53)","v":3},2,2,3,4,2,4,3,3,26,54]

{"sheet":"SALINAS, ALONSO","index":42,"n_rows":56,"n_cols":23,"rows_kept":56,"cut":false,"hidden":false,"merged":[]}
[]
["SALINAS, ALONSO",null,null,null,null,null,null,null,null,null,null,null,null,null,null,null,null,null,null,null,null,null,"HANDICAP"]
["HOLE",1,2,3,4,5,6,7,8,9,"OUT",10,11,12,13,14,15,16,17,18,"IN","TOTAL"]
["HANDICAP",8,14,18,6,16,10,4,12,2,null,9,5,17,3,15,7,13,11,1]
["PAR",4,5,3,4,3,5,4,4,4,36,5,4,3,4,4,3,5,4,4,36,72]
["1 Jan 28 - NCGA 4-Ball",null,null,null,null,null,null,null,null,null,{"$f":"SUM(B6:J6)","v":0},null,null,null,null,null,null,null,null,null,{"$f":"SUM(L6:T6)","v":0},{"$f":"SUM(K6+U6)","v":0}]
["NET",null,null,null,null,null,null,null,null,null,0,null,null,null,null,null,null,null,null,null,0,0]
["2 Feb 11 - Super Bowl",null,null,null,null,null,null,null,null,null,0,null,null,null,null,null,null,null,null,null,0,0]
["NET",null,null,null,null,null,null,null,null,null,0,null,null,null,null,null,null,null,null,null,0,0]
["3 Feb 26 - Modified Stableford",null,null,null,null,null,null,null,null,null,0,null,null,null,null,null,null,null,null,null,0,0]
["NET",null,null,null,null,null,null,null,null,null,0,null,null,null,null,null,null,null,null,null,0,0]
["4 Mar 25 - Zone Qualifier Rd 1",null,null,null,null,null,null,null,null,null,0,null,null,null,null,null,null,null,null,null,0,0]
["NET",null,null,null,null,null,null,null,null,null,0,null,null,null,null,null,null,null,null,null,0,0]
["5 Mar 26 - Zone Qualifier Rd 2",null,null,null,null,null,null,null,null,null,0,null,null,null,null,null,null,null,null,null,0,0]
["NET",null,null,null,null,null,null,null,null,null,0,null,null,null,null,null,null,null,null,null,0,0]
["6 Apr 8 - RGC Masters",6,8,2,5,5,10,7,7,6,56,7,5,4,6,6,5,6,6,6,51,107]
["NET",{"$f":"B16-(B$4<=MOD($W17,18))-INT($W17/18)","v":4},{"$f":"C16-(C$4<=MOD($W17,18))-INT($W17/18)","v":7},1,3,4,8,5,6,4,42,{"$f":"L16-(L$4<=MOD($W17,18))-INT($W17/18)","v":5},{"$f":"M16-(M$4<=MOD($W17,18))-INT($W17/18)","v":3},3,4,5,3,5,5,4,37,79,28]
["7 Apr 11 - Day on the Oaks 1",5,7,3,6,3,7,6,6,7,50,6,6,4,6,6,7,7,7,7,56,106]
["NET",{"$f":"B18-(B$4<=MOD($W19,18))-INT($W19/18)","v":3},6,2,4,2,5,4,5,5,36,{"$f":"L18-(L$4<=MOD($W19,18))-INT($W19/18)","v":4},{"$f":"M18-(M$4<=MOD($W19,18))-INT($W19/18)","v":4},3,4,5,5,6,6,5,42,78,28]
["8 Apr 15 - 54 Hole Individual Rd 1",5,6,3,6,5,8,6,7,7,53,6,5,4,7,5,4,8,5,7,51,104]
["NET",{"$f":"B20-(B$4<=MOD($W21,18))-INT($W21/18)","v":3},5,2,4,4,6,4,6,5,39,{"$f":"L20-(L$4<=MOD($W21,18))-INT($W21/18)","v":4},{"$f":"M20-(M$4<=MOD($W21,18))-INT($W21/18)","v":3},3,5,4,2,7,4,5,37,76,28]
["9 Apr 16 - 54 Hole Individual Rd 2",5,6,6,7,5,7,5,6,6,53,6,5,4,6,5,4,6,5,6,47,100]
["NET",{"$f":"B22-(B$4<=MOD($W23,18))-INT($W23/18)","v":3},5,5,5,4,5,3,5,4,39,{"$f":"L22-(L$4<=MOD($W23,18))-INT($W23/18)","v":4},{"$f":"M22-(M$4<=MOD($W23,18))-INT($W23/18)","v":3},3,4,4,2,5,4,4,33,72,28]
["10 Apr 22 - 54 Hole Individual Rd 3",5,7,4,5,2,9,5,6,7,50,7,6,5,6,6,5,7,6,6,54,104]
["NET",{"$f":"B24-(B$4<=MOD($W25,18))-INT($W25/18)","v":3},6,3,3,1,7,3,5,5,36,{"$f":"L24-(L$4<=MOD($W25,18))-INT($W25/18)","v":5},4,4,4,5,3,6,5,4,40,76,28]
["11 May 7 - Senior 4-Ball Qualifier",null,null,null,null,null,null,null,null,null,0,null,null,null,null,null,null,null,null,null,0,0]
["NET",null,null,null,null,null,null,null,null,null,0,null,null,null,null,null,null,null,null,null,0,0]
["12 May 16 - Day on the Oaks 2",8,5,5,9,5,7,6,6,7,58,6,6,5,6,7,4,7,6,6,53,111]
["NET",{"$f":"B28-(B$4<=MOD($W29,18))-INT($W29/18)","v":6},{"$f":"C28-(C$4<=MOD($W29,18))-INT($W29/18)","v":4},4,7,4,5,4,5,5,44,{"$f":"L28-(L$4<=MOD($W29,18))-INT($W29/18)","v":4},{"$f":"M28-(M$4<=MOD($W29,18))-INT($W29/18)","v":4},4,4,6,2,6,4,4,38,82,29]
["13 May 28 - Memorial",7,7,5,7,4,7,6,6,7,56,6,6,3,6,5,4,7,4,5,46,102]
["NET",{"$f":"B30-(B$4<=MOD($W31,18))-INT($W31/18)","v":5},6,4,5,3,5,4,5,5,42,{"$f":"L30-(L$4<=MOD($W31,18))-INT($W31/18)","v":4},{"$f":"M30-(M$4<=MOD($W31,18))-INT($W31/18)","v":4},2,4,4,2,6,2,3,31,73,29]
["14 Jun 10 - 54 Hole Team Rd 1",null,null,null,null,null,null,null,null,null,0,null,null,null,null,null,null,null,null,null,0,0]
["NET",null,null,null,null,null,null,null,null,null,0,null,null,null,null,null,null,null,null,null,0,0]
["15 Jun 27 - Day on the Oaks 3",5,7,4,5,5,8,7,5,7,53,9,6,5,6,5,5,6,5,6,53,106]
["NET",{"$f":"B34-(B$4<=MOD($W35,18))-INT($W35/18)","v":3},{"$f":"C34-(C$4<=MOD($W35,18))-INT($W35/18)","v":6},3,3,4,7,5,4,5,40,{"$f":"L34-(L$4<=MOD($W35,18))-INT($W35/18)","v":7},{"$f":"M34-(M$4<=MOD($W35,18))-INT($W35/18)","v":4},4,4,4,3,5,4,4,39,79,27]
["17 Jul 11 - Day on the Oaks 4",5,7,5,6,3,10,6,5,6,53,6,6,4,6,5,5,6,6,6,50,103]
["NET",{"$f":"B36-(B$4<=MOD($W37,18))-INT($W37/18)","v":3},6,4,4,2,9,4,4,4,40,{"$f":"L36-(L$4<=MOD($W37,18))-INT($W37/18)","v":4},{"$f":"M36-(M$4<=MOD($W37,18))-INT($W37/18)","v":4},3,4,4,3,5,5,4,36,76,27]
["18 Aug 1 - Day on the Oaks 5",null,null,null,null,null,null,null,null,null,0,null,null,null,null,null,null,null,null,null,0,0]
["NET",null,null,null,null,null,null,null,null,null,0,null,null,null,null,null,null,null,null,null,0,0]
["19 Aug 13 - Rose Cup Qualifier",null,null,null,null,null,null,null,null,null,0,null,null,null,null,null,null,null,null,null,0,0]
["NET",null,null,null,null,null,null,null,null,null,0,null,null,null,null,null,null,null,null,null,0,0]
["20 Aug 29 - Day on the Oaks 6",null,null,null,null,null,null,null,null,null,0,null,null,null,null,null,null,null,null,null,0,0]
["NET",null,null,null,null,null,null,null,null,null,0,null,null,null,null,null,null,null,null,null,0,0]
["21 Sep 3 - Labor Day",null,null,null,null,null,null,null,null,null,0,null,null,null,null,null,null,null,null,null,0,0]
["NET",null,null,null,null,null,null,null,null,null,0,null,null,null,null,null,null,null,null,null,0,0]
["22 Oct 21 - Past Presidents",null,null,null,null,null,null,null,null,null,0,null,null,null,null,null,null,null,null,null,0,0]
["NET",null,null,null,null,null,null,null,null,null,0,null,null,null,null,null,null,null,null,null,0,0]
["23 Nov 12 - Turkey Shoot",null,null,null,null,null,null,null,null,null,0,null,null,null,null,null,null,null,null,null,0,0]
["NET",null,null,null,null,null,null,null,null,null,0,null,null,null,null,null,null,null,null,null,0,0]
["24 Dec 2 - Eclectic Final ",null,null,null,null,null,null,null,null,null,0,null,null,null,null,null,null,null,null,null,0,0]
["NET",null,null,null,null,null,null,null,null,null,0,null,null,null,null,null,null,null,null,null,0,0]
[null,null,null,null,null,null,null,null,null,null,0,null,null,null,null,null,null,null,null,null,0,0]
[null,null,null,null,null,null,null,null,null,null,0,null,null,null,null,null,null,null,null,null,0,0]
[]
["Low Gross Score",{"$f":"MIN(B6,B8,B10,B12,B14,B16,B18,B20,B22,B24,B26,B28,B30,32,B34,B36,B38,B40,B42,B44,B46,B48,B50,B52)","v":5},{"$f":"MIN(C6,C8,C10,C12,C14,C16,C18,C20,C22,C24,C26,C28,C30,32,C34,C36,C38,C40,C42,C44,C46,C48,C50,C52)","v":5},2,5,2,7,5,5,6,{"$f":"SUM(B55:J55)","v":42},{"$f":"MIN(L6,L8,L10,L12,L14,L16,L18,L20,L22,L24,L26,L28,L30,32,L34,L36,L38,L40,L42,L44,L46,L48,L50,L52)","v":6},5,3,6,5,4,6,4,5,{"$f":"SUM(L55:T55)","v":44},{"$f":"SUM(K55+U55)","v":86}]
["Low Net Score",{"$f":"MIN(B7,B9,B11,B13,B15,B17,B19,B21,B23,B25,B27,B29,B31,B33,B35,B37,B39,B41,B43,B45,B47,B49,B51,B53)","v":3},{"$f":"MIN(C7,C9,C11,C13,C15,C17,C19, C21,C23,C25,C27,C29,C31,C33,C35,C37,C39,C41,C43,C45,C47,C49,C51,C53)","v":4},1,3,1,5,3,4,4,28,{"$f":"MIN(L7,L9,L11,L13,L15,L17,L19, L21,L23,L25,L27,L29,L31,L33,L35,L37,L39,L41,L43,L45,L47,L49,L51,L53)","v":4},3,2,4,4,2,5,2,3,29,57]

{"sheet":"SCHALLER, MARK","index":43,"n_rows":56,"n_cols":23,"rows_kept":56,"cut":false,"hidden":false,"merged":[]}
[]
["SCHALLER, MARK",null,null,null,null,null,null,null,null,null,null,null,null,null,null,null,null,null,null,null,null,null,"HANDICAP"]
["HOLE",1,2,3,4,5,6,7,8,9,"OUT",10,11,12,13,14,15,16,17,18,"IN","TOTAL"]
["HANDICAP",8,14,18,6,16,10,4,12,2,null,9,5,17,3,15,7,13,11,1]
["PAR",4,5,3,4,3,5,4,4,4,36,5,4,3,4,4,3,5,4,4,36,72]
["1 Jan 28 - NCGA 4-Ball",6,9,4,7,4,6,4,6,5,{"$f":"SUM(B6:J6)","v":51},5,6,3,4,4,3,7,4,5,{"$f":"SUM(L6:T6)","v":41},{"$f":"SUM(K6+U6)","v":92}]
["NET",{"$f":"B6-(B$4<=MOD($W7,18))-INT($W7/18)","v":5},{"$f":"C6-(C$4<=MOD($W7,18))-INT($W7/18)","v":9},4,6,4,6,3,6,4,47,{"$f":"L6-(L$4<=MOD($W7,18))-INT($W7/18)","v":5},5,3,3,4,2,7,4,4,37,84,8]
["2 Feb 11 - Super Bowl",5,6,4,6,4,5,4,4,6,44,5,5,4,5,4,3,6,5,5,42,86]
["NET",{"$f":"B8-(B$4<=MOD($W9,18))-INT($W9/18)","v":4},{"$f":"C8-(C$4<=MOD($W9,18))-INT($W9/18)","v":6},4,5,4,5,3,4,5,40,{"$f":"L8-(L$4<=MOD($W9,18))-INT($W9/18)","v":4},{"$f":"M8-(M$4<=MOD($W9,18))-INT($W9/18)","v":4},4,4,4,2,6,5,4,37,77,9]
["3 Feb 26 - Modified Stableford",6,5,4,5,3,8,5,5,6,47,6,5,5,6,5,4,5,5,6,47,94]
["NET",{"$f":"B10-(B$4<=MOD($W11,18))-INT($W11/18)","v":5},5,4,4,3,8,4,5,5,43,{"$f":"L10-(L$4<=MOD($W11,18))-INT($W11/18)","v":5},{"$f":"M10-(M$4<=MOD($W11,18))-INT($W11/18)","v":4},5,5,5,3,5,5,5,42,85,9]
["4 Mar 25 - Zone Qualifier Rd 1",null,null,null,null,null,null,null,null,null,0,null,null,null,null,null,null,null,null,null,0,0]
["NET",null,null,null,null,null,null,null,null,null,0,null,null,null,null,null,null,null,null,null,0,0]
["5 Mar 26 - Zone Qualifier Rd 2",null,null,null,null,null,null,null,null,null,0,null,null,null,null,null,null,null,null,null,0,0]
["NET",null,null,null,null,null,null,null,null,null,0,null,null,null,null,null,null,null,null,null,0,0]
["6 Apr 8 - RGC Masters",null,null,null,null,null,null,null,null,null,0,null,null,null,null,null,null,null,null,null,0,0]
["NET",null,null,null,null,null,null,null,null,null,0,null,null,null,null,null,null,null,null,null,0,0]
["7 Apr 11 - Day on the Oaks 1",null,null,null,null,null,null,null,null,null,0,null,null,null,null,null,null,null,null,null,0,0]
["NET",null,null,null,null,null,null,null,null,null,0,null,null,null,null,null,null,null,null,null,0,0]
["8 Apr 15 - 54 Hole Individual Rd 1",null,null,null,null,null,null,null,null,null,0,null,null,null,null,null,null,null,null,null,0,0]
["NET",null,null,null,null,null,null,null,null,null,0,null,null,null,null,null,null,null,null,null,0,0]
["9 Apr 16 - 54 Hole Individual Rd 2",null,null,null,null,null,null,null,null,null,0,null,null,null,null,null,null,null,null,null,0,0]
["NET",null,null,null,null,null,null,null,null,null,0,null,null,null,null,null,null,null,null,null,0,0]
["10 Apr 22 - 54 Hole Individual Rd 3",null,null,null,null,null,null,null,null,null,0,null,null,null,null,null,null,null,null,null,0,0]
["NET",null,null,null,null,null,null,null,null,null,0,null,null,null,null,null,null,null,null,null,0,0]
["11 May 7 - Senior 4-Ball Qualifier",5,5,3,6,3,5,7,4,5,43,5,4,4,5,5,6,4,6,6,45,88]
["NET",{"$f":"B26-(B$4<=MOD($W27,18))-INT($W27/18)","v":4},{"$f":"C26-(C$4<=MOD($W27,18))-INT($W27/18)","v":5},3,5,3,5,6,4,4,39,{"$f":"L26-(L$4<=MOD($W27,18))-INT($W27/18)","v":5},{"$f":"M26-(M$4<=MOD($W27,18))-INT($W27/18)","v":3},4,4,5,5,4,6,5,41,80,8]
["12 May 16 - Day on the Oaks 2",null,null,null,null,null,null,null,null,null,0,null,null,null,null,null,null,null,null,null,0,0]
["NET",null,null,null,null,null,null,null,null,null,0,null,null,null,null,null,null,null,null,null,0,0]
["13 May 28 - Memorial",null,null,null,null,null,null,null,null,null,0,null,null,null,null,null,null,null,null,null,0,0]
["NET",null,null,null,null,null,null,null,null,null,0,null,null,null,null,null,null,null,null,null,0,0]
["14 Jun 10 - 54 Hole Team Rd 1",4,5,3,4,3,7,3,4,6,39,6,4,4,4,8,4,4,4,4,42,81]
["NET",{"$f":"B32-(B$4<=MOD($W33,18))-INT($W33/18)","v":3},{"$f":"C32-(C$4<=MOD($W33,18))-INT($W33/18)","v":5},3,3,3,7,2,4,5,35,{"$f":"L32-(L$4<=MOD($W33,18))-INT($W33/18)","v":5},{"$f":"M32-(M$4<=MOD($W33,18))-INT($W33/18)","v":3},4,3,8,3,4,4,3,37,72,9]
["15 Jun 27 - Day on the Oaks 3",null,null,null,null,null,null,null,null,null,0,null,null,null,null,null,null,null,null,null,0,0]
["NET",null,null,null,null,null,null,null,null,null,0,null,null,null,null,null,null,null,null,null,0,0]
["17 Jul 11 - Day on the Oaks 4",null,null,null,null,null,null,null,null,null,0,null,null,null,null,null,null,null,null,null,0,0]
["NET",null,null,null,null,null,null,null,null,null,0,null,null,null,null,null,null,null,null,null,0,0]
["18 Aug 1 - Day on the Oaks 5",null,null,null,null,null,null,null,null,null,0,null,null,null,null,null,null,null,null,null,0,0]
["NET",null,null,null,null,null,null,null,null,null,0,null,null,null,null,null,null,null,null,null,0,0]
["19 Aug 13 - Rose Cup Qualifier",null,null,null,null,null,null,null,null,null,0,null,null,null,null,null,null,null,null,null,0,0]
["NET",null,null,null,null,null,null,null,null,null,0,null,null,null,null,null,null,null,null,null,0,0]
["20 Aug 29 - Day on the Oaks 6",null,null,null,null,null,null,null,null,null,0,null,null,null,null,null,null,null,null,null,0,0]
["NET",null,null,null,null,null,null,null,null,null,0,null,null,null,null,null,null,null,null,null,0,0]
["21 Sep 3 - Labor Day",null,null,null,null,null,null,null,null,null,0,null,null,null,null,null,null,null,null,null,0,0]
["NET",null,null,null,null,null,null,null,null,null,0,null,null,null,null,null,null,null,null,null,0,0]
["22 Oct 21 - Past Presidents",null,null,null,null,null,null,null,null,null,0,null,null,null,null,null,null,null,null,null,0,0]
["NET",null,null,null,null,null,null,null,null,null,0,null,null,null,null,null,null,null,null,null,0,0]
["23 Nov 12 - Turkey Shoot",null,null,null,null,null,null,null,null,null,0,null,null,null,null,null,null,null,null,null,0,0]
["NET",null,null,null,null,null,null,null,null,null,0,null,null,null,null,null,null,null,null,null,0,0]
["24 Dec 2 - Eclectic Final ",null,null,null,null,null,null,null,null,null,0,null,null,null,null,null,null,null,null,null,0,0]
["NET",null,null,null,null,null,null,null,null,null,0,null,null,null,null,null,null,null,null,null,0,0]
[null,null,null,null,null,null,null,null,null,null,0,null,null,null,null,null,null,null,null,null,0,0]
[null,null,null,null,null,null,null,null,null,null,0,null,null,null,null,null,null,null,null,null,0,0]
[]
["Low Gross Score",{"$f":"MIN(B6,B8,B10,B12,B14,B16,B18,B20,B22,B24,B26,B28,B30,32,B34,B36,B38,B40,B42,B44,B46,B48,B50,B52)","v":5},{"$f":"MIN(C6,C8,C10,C12,C14,C16,C18,C20,C22,C24,C26,C28,C30,32,C34,C36,C38,C40,C42,C44,C46,C48,C50,C52)","v":5},3,5,3,5,4,4,5,{"$f":"SUM(B55:J55)","v":39},{"$f":"MIN(L6,L8,L10,L12,L14,L16,L18,L20,L22,L24,L26,L28,L30,32,L34,L36,L38,L40,L42,L44,L46,L48,L50,L52)","v":5},4,3,4,4,3,4,4,5,{"$f":"SUM(L55:T55)","v":36},{"$f":"SUM(K55+U55)","v":75}]
["Low Net Score",{"$f":"MIN(B7,B9,B11,B13,B15,B17,B19,B21,B23,B25,B27,B29,B31,B33,B35,B37,B39,B41,B43,B45,B47,B49,B51,B53)","v":3},{"$f":"MIN(C7,C9,C11,C13,C15,C17,C19, C21,C23,C25,C27,C29,C31,C33,C35,C37,C39,C41,C43,C45,C47,C49,C51,C53)","v":5},3,3,3,5,2,4,4,32,{"$f":"MIN(L7,L9,L11,L13,L15,L17,L19, L21,L23,L25,L27,L29,L31,L33,L35,L37,L39,L41,L43,L45,L47,L49,L51,L53)","v":4},3,3,3,4,2,4,4,3,30,62]

{"sheet":"SHIMIZU, YUTAKA","index":44,"n_rows":56,"n_cols":23,"rows_kept":56,"cut":false,"hidden":false,"merged":[]}
[]
["SHIMIZU, YUTAKA",null,null,null,null,null,null,null,null,null,null,null,null,null,null,null,null,null,null,null,null,null,"HANDICAP"]
["HOLE",1,2,3,4,5,6,7,8,9,"OUT",10,11,12,13,14,15,16,17,18,"IN","TOTAL"]
["HANDICAP",8,14,18,6,16,10,4,12,2,null,9,5,17,3,15,7,13,11,1]
["PAR",4,5,3,4,3,5,4,4,4,36,5,4,3,4,4,3,5,4,4,36,72]
["1 Jan 28 - NCGA 4-Ball",null,null,null,null,null,null,null,null,null,{"$f":"SUM(B6:J6)","v":0},null,null,null,null,null,null,null,null,null,{"$f":"SUM(L6:T6)","v":0},{"$f":"SUM(K6+U6)","v":0}]
["NET",null,null,null,null,null,null,null,null,null,0,null,null,null,null,null,null,null,null,null,0,0]
["2 Feb 11 - Super Bowl",5,5,3,5,4,6,5,5,3,41,5,6,3,7,5,3,6,4,6,45,86]
["NET",{"$f":"B8-(B$4<=MOD($W9,18))-INT($W9/18)","v":4},{"$f":"C8-(C$4<=MOD($W9,18))-INT($W9/18)","v":5},3,4,4,6,4,5,2,37,{"$f":"L8-(L$4<=MOD($W9,18))-INT($W9/18)","v":5},{"$f":"M8-(M$4<=MOD($W9,18))-INT($W9/18)","v":5},3,6,5,2,6,4,5,41,78,8]
["3 Feb 26 - Modified Stableford",4,5,3,6,4,7,4,5,6,44,5,5,4,4,4,5,6,5,6,44,88]
["NET",{"$f":"B10-(B$4<=MOD($W11,18))-INT($W11/18)","v":3},5,3,5,4,7,3,5,5,40,{"$f":"L10-(L$4<=MOD($W11,18))-INT($W11/18)","v":5},{"$f":"M10-(M$4<=MOD($W11,18))-INT($W11/18)","v":4},4,3,4,4,6,5,5,40,80,8]
["4 Mar 25 - Zone Qualifier Rd 1",null,null,null,null,null,null,null,null,null,0,null,null,null,null,null,null,null,null,null,0,0]
["NET",null,null,null,null,null,null,null,null,null,0,null,null,null,null,null,null,null,null,null,0,0]
["5 Mar 26 - Zone Qualifier Rd 2",null,null,null,null,null,null,null,null,null,0,null,null,null,null,null,null,null,null,null,0,0]
["NET",null,null,null,null,null,null,null,null,null,0,null,null,null,null,null,null,null,null,null,0,0]
["6 Apr 8 - RGC Masters",4,5,3,5,3,8,4,4,6,42,5,5,3,4,6,3,5,5,4,40,82]
["NET",{"$f":"B16-(B$4<=MOD($W17,18))-INT($W17/18)","v":3},{"$f":"C16-(C$4<=MOD($W17,18))-INT($W17/18)","v":5},3,4,3,8,3,4,5,38,{"$f":"L16-(L$4<=MOD($W17,18))-INT($W17/18)","v":5},{"$f":"M16-(M$4<=MOD($W17,18))-INT($W17/18)","v":4},3,3,6,2,5,5,3,36,74,8]
["7 Apr 11 - Day on the Oaks 1",4,5,4,5,4,5,5,4,5,41,6,4,3,4,4,4,6,5,5,41,82]
["NET",{"$f":"B18-(B$4<=MOD($W19,18))-INT($W19/18)","v":3},5,4,4,4,5,4,4,4,37,{"$f":"L18-(L$4<=MOD($W19,18))-INT($W19/18)","v":6},{"$f":"M18-(M$4<=MOD($W19,18))-INT($W19/18)","v":3},3,3,4,3,6,5,4,37,74,8]
["8 Apr 15 - 54 Hole Individual Rd 1",6,5,4,4,3,5,4,6,7,44,5,4,4,5,5,4,6,4,4,41,85]
["NET",{"$f":"B20-(B$4<=MOD($W21,18))-INT($W21/18)","v":5},5,4,3,3,5,3,6,6,40,{"$f":"L20-(L$4<=MOD($W21,18))-INT($W21/18)","v":5},{"$f":"M20-(M$4<=MOD($W21,18))-INT($W21/18)","v":3},4,4,5,3,6,4,3,37,77,8]
["9 Apr 16 - 54 Hole Individual Rd 2",5,5,5,4,2,7,5,4,5,42,5,6,5,5,4,3,5,4,5,42,84]
["NET",{"$f":"B22-(B$4<=MOD($W23,18))-INT($W23/18)","v":4},5,5,3,2,7,4,4,4,38,{"$f":"L22-(L$4<=MOD($W23,18))-INT($W23/18)","v":5},{"$f":"M22-(M$4<=MOD($W23,18))-INT($W23/18)","v":5},5,4,4,2,5,4,4,38,76,8]
["10 Apr 22 - 54 Hole Individual Rd 3",4,5,3,4,3,5,6,4,4,38,5,4,3,6,5,3,7,5,5,43,81]
["NET",{"$f":"B24-(B$4<=MOD($W25,18))-INT($W25/18)","v":3},5,3,3,3,5,5,4,3,34,{"$f":"L24-(L$4<=MOD($W25,18))-INT($W25/18)","v":5},{"$f":"M24-(M$4<=MOD($W25,18))-INT($W25/18)","v":3},3,5,5,2,7,5,4,39,73,8]
["11 May 7 - Senior 4-Ball Qualifier",null,null,null,null,null,null,null,null,null,0,null,null,null,null,null,null,null,null,null,0,0]
["NET",null,null,null,null,null,null,null,null,null,0,null,null,null,null,null,null,null,null,null,0,0]
["12 May 16 - Day on the Oaks 2",null,null,null,null,null,null,null,null,null,0,null,null,null,null,null,null,null,null,null,0,0]
["NET",null,null,null,null,null,null,null,null,null,0,null,null,null,null,null,null,null,null,null,0,0]
["13 May 28 - Memorial",4,5,3,5,2,4,4,4,6,37,5,4,3,5,4,4,5,4,5,39,76]
["NET",{"$f":"B30-(B$4<=MOD($W31,18))-INT($W31/18)","v":3},{"$f":"C30-(C$4<=MOD($W31,18))-INT($W31/18)","v":5},3,4,2,4,3,4,5,33,{"$f":"L30-(L$4<=MOD($W31,18))-INT($W31/18)","v":5},{"$f":"M30-(M$4<=MOD($W31,18))-INT($W31/18)","v":3},3,4,4,3,5,4,4,35,68,8]
["14 Jun 10 - 54 Hole Team Rd 1",null,null,null,null,null,null,null,null,null,0,null,null,null,null,null,null,null,null,null,0,0]
["NET",null,null,null,null,null,null,null,null,null,0,null,null,null,null,null,null,null,null,null,0,0]
["15 Jun 27 - Day on the Oaks 3",5,5,5,5,2,5,3,5,5,40,5,6,3,4,4,4,5,7,5,43,83]
["NET",{"$f":"B34-(B$4<=MOD($W35,18))-INT($W35/18)","v":5},{"$f":"C34-(C$4<=MOD($W35,18))-INT($W35/18)","v":5},5,4,2,5,2,5,4,37,{"$f":"L34-(L$4<=MOD($W35,18))-INT($W35/18)","v":5},{"$f":"M34-(M$4<=MOD($W35,18))-INT($W35/18)","v":5},3,3,4,3,5,7,4,39,76,7]
["17 Jul 11 - Day on the Oaks 4",5,5,3,4,3,5,5,4,5,39,5,4,4,5,5,3,6,3,4,39,78]
["NET",{"$f":"B36-(B$4<=MOD($W37,18))-INT($W37/18)","v":5},5,3,3,3,5,4,4,4,36,{"$f":"L36-(L$4<=MOD($W37,18))-INT($W37/18)","v":5},{"$f":"M36-(M$4<=MOD($W37,18))-INT($W37/18)","v":3},4,4,5,2,6,3,3,35,71,7]
["18 Aug 1 - Day on the Oaks 5",5,5,4,4,2,8,4,4,5,41,5,5,4,7,4,3,5,5,4,42,83]
["NET",{"$f":"B38-(B$4<=MOD($W39,18))-INT($W39/18)","v":5},5,4,4,2,8,3,4,4,39,{"$f":"L38-(L$4<=MOD($W39,18))-INT($W39/18)","v":5},{"$f":"M38-(M$4<=MOD($W39,18))-INT($W39/18)","v":4},4,6,4,3,5,5,3,39,78,5]
["19 Aug 13 - Rose Cup Qualifier",null,null,null,null,null,null,null,null,null,0,null,null,null,null,null,null,null,null,null,0,0]
["NET",null,null,null,null,null,null,null,null,null,0,null,null,null,null,null,null,null,null,null,0,0]
["20 Aug 29 - Day on the Oaks 6",null,null,null,null,null,null,null,null,null,0,null,null,null,null,null,null,null,null,null,0,0]
["NET",null,null,null,null,null,null,null,null,null,0,null,null,null,null,null,null,null,null,null,0,0]
["21 Sep 3 - Labor Day",null,null,null,null,null,null,null,null,null,0,null,null,null,null,null,null,null,null,null,0,0]
["NET",null,null,null,null,null,null,null,null,null,0,null,null,null,null,null,null,null,null,null,0,0]
["22 Oct 21 - Past Presidents",null,null,null,null,null,null,null,null,null,0,null,null,null,null,null,null,null,null,null,0,0]
["NET",null,null,null,null,null,null,null,null,null,0,null,null,null,null,null,null,null,null,null,0,0]
["23 Nov 12 - Turkey Shoot",null,null,null,null,null,null,null,null,null,0,null,null,null,null,null,null,null,null,null,0,0]
["NET",null,null,null,null,null,null,null,null,null,0,null,null,null,null,null,null,null,null,null,0,0]
["24 Dec 2 - Eclectic Final ",null,null,null,null,null,null,null,null,null,0,null,null,null,null,null,null,null,null,null,0,0]
["NET",null,null,null,null,null,null,null,null,null,0,null,null,null,null,null,null,null,null,null,0,0]
[null,null,null,null,null,null,null,null,null,null,0,null,null,null,null,null,null,null,null,null,0,0]
[null,null,null,null,null,null,null,null,null,null,0,null,null,null,null,null,null,null,null,null,0,0]
[]
["Low Gross Score",{"$f":"MIN(B6,B8,B10,B12,B14,B16,B18,B20,B22,B24,B26,B28,B30,32,B34,B36,B38,B40,B42,B44,B46,B48,B50,B52)","v":4},{"$f":"MIN(C6,C8,C10,C12,C14,C16,C18,C20,C22,C24,C26,C28,C30,32,C34,C36,C38,C40,C42,C44,C46,C48,C50,C52)","v":5},3,4,2,4,3,4,3,{"$f":"SUM(B55:J55)","v":32},{"$f":"MIN(L6,L8,L10,L12,L14,L16,L18,L20,L22,L24,L26,L28,L30,32,L34,L36,L38,L40,L42,L44,L46,L48,L50,L52)","v":5},4,3,4,4,3,5,3,4,{"$f":"SUM(L55:T55)","v":35},{"$f":"SUM(K55+U55)","v":67}]
["Low Net Score",{"$f":"MIN(B7,B9,B11,B13,B15,B17,B19,B21,B23,B25,B27,B29,B31,B33,B35,B37,B39,B41,B43,B45,B47,B49,B51,B53)","v":3},{"$f":"MIN(C7,C9,C11,C13,C15,C17,C19, C21,C23,C25,C27,C29,C31,C33,C35,C37,C39,C41,C43,C45,C47,C49,C51,C53)","v":5},3,3,2,4,2,4,2,28,{"$f":"MIN(L7,L9,L11,L13,L15,L17,L19, L21,L23,L25,L27,L29,L31,L33,L35,L37,L39,L41,L43,L45,L47,L49,L51,L53)","v":5},3,3,3,4,2,5,3,3,31,59]

{"sheet":"SIERRA, JESSE","index":45,"n_rows":56,"n_cols":23,"rows_kept":56,"cut":false,"hidden":false,"merged":[]}
[]
["SIERRA, JESSE",null,null,null,null,null,null,null,null,null,null,null,null,null,null,null,null,null,null,null,null,null,"HANDICAP"]
["HOLE",1,2,3,4,5,6,7,8,9,"OUT",10,11,12,13,14,15,16,17,18,"IN","TOTAL"]
["HANDICAP",8,14,18,6,16,10,4,12,2,null,9,5,17,3,15,7,13,11,1]
["PAR",4,5,3,4,3,5,4,4,4,36,5,4,3,4,4,3,5,4,4,36,72]
["1 Jan 28 - NCGA 4-Ball",5,6,4,5,2,7,3,5,5,{"$f":"SUM(B6:J6)","v":42},5,6,4,5,4,4,4,5,5,{"$f":"SUM(L6:T6)","v":42},{"$f":"SUM(K6+U6)","v":84}]
["NET",{"$f":"B6-(B$4<=MOD($W7,18))-INT($W7/18)","v":4},{"$f":"C6-(C$4<=MOD($W7,18))-INT($W7/18)","v":6},4,4,2,7,2,5,4,38,{"$f":"L6-(L$4<=MOD($W7,18))-INT($W7/18)","v":4},5,4,4,4,3,4,5,4,37,75,9]
["2 Feb 11 - Super Bowl",4,5,6,5,4,6,5,6,6,47,5,5,4,4,4,3,5,4,6,40,87]
["NET",{"$f":"B8-(B$4<=MOD($W9,18))-INT($W9/18)","v":3},{"$f":"C8-(C$4<=MOD($W9,18))-INT($W9/18)","v":5},6,4,4,6,4,6,5,43,{"$f":"L8-(L$4<=MOD($W9,18))-INT($W9/18)","v":4},{"$f":"M8-(M$4<=MOD($W9,18))-INT($W9/18)","v":4},4,3,4,2,5,4,5,35,78,9]
["3 Feb 26 - Modified Stableford",5,7,4,4,4,6,4,5,5,44,6,7,3,6,6,6,5,6,5,50,94]
["NET",{"$f":"B10-(B$4<=MOD($W11,18))-INT($W11/18)","v":4},7,4,3,4,5,3,5,4,39,{"$f":"L10-(L$4<=MOD($W11,18))-INT($W11/18)","v":5},{"$f":"M10-(M$4<=MOD($W11,18))-INT($W11/18)","v":6},3,5,6,5,5,5,4,44,83,11]
["4 Mar 25 - Zone Qualifier Rd 1",5,5,4,5,4,5,6,5,5,44,5,6,4,5,5,4,5,6,5,45,89]
["NET",{"$f":"B12-(B$4<=MOD($W13,18))-INT($W13/18)","v":4},5,4,4,4,4,5,5,4,39,{"$f":"L12-(L$4<=MOD($W13,18))-INT($W13/18)","v":4},{"$f":"M12-(M$4<=MOD($W13,18))-INT($W13/18)","v":5},4,4,5,3,5,5,4,39,78,11]
["5 Mar 26 - Zone Qualifier Rd 2",7,6,3,7,2,8,5,4,5,47,5,5,5,6,5,3,5,4,5,43,90]
["NET",{"$f":"B14-(B$4<=MOD($W15,18))-INT($W15/18)","v":6},6,3,6,2,7,4,4,4,42,{"$f":"L14-(L$4<=MOD($W15,18))-INT($W15/18)","v":4},{"$f":"M14-(M$4<=MOD($W15,18))-INT($W15/18)","v":4},5,5,5,2,5,3,4,37,79,11]
["6 Apr 8 - RGC Masters",4,6,5,5,4,5,6,5,8,48,5,4,3,6,5,2,5,5,5,40,88]
["NET",{"$f":"B16-(B$4<=MOD($W17,18))-INT($W17/18)","v":3},6,5,4,4,4,5,5,7,43,{"$f":"L16-(L$4<=MOD($W17,18))-INT($W17/18)","v":4},{"$f":"M16-(M$4<=MOD($W17,18))-INT($W17/18)","v":3},3,5,5,1,5,4,4,34,77,11]
["7 Apr 11 - Day on the Oaks 1",null,null,null,null,null,null,null,null,null,0,null,null,null,null,null,null,null,null,null,0,0]
["NET",null,null,null,null,null,null,null,null,null,0,null,null,null,null,null,null,null,null,null,0,0]
["8 Apr 15 - 54 Hole Individual Rd 1",6,6,3,4,4,6,6,4,5,44,7,4,3,4,4,4,6,4,5,41,85]
["NET",{"$f":"B20-(B$4<=MOD($W21,18))-INT($W21/18)","v":5},{"$f":"C20-(C$4<=MOD($W21,18))-INT($W21/18)","v":6},3,3,4,5,5,4,4,39,{"$f":"L20-(L$4<=MOD($W21,18))-INT($W21/18)","v":6},{"$f":"M20-(M$4<=MOD($W21,18))-INT($W21/18)","v":3},3,3,4,3,6,3,4,35,74,11]
["9 Apr 16 - 54 Hole Individual Rd 2",4,5,5,6,3,5,4,7,5,44,5,4,3,8,5,3,5,5,6,44,88]
["NET",{"$f":"B22-(B$4<=MOD($W23,18))-INT($W23/18)","v":3},{"$f":"C22-(C$4<=MOD($W23,18))-INT($W23/18)","v":5},5,5,3,4,3,7,4,39,{"$f":"L22-(L$4<=MOD($W23,18))-INT($W23/18)","v":4},{"$f":"M22-(M$4<=MOD($W23,18))-INT($W23/18)","v":3},3,7,5,2,5,4,5,38,77,11]
["10 Apr 22 - 54 Hole Individual Rd 3",4,8,4,4,3,5,4,6,4,42,6,6,5,5,4,3,5,5,4,43,85]
["NET",{"$f":"B24-(B$4<=MOD($W25,18))-INT($W25/18)","v":3},{"$f":"C24-(C$4<=MOD($W25,18))-INT($W25/18)","v":8},4,3,3,4,3,6,3,37,{"$f":"L24-(L$4<=MOD($W25,18))-INT($W25/18)","v":5},{"$f":"M24-(M$4<=MOD($W25,18))-INT($W25/18)","v":5},5,4,4,2,5,4,3,37,74,11]
["11 May 7 - Senior 4-Ball Qualifier",5,6,2,4,3,6,4,4,4,38,6,4,3,6,3,5,6,5,5,43,81]
["NET",{"$f":"B26-(B$4<=MOD($W27,18))-INT($W27/18)","v":4},6,2,3,3,5,3,4,3,33,{"$f":"L26-(L$4<=MOD($W27,18))-INT($W27/18)","v":5},{"$f":"M26-(M$4<=MOD($W27,18))-INT($W27/18)","v":3},3,5,3,4,6,5,4,38,71,10]
["12 May 16 - Day on the Oaks 2",null,null,null,null,null,null,null,null,null,0,null,null,null,null,null,null,null,null,null,0,0]
["NET",null,null,null,null,null,null,null,null,null,0,null,null,null,null,null,null,null,null,null,0,0]
["13 May 28 - Memorial",4,5,4,5,4,4,4,4,4,38,4,5,4,5,4,5,6,5,6,44,82]
["NET",{"$f":"B30-(B$4<=MOD($W31,18))-INT($W31/18)","v":3},{"$f":"C30-(C$4<=MOD($W31,18))-INT($W31/18)","v":5},4,4,4,3,3,4,3,33,{"$f":"L30-(L$4<=MOD($W31,18))-INT($W31/18)","v":3},{"$f":"M30-(M$4<=MOD($W31,18))-INT($W31/18)","v":4},4,4,4,4,6,4,5,38,71,11]
["14 Jun 10 - 54 Hole Team Rd 1",7,6,3,4,3,5,5,5,4,42,5,5,5,5,4,4,6,5,6,45,87]
["NET",{"$f":"B32-(B$4<=MOD($W33,18))-INT($W33/18)","v":6},6,3,3,3,4,4,5,3,37,{"$f":"L32-(L$4<=MOD($W33,18))-INT($W33/18)","v":4},{"$f":"M32-(M$4<=MOD($W33,18))-INT($W33/18)","v":4},5,4,4,3,6,5,5,40,77,10]
["15 Jun 27 - Day on the Oaks 3",null,null,null,null,null,null,null,null,null,0,null,null,null,null,null,null,null,null,null,0,0]
["NET",null,null,null,null,null,null,null,null,null,0,null,null,null,null,null,null,null,null,null,0,0]
["17 Jul 11 - Day on the Oaks 4",null,null,null,null,null,null,null,null,null,0,null,null,null,null,null,null,null,null,null,0,0]
["NET",null,null,null,null,null,null,null,null,null,0,null,null,null,null,null,null,null,null,null,0,0]
["18 Aug 1 - Day on the Oaks 5",null,null,null,null,null,null,null,null,null,0,null,null,null,null,null,null,null,null,null,0,0]
["NET",null,null,null,null,null,null,null,null,null,0,null,null,null,null,null,null,null,null,null,0,0]
["19 Aug 13 - Rose Cup Qualifier",null,null,null,null,null,null,null,null,null,0,null,null,null,null,null,null,null,null,null,0,0]
["NET",null,null,null,null,null,null,null,null,null,0,null,null,null,null,null,null,null,null,null,0,0]
["20 Aug 29 - Day on the Oaks 6",null,null,null,null,null,null,null,null,null,0,null,null,null,null,null,null,null,null,null,0,0]
["NET",null,null,null,null,null,null,null,null,null,0,null,null,null,null,null,null,null,null,null,0,0]
["21 Sep 3 - Labor Day",null,null,null,null,null,null,null,null,null,0,null,null,null,null,null,null,null,null,null,0,0]
["NET",null,null,null,null,null,null,null,null,null,0,null,null,null,null,null,null,null,null,null,0,0]
["22 Oct 21 - Past Presidents",null,null,null,null,null,null,null,null,null,0,null,null,null,null,null,null,null,null,null,0,0]
["NET",null,null,null,null,null,null,null,null,null,0,null,null,null,null,null,null,null,null,null,0,0]
["23 Nov 12 - Turkey Shoot",null,null,null,null,null,null,null,null,null,0,null,null,null,null,null,null,null,null,null,0,0]
["NET",null,null,null,null,null,null,null,null,null,0,null,null,null,null,null,null,null,null,null,0,0]
["24 Dec 2 - Eclectic Final ",null,null,null,null,null,null,null,null,null,0,null,null,null,null,null,null,null,null,null,0,0]
["NET",null,null,null,null,null,null,null,null,null,0,null,null,null,null,null,null,null,null,null,0,0]
[null,null,null,null,null,null,null,null,null,null,0,null,null,null,null,null,null,null,null,null,0,0]
[null,null,null,null,null,null,null,null,null,null,0,null,null,null,null,null,null,null,null,null,0,0]
[]
["Low Gross Score",{"$f":"MIN(B6,B8,B10,B12,B14,B16,B18,B20,B22,B24,B26,B28,B30,32,B34,B36,B38,B40,B42,B44,B46,B48,B50,B52)","v":4},{"$f":"MIN(C6,C8,C10,C12,C14,C16,C18,C20,C22,C24,C26,C28,C30,32,C34,C36,C38,C40,C42,C44,C46,C48,C50,C52)","v":5},2,4,2,4,3,4,4,{"$f":"SUM(B55:J55)","v":32},{"$f":"MIN(L6,L8,L10,L12,L14,L16,L18,L20,L22,L24,L26,L28,L30,32,L34,L36,L38,L40,L42,L44,L46,L48,L50,L52)","v":4},4,3,4,3,2,4,4,4,{"$f":"SUM(L55:T55)","v":32},{"$f":"SUM(K55+U55)","v":64}]
["Low Net Score",{"$f":"MIN(B7,B9,B11,B13,B15,B17,B19,B21,B23,B25,B27,B29,B31,B33,B35,B37,B39,B41,B43,B45,B47,B49,B51,B53)","v":3},{"$f":"MIN(C7,C9,C11,C13,C15,C17,C19, C21,C23,C25,C27,C29,C31,C33,C35,C37,C39,C41,C43,C45,C47,C49,C51,C53)","v":5},2,3,2,3,2,4,3,27,{"$f":"MIN(L7,L9,L11,L13,L15,L17,L19, L21,L23,L25,L27,L29,L31,L33,L35,L37,L39,L41,L43,L45,L47,L49,L51,L53)","v":3},3,3,3,3,1,4,3,3,26,53]

{"sheet":"SMITH, MICHAEL","index":46,"n_rows":56,"n_cols":23,"rows_kept":56,"cut":false,"hidden":false,"merged":[]}
[]
["SMITH, MICHAEL",null,null,null,null,null,null,null,null,null,null,null,null,null,null,null,null,null,null,null,null,null,"HANDICAP"]
["HOLE",1,2,3,4,5,6,7,8,9,"OUT",10,11,12,13,14,15,16,17,18,"IN","TOTAL"]
["HANDICAP",8,14,18,6,16,10,4,12,2,null,9,5,17,3,15,7,13,11,1]
["PAR",4,5,3,4,3,5,4,4,4,36,5,4,3,4,4,3,5,4,4,36,72]
["1 Jan 28 - NCGA 4-Ball",5,6,3,5,3,5,5,5,5,{"$f":"SUM(B6:J6)","v":42},6,4,3,5,4,3,7,5,5,{"$f":"SUM(L6:T6)","v":42},{"$f":"SUM(K6+U6)","v":84}]
["NET",{"$f":"B6-(B$4<=MOD($W7,18))-INT($W7/18)","v":5},{"$f":"C6-(C$4<=MOD($W7,18))-INT($W7/18)","v":6},3,5,3,5,5,5,4,41,{"$f":"L6-(L$4<=MOD($W7,18))-INT($W7/18)","v":6},4,3,4,4,3,7,5,4,40,81,3]
["2 Feb 11 - Super Bowl",4,5,4,6,3,5,5,5,5,42,6,4,3,5,5,3,6,5,5,42,84]
["NET",{"$f":"B8-(B$4<=MOD($W9,18))-INT($W9/18)","v":4},{"$f":"C8-(C$4<=MOD($W9,18))-INT($W9/18)","v":5},4,6,3,5,5,5,4,41,{"$f":"L8-(L$4<=MOD($W9,18))-INT($W9/18)","v":6},{"$f":"M8-(M$4<=MOD($W9,18))-INT($W9/18)","v":4},3,4,5,3,6,5,4,40,81,3]
["3 Feb 26 - Modified Stableford",null,null,null,null,null,null,null,null,null,0,null,null,null,null,null,null,null,null,null,0,0]
["NET",null,null,null,null,null,null,null,null,null,0,null,null,null,null,null,null,null,null,null,0,0]
["4 Mar 25 - Zone Qualifier Rd 1",5,7,3,6,4,6,5,6,5,47,5,4,2,5,4,3,5,5,6,39,86]
["NET",{"$f":"B12-(B$4<=MOD($W13,18))-INT($W13/18)","v":5},{"$f":"C12-(C$4<=MOD($W13,18))-INT($W13/18)","v":7},3,6,4,6,5,6,4,46,{"$f":"L12-(L$4<=MOD($W13,18))-INT($W13/18)","v":5},{"$f":"M12-(M$4<=MOD($W13,18))-INT($W13/18)","v":4},2,4,4,3,5,5,5,37,83,3]
["5 Mar 26 - Zone Qualifier Rd 2",5,6,3,5,3,5,5,4,5,41,6,5,4,5,5,3,5,4,5,42,83]
["NET",{"$f":"B14-(B$4<=MOD($W15,18))-INT($W15/18)","v":5},{"$f":"C14-(C$4<=MOD($W15,18))-INT($W15/18)","v":6},3,5,3,5,5,4,4,40,{"$f":"L14-(L$4<=MOD($W15,18))-INT($W15/18)","v":6},{"$f":"M14-(M$4<=MOD($W15,18))-INT($W15/18)","v":5},4,4,5,3,5,4,4,40,80,3]
["6 Apr 8 - RGC Masters",6,6,3,7,4,5,5,4,4,44,8,4,5,7,4,5,5,5,5,48,92]
["NET",{"$f":"B16-(B$4<=MOD($W17,18))-INT($W17/18)","v":6},6,3,7,4,5,4,4,3,42,{"$f":"L16-(L$4<=MOD($W17,18))-INT($W17/18)","v":8},{"$f":"M16-(M$4<=MOD($W17,18))-INT($W17/18)","v":3},5,6,4,5,5,5,4,45,87,5]
["7 Apr 11 - Day on the Oaks 1",null,null,null,null,null,null,null,null,null,0,null,null,null,null,null,null,null,null,null,0,0]
["NET",null,null,null,null,null,null,null,null,null,0,null,null,null,null,null,null,null,null,null,0,0]
["8 Apr 15 - 54 Hole Individual Rd 1",null,null,null,null,null,null,null,null,null,0,null,null,null,null,null,null,null,null,null,0,0]
["NET",null,null,null,null,null,null,null,null,null,0,null,null,null,null,null,null,null,null,null,0,0]
["9 Apr 16 - 54 Hole Individual Rd 2",null,null,null,null,null,null,null,null,null,0,null,null,null,null,null,null,null,null,null,0,0]
["NET",null,null,null,null,null,null,null,null,null,0,null,null,null,null,null,null,null,null,null,0,0]
["10 Apr 22 - 54 Hole Individual Rd 3",null,null,null,null,null,null,null,null,null,0,null,null,null,null,null,null,null,null,null,0,0]
["NET",null,null,null,null,null,null,null,null,null,0,null,null,null,null,null,null,null,null,null,0,0]
["11 May 7 - Senior 4-Ball Qualifier",5,5,3,5,3,7,5,4,4,41,5,4,3,4,5,2,6,4,6,39,80]
["NET",{"$f":"B26-(B$4<=MOD($W27,18))-INT($W27/18)","v":5},{"$f":"C26-(C$4<=MOD($W27,18))-INT($W27/18)","v":5},3,5,3,7,4,4,3,39,{"$f":"L26-(L$4<=MOD($W27,18))-INT($W27/18)","v":5},{"$f":"M26-(M$4<=MOD($W27,18))-INT($W27/18)","v":3},3,3,5,2,6,4,5,36,75,5]
["12 May 16 - Day on the Oaks 2",null,null,null,null,null,null,null,null,null,0,null,null,null,null,null,null,null,null,null,0,0]
["NET",null,null,null,null,null,null,null,null,null,0,null,null,null,null,null,null,null,null,null,0,0]
["13 May 28 - Memorial",null,null,null,null,null,null,null,null,null,0,null,null,null,null,null,null,null,null,null,0,0]
["NET",null,null,null,null,null,null,null,null,null,0,null,null,null,null,null,null,null,null,null,0,0]
["14 Jun 10 - 54 Hole Team Rd 1",4,6,3,4,3,5,7,5,4,41,4,5,3,4,4,4,6,5,6,41,82]
["NET",{"$f":"B32-(B$4<=MOD($W33,18))-INT($W33/18)","v":4},{"$f":"C32-(C$4<=MOD($W33,18))-INT($W33/18)","v":6},3,3,3,5,6,5,3,38,{"$f":"L32-(L$4<=MOD($W33,18))-INT($W33/18)","v":4},{"$f":"M32-(M$4<=MOD($W33,18))-INT($W33/18)","v":4},3,3,4,3,6,5,5,37,75,7]
["15 Jun 27 - Day on the Oaks 3",null,null,null,null,null,null,null,null,null,0,null,null,null,null,null,null,null,null,null,0,0]
["NET",null,null,null,null,null,null,null,null,null,0,null,null,null,null,null,null,null,null,null,0,0]
["17 Jul 11 - Day on the Oaks 4",null,null,null,null,null,null,null,null,null,0,null,null,null,null,null,null,null,null,null,0,0]
["NET",null,null,null,null,null,null,null,null,null,0,null,null,null,null,null,null,null,null,null,0,0]
["18 Aug 1 - Day on the Oaks 5",null,null,null,null,null,null,null,null,null,0,null,null,null,null,null,null,null,null,null,0,0]
["NET",null,null,null,null,null,null,null,null,null,0,null,null,null,null,null,null,null,null,null,0,0]
["19 Aug 13 - Rose Cup Qualifier",null,null,null,null,null,null,null,null,null,0,null,null,null,null,null,null,null,null,null,0,0]
["NET",null,null,null,null,null,null,null,null,null,0,null,null,null,null,null,null,null,null,null,0,0]
["20 Aug 29 - Day on the Oaks 6",null,null,null,null,null,null,null,null,null,0,null,null,null,null,null,null,null,null,null,0,0]
["NET",null,null,null,null,null,null,null,null,null,0,null,null,null,null,null,null,null,null,null,0,0]
["21 Sep 3 - Labor Day",null,null,null,null,null,null,null,null,null,0,null,null,null,null,null,null,null,null,null,0,0]
["NET",null,null,null,null,null,null,null,null,null,0,null,null,null,null,null,null,null,null,null,0,0]
["22 Oct 21 - Past Presidents",null,null,null,null,null,null,null,null,null,0,null,null,null,null,null,null,null,null,null,0,0]
["NET",null,null,null,null,null,null,null,null,null,0,null,null,null,null,null,null,null,null,null,0,0]
["23 Nov 12 - Turkey Shoot",null,null,null,null,null,null,null,null,null,0,null,null,null,null,null,null,null,null,null,0,0]
["NET",null,null,null,null,null,null,null,null,null,0,null,null,null,null,null,null,null,null,null,0,0]
["24 Dec 2 - Eclectic Final ",null,null,null,null,null,null,null,null,null,0,null,null,null,null,null,null,null,null,null,0,0]
["NET",null,null,null,null,null,null,null,null,null,0,null,null,null,null,null,null,null,null,null,0,0]
[null,null,null,null,null,null,null,null,null,null,0,null,null,null,null,null,null,null,null,null,0,0]
[null,null,null,null,null,null,null,null,null,null,0,null,null,null,null,null,null,null,null,null,0,0]
[]
["Low Gross Score",{"$f":"MIN(B6,B8,B10,B12,B14,B16,B18,B20,B22,B24,B26,B28,B30,32,B34,B36,B38,B40,B42,B44,B46,B48,B50,B52)","v":4},{"$f":"MIN(C6,C8,C10,C12,C14,C16,C18,C20,C22,C24,C26,C28,C30,32,C34,C36,C38,C40,C42,C44,C46,C48,C50,C52)","v":5},3,5,3,5,5,4,4,{"$f":"SUM(B55:J55)","v":38},{"$f":"MIN(L6,L8,L10,L12,L14,L16,L18,L20,L22,L24,L26,L28,L30,32,L34,L36,L38,L40,L42,L44,L46,L48,L50,L52)","v":5},4,2,4,4,2,5,4,5,{"$f":"SUM(L55:T55)","v":35},{"$f":"SUM(K55+U55)","v":73}]
["Low Net Score",{"$f":"MIN(B7,B9,B11,B13,B15,B17,B19,B21,B23,B25,B27,B29,B31,B33,B35,B37,B39,B41,B43,B45,B47,B49,B51,B53)","v":4},{"$f":"MIN(C7,C9,C11,C13,C15,C17,C19, C21,C23,C25,C27,C29,C31,C33,C35,C37,C39,C41,C43,C45,C47,C49,C51,C53)","v":5},3,3,3,5,4,4,3,34,{"$f":"MIN(L7,L9,L11,L13,L15,L17,L19, L21,L23,L25,L27,L29,L31,L33,L35,L37,L39,L41,L43,L45,L47,L49,L51,L53)","v":4},3,2,3,4,2,5,4,4,31,65]

{"sheet":"SOUTO, ERIC","index":47,"n_rows":56,"n_cols":23,"rows_kept":56,"cut":false,"hidden":false,"merged":[]}
[]
["SOUTO, ERIC",null,null,null,null,null,null,null,null,null,null,null,null,null,null,null,null,null,null,null,null,null,"HANDICAP"]
["HOLE",1,2,3,4,5,6,7,8,9,"OUT",10,11,12,13,14,15,16,17,18,"IN","TOTAL"]
["HANDICAP",8,14,18,6,16,10,4,12,2,null,9,5,17,3,15,7,13,11,1]
["PAR",4,5,3,4,3,5,4,4,4,36,5,4,3,4,4,3,5,4,4,36,72]
["1 Jan 28 - NCGA 4-Ball",null,null,null,null,null,null,null,null,null,{"$f":"SUM(B6:J6)","v":0},null,null,null,null,null,null,null,null,null,{"$f":"SUM(L6:T6)","v":0},{"$f":"SUM(K6+U6)","v":0}]
["NET",null,null,null,null,null,null,null,null,null,0,null,null,null,null,null,null,null,null,null,0,0]
["2 Feb 11 - Super Bowl",5,5,4,4,2,6,5,4,5,40,5,5,3,4,4,2,5,4,5,37,77]
["NET",{"$f":"B8-(B$4<=MOD($W9,18))-INT($W9/18)","v":5},{"$f":"C8-(C$4<=MOD($W9,18))-INT($W9/18)","v":5},4,4,2,6,5,4,4,39,{"$f":"L8-(L$4<=MOD($W9,18))-INT($W9/18)","v":5},{"$f":"M8-(M$4<=MOD($W9,18))-INT($W9/18)","v":5},3,3,4,2,5,4,4,35,74,3]
["3 Feb 26 - Modified Stableford",5,5,4,4,3,4,4,4,5,38,5,5,3,4,5,4,5,4,5,40,78]
["NET",{"$f":"B10-(B$4<=MOD($W11,18))-INT($W11/18)","v":5},5,4,4,3,4,4,4,4,37,{"$f":"L10-(L$4<=MOD($W11,18))-INT($W11/18)","v":5},{"$f":"M10-(M$4<=MOD($W11,18))-INT($W11/18)","v":5},3,3,5,4,5,4,4,38,75,3]
["4 Mar 25 - Zone Qualifier Rd 1",null,null,null,null,null,null,null,null,null,0,null,null,null,null,null,null,null,null,null,0,0]
["NET",null,null,null,null,null,null,null,null,null,0,null,null,null,null,null,null,null,null,null,0,0]
["5 Mar 26 - Zone Qualifier Rd 2",null,null,null,null,null,null,null,null,null,0,null,null,null,null,null,null,null,null,null,0,0]
["NET",null,null,null,null,null,null,null,null,null,0,null,null,null,null,null,null,null,null,null,0,0]
["6 Apr 8 - RGC Masters",4,6,3,4,3,5,4,4,5,38,5,4,3,6,3,4,5,4,5,39,77]
["NET",{"$f":"B16-(B$4<=MOD($W17,18))-INT($W17/18)","v":4},{"$f":"C16-(C$4<=MOD($W17,18))-INT($W17/18)","v":6},3,4,3,5,3,4,4,36,{"$f":"L16-(L$4<=MOD($W17,18))-INT($W17/18)","v":5},{"$f":"M16-(M$4<=MOD($W17,18))-INT($W17/18)","v":4},3,5,3,4,5,4,4,37,73,4]
["7 Apr 11 - Day on the Oaks 1",null,null,null,null,null,null,null,null,null,0,null,null,null,null,null,null,null,null,null,0,0]
["NET",null,null,null,null,null,null,null,null,null,0,null,null,null,null,null,null,null,null,null,0,0]
["8 Apr 15 - 54 Hole Individual Rd 1",4,5,4,5,5,3,5,4,4,39,4,4,4,3,4,4,3,5,5,36,75]
["NET",{"$f":"B20-(B$4<=MOD($W21,18))-INT($W21/18)","v":4},{"$f":"C20-(C$4<=MOD($W21,18))-INT($W21/18)","v":5},4,5,5,3,4,4,3,37,{"$f":"L20-(L$4<=MOD($W21,18))-INT($W21/18)","v":4},{"$f":"M20-(M$4<=MOD($W21,18))-INT($W21/18)","v":4},4,2,4,4,3,5,4,34,71,4]
["9 Apr 16 - 54 Hole Individual Rd 2",5,7,4,5,3,6,5,4,5,44,4,5,4,4,4,3,5,4,5,38,82]
["NET",{"$f":"B22-(B$4<=MOD($W23,18))-INT($W23/18)","v":5},{"$f":"C22-(C$4<=MOD($W23,18))-INT($W23/18)","v":7},4,5,3,6,4,4,4,42,{"$f":"L22-(L$4<=MOD($W23,18))-INT($W23/18)","v":4},{"$f":"M22-(M$4<=MOD($W23,18))-INT($W23/18)","v":5},4,3,4,3,5,4,4,36,78,4]
["10 Apr 22 - 54 Hole Individual Rd 3",4,5,3,5,2,5,4,4,4,36,5,4,3,5,3,2,5,4,5,36,72]
["NET",{"$f":"B24-(B$4<=MOD($W25,18))-INT($W25/18)","v":4},{"$f":"C24-(C$4<=MOD($W25,18))-INT($W25/18)","v":5},3,5,2,5,3,4,3,34,{"$f":"L24-(L$4<=MOD($W25,18))-INT($W25/18)","v":5},{"$f":"M24-(M$4<=MOD($W25,18))-INT($W25/18)","v":4},3,4,3,2,5,4,4,34,68,4]
["11 May 7 - Senior 4-Ball Qualifier",4,5,3,6,3,6,4,4,5,40,7,4,3,4,4,4,5,4,4,39,79]
["NET",{"$f":"B26-(B$4<=MOD($W27,18))-INT($W27/18)","v":4},5,3,6,3,6,4,4,5,40,{"$f":"L26-(L$4<=MOD($W27,18))-INT($W27/18)","v":7},{"$f":"M26-(M$4<=MOD($W27,18))-INT($W27/18)","v":4},3,4,4,4,5,4,4,39,79,0]
["12 May 16 - Day on the Oaks 2",null,null,null,null,null,null,null,null,null,0,null,null,null,null,null,null,null,null,null,0,0]
["NET",null,null,null,null,null,null,null,null,null,0,null,null,null,null,null,null,null,null,null,0,0]
["13 May 28 - Memorial",null,null,null,null,null,null,null,null,null,0,null,null,null,null,null,null,null,null,null,0,0]
["NET",null,null,null,null,null,null,null,null,null,0,null,null,null,null,null,null,null,null,null,0,0]
["14 Jun 10 - 54 Hole Team Rd 1",null,null,null,null,null,null,null,null,null,0,null,null,null,null,null,null,null,null,null,0,0]
["NET",null,null,null,null,null,null,null,null,null,0,null,null,null,null,null,null,null,null,null,0,0]
["15 Jun 27 - Day on the Oaks 3",5,5,3,5,4,5,3,5,4,39,5,5,3,4,4,3,5,3,4,36,75]
["NET",{"$f":"B34-(B$4<=MOD($W35,18))-INT($W35/18)","v":5},{"$f":"C34-(C$4<=MOD($W35,18))-INT($W35/18)","v":5},3,5,4,5,3,5,4,39,{"$f":"L34-(L$4<=MOD($W35,18))-INT($W35/18)","v":5},{"$f":"M34-(M$4<=MOD($W35,18))-INT($W35/18)","v":5},3,4,4,3,5,3,3,35,74,1]
["17 Jul 11 - Day on the Oaks 4",5,6,4,4,3,6,4,4,4,40,7,4,3,4,4,4,4,3,6,39,79]
["NET",{"$f":"B36-(B$4<=MOD($W37,18))-INT($W37/18)","v":5},6,4,4,3,6,4,4,4,40,{"$f":"L36-(L$4<=MOD($W37,18))-INT($W37/18)","v":7},{"$f":"M36-(M$4<=MOD($W37,18))-INT($W37/18)","v":4},3,4,4,4,4,3,5,38,78,1]
["18 Aug 1 - Day on the Oaks 5",null,null,null,null,null,null,null,null,null,0,null,null,null,null,null,null,null,null,null,0,0]
["NET",null,null,null,null,null,null,null,null,null,0,null,null,null,null,null,null,null,null,null,0,0]
["19 Aug 13 - Rose Cup Qualifier",null,null,null,null,null,null,null,null,null,0,null,null,null,null,null,null,null,null,null,0,0]
["NET",null,null,null,null,null,null,null,null,null,0,null,null,null,null,null,null,null,null,null,0,0]
["20 Aug 29 - Day on the Oaks 6",null,null,null,null,null,null,null,null,null,0,null,null,null,null,null,null,null,null,null,0,0]
["NET",null,null,null,null,null,null,null,null,null,0,null,null,null,null,null,null,null,null,null,0,0]
["21 Sep 3 - Labor Day",null,null,null,null,null,null,null,null,null,0,null,null,null,null,null,null,null,null,null,0,0]
["NET",null,null,null,null,null,null,null,null,null,0,null,null,null,null,null,null,null,null,null,0,0]
["22 Oct 21 - Past Presidents",null,null,null,null,null,null,null,null,null,0,null,null,null,null,null,null,null,null,null,0,0]
["NET",null,null,null,null,null,null,null,null,null,0,null,null,null,null,null,null,null,null,null,0,0]
["23 Nov 12 - Turkey Shoot",null,null,null,null,null,null,null,null,null,0,null,null,null,null,null,null,null,null,null,0,0]
["NET",null,null,null,null,null,null,null,null,null,0,null,null,null,null,null,null,null,null,null,0,0]
["24 Dec 2 - Eclectic Final ",null,null,null,null,null,null,null,null,null,0,null,null,null,null,null,null,null,null,null,0,0]
["NET",null,null,null,null,null,null,null,null,null,0,null,null,null,null,null,null,null,null,null,0,0]
[null,null,null,null,null,null,null,null,null,null,0,null,null,null,null,null,null,null,null,null,0,0]
[null,null,null,null,null,null,null,null,null,null,0,null,null,null,null,null,null,null,null,null,0,0]
[]
["Low Gross Score",{"$f":"MIN(B6,B8,B10,B12,B14,B16,B18,B20,B22,B24,B26,B28,B30,32,B34,B36,B38,B40,B42,B44,B46,B48,B50,B52)","v":4},{"$f":"MIN(C6,C8,C10,C12,C14,C16,C18,C20,C22,C24,C26,C28,C30,32,C34,C36,C38,C40,C42,C44,C46,C48,C50,C52)","v":5},3,4,2,3,3,4,4,{"$f":"SUM(B55:J55)","v":32},{"$f":"MIN(L6,L8,L10,L12,L14,L16,L18,L20,L22,L24,L26,L28,L30,32,L34,L36,L38,L40,L42,L44,L46,L48,L50,L52)","v":4},4,3,3,3,2,3,3,4,{"$f":"SUM(L55:T55)","v":29},{"$f":"SUM(K55+U55)","v":61}]
["Low Net Score",{"$f":"MIN(B7,B9,B11,B13,B15,B17,B19,B21,B23,B25,B27,B29,B31,B33,B35,B37,B39,B41,B43,B45,B47,B49,B51,B53)","v":4},{"$f":"MIN(C7,C9,C11,C13,C15,C17,C19, C21,C23,C25,C27,C29,C31,C33,C35,C37,C39,C41,C43,C45,C47,C49,C51,C53)","v":5},3,4,2,3,3,4,3,31,{"$f":"MIN(L7,L9,L11,L13,L15,L17,L19, L21,L23,L25,L27,L29,L31,L33,L35,L37,L39,L41,L43,L45,L47,L49,L51,L53)","v":4},4,3,2,3,2,3,3,3,27,58]

{"sheet":"SWEATT, BRIAN","index":48,"n_rows":56,"n_cols":23,"rows_kept":56,"cut":false,"hidden":false,"merged":[]}
[]
["SWEATT, BRIAN",null,null,null,null,null,null,null,null,null,null,null,null,null,null,null,null,null,null,null,null,null,"HANDICAP"]
["HOLE",1,2,3,4,5,6,7,8,9,"OUT",10,11,12,13,14,15,16,17,18,"IN","TOTAL"]
["HANDICAP",8,14,18,6,16,10,4,12,2,null,9,5,17,3,15,7,13,11,1]
["PAR",4,5,3,4,3,5,4,4,4,36,5,4,3,4,4,3,5,4,4,36,72]
["1 Jan 28 - NCGA 4-Ball",6,8,5,5,5,8,5,5,4,{"$f":"SUM(B6:J6)","v":51},7,4,6,6,5,4,8,5,4,{"$f":"SUM(L6:T6)","v":49},{"$f":"SUM(K6+U6)","v":100}]
["NET",{"$f":"B6-(B$4<=MOD($W7,18))-INT($W7/18)","v":5},{"$f":"C6-(C$4<=MOD($W7,18))-INT($W7/18)","v":8},5,4,5,7,4,5,3,46,{"$f":"L6-(L$4<=MOD($W7,18))-INT($W7/18)","v":6},3,6,5,5,3,8,5,3,44,90,10]
["2 Feb 11 - Super Bowl",7,6,3,6,5,7,4,7,4,49,5,3,2,5,5,3,6,5,4,38,87]
["NET",{"$f":"B8-(B$4<=MOD($W9,18))-INT($W9/18)","v":6},{"$f":"C8-(C$4<=MOD($W9,18))-INT($W9/18)","v":6},3,5,5,6,3,7,3,44,{"$f":"L8-(L$4<=MOD($W9,18))-INT($W9/18)","v":4},{"$f":"M8-(M$4<=MOD($W9,18))-INT($W9/18)","v":2},2,4,5,2,6,5,3,33,77,10]
["3 Feb 26 - Modified Stableford",4,7,4,4,3,6,6,6,5,45,6,4,4,4,5,4,6,4,5,42,87]
["NET",{"$f":"B10-(B$4<=MOD($W11,18))-INT($W11/18)","v":3},7,4,3,3,5,5,6,4,40,{"$f":"L10-(L$4<=MOD($W11,18))-INT($W11/18)","v":5},{"$f":"M10-(M$4<=MOD($W11,18))-INT($W11/18)","v":3},4,3,5,3,6,4,4,37,77,10]
["4 Mar 25 - Zone Qualifier Rd 1",7,6,3,5,4,5,5,5,4,44,6,4,5,4,5,4,5,6,5,44,88]
["NET",{"$f":"B12-(B$4<=MOD($W13,18))-INT($W13/18)","v":6},6,3,4,4,5,4,5,3,40,{"$f":"L12-(L$4<=MOD($W13,18))-INT($W13/18)","v":5},{"$f":"M12-(M$4<=MOD($W13,18))-INT($W13/18)","v":3},5,3,5,3,5,6,4,39,79,9]
["5 Mar 26 - Zone Qualifier Rd 2",5,5,3,5,3,7,4,5,5,42,5,5,3,6,5,4,5,5,6,44,86]
["NET",{"$f":"B14-(B$4<=MOD($W15,18))-INT($W15/18)","v":4},5,3,4,3,7,3,5,4,38,{"$f":"L14-(L$4<=MOD($W15,18))-INT($W15/18)","v":4},{"$f":"M14-(M$4<=MOD($W15,18))-INT($W15/18)","v":4},3,5,5,3,5,5,5,39,77,9]
["6 Apr 8 - RGC Masters",5,5,4,4,3,7,4,5,5,42,7,6,4,6,5,3,5,6,5,47,89]
["NET",{"$f":"B16-(B$4<=MOD($W17,18))-INT($W17/18)","v":4},5,4,3,3,6,3,5,4,37,{"$f":"L16-(L$4<=MOD($W17,18))-INT($W17/18)","v":6},{"$f":"M16-(M$4<=MOD($W17,18))-INT($W17/18)","v":5},4,5,5,2,5,5,4,41,78,11]
["7 Apr 11 - Day on the Oaks 1",5,5,2,5,4,11,5,4,6,47,4,5,6,4,6,3,7,6,5,46,93]
["NET",{"$f":"B18-(B$4<=MOD($W19,18))-INT($W19/18)","v":4},5,2,4,4,10,4,4,5,42,{"$f":"L18-(L$4<=MOD($W19,18))-INT($W19/18)","v":3},{"$f":"M18-(M$4<=MOD($W19,18))-INT($W19/18)","v":4},6,3,6,2,7,5,4,40,82,11]
["8 Apr 15 - 54 Hole Individual Rd 1",null,null,null,null,null,null,null,null,null,0,null,null,null,null,null,null,null,null,null,0,0]
["NET",null,null,null,null,null,null,null,null,null,0,null,null,null,null,null,null,null,null,null,0,0]
["9 Apr 16 - 54 Hole Individual Rd 2",null,null,null,null,null,null,null,null,null,0,null,null,null,null,null,null,null,null,null,0,0]
["NET",null,null,null,null,null,null,null,null,null,0,null,null,null,null,null,null,null,null,null,0,0]
["10 Apr 22 - 54 Hole Individual Rd 3",null,null,null,null,null,null,null,null,null,0,null,null,null,null,null,null,null,null,null,0,0]
["NET",null,null,null,null,null,null,null,null,null,0,null,null,null,null,null,null,null,null,null,0,0]
["11 May 7 - Senior 4-Ball Qualifier",null,null,null,null,null,null,null,null,null,0,null,null,null,null,null,null,null,null,null,0,0]
["NET",null,null,null,null,null,null,null,null,null,0,null,null,null,null,null,null,null,null,null,0,0]
["12 May 16 - Day on the Oaks 2",null,null,null,null,null,null,null,null,null,0,null,null,null,null,null,null,null,null,null,0,0]
["NET",null,null,null,null,null,null,null,null,null,0,null,null,null,null,null,null,null,null,null,0,0]
["13 May 28 - Memorial",6,4,4,6,3,7,6,6,6,48,5,6,4,5,5,3,6,4,5,43,91]
["NET",{"$f":"B30-(B$4<=MOD($W31,18))-INT($W31/18)","v":5},{"$f":"C30-(C$4<=MOD($W31,18))-INT($W31/18)","v":4},4,5,3,6,5,6,5,43,{"$f":"L30-(L$4<=MOD($W31,18))-INT($W31/18)","v":4},{"$f":"M30-(M$4<=MOD($W31,18))-INT($W31/18)","v":5},4,4,5,2,6,3,4,37,80,11]
["14 Jun 10 - 54 Hole Team Rd 1",null,null,null,null,null,null,null,null,null,0,null,null,null,null,null,null,null,null,null,0,0]
["NET",null,null,null,null,null,null,null,null,null,0,null,null,null,null,null,null,null,null,null,0,0]
["15 Jun 27 - Day on the Oaks 3",5,5,4,5,3,4,6,4,4,40,6,7,4,9,5,7,5,4,7,54,94]
["NET",{"$f":"B34-(B$4<=MOD($W35,18))-INT($W35/18)","v":4},{"$f":"C34-(C$4<=MOD($W35,18))-INT($W35/18)","v":5},4,4,3,3,5,4,3,35,{"$f":"L34-(L$4<=MOD($W35,18))-INT($W35/18)","v":5},{"$f":"M34-(M$4<=MOD($W35,18))-INT($W35/18)","v":6},4,8,5,6,5,3,6,48,83,11]
["17 Jul 11 - Day on the Oaks 4",null,null,null,null,null,null,null,null,null,0,null,null,null,null,null,null,null,null,null,0,0]
["NET",null,null,null,null,null,null,null,null,null,0,null,null,null,null,null,null,null,null,null,0,0]
["18 Aug 1 - Day on the Oaks 5",5,6,4,9,3,7,5,3,5,47,5,5,3,6,3,5,5,5,5,42,89]
["NET",{"$f":"B38-(B$4<=MOD($W39,18))-INT($W39/18)","v":4},{"$f":"C38-(C$4<=MOD($W39,18))-INT($W39/18)","v":6},4,8,3,6,4,3,4,42,{"$f":"L38-(L$4<=MOD($W39,18))-INT($W39/18)","v":4},{"$f":"M38-(M$4<=MOD($W39,18))-INT($W39/18)","v":4},3,5,3,4,5,4,4,36,78,11]
["19 Aug 13 - Rose Cup Qualifier",null,null,null,null,null,null,null,null,null,0,null,null,null,null,null,null,null,null,null,0,0]
["NET",null,null,null,null,null,null,null,null,null,0,null,null,null,null,null,null,null,null,null,0,0]
["20 Aug 29 - Day on the Oaks 6",null,null,null,null,null,null,null,null,null,0,null,null,null,null,null,null,null,null,null,0,0]
["NET",null,null,null,null,null,null,null,null,null,0,null,null,null,null,null,null,null,null,null,0,0]
["21 Sep 3 - Labor Day",null,null,null,null,null,null,null,null,null,0,null,null,null,null,null,null,null,null,null,0,0]
["NET",null,null,null,null,null,null,null,null,null,0,null,null,null,null,null,null,null,null,null,0,0]
["22 Oct 21 - Past Presidents",null,null,null,null,null,null,null,null,null,0,null,null,null,null,null,null,null,null,null,0,0]
["NET",null,null,null,null,null,null,null,null,null,0,null,null,null,null,null,null,null,null,null,0,0]
["23 Nov 12 - Turkey Shoot",null,null,null,null,null,null,null,null,null,0,null,null,null,null,null,null,null,null,null,0,0]
["NET",null,null,null,null,null,null,null,null,null,0,null,null,null,null,null,null,null,null,null,0,0]
["24 Dec 2 - Eclectic Final ",null,null,null,null,null,null,null,null,null,0,null,null,null,null,null,null,null,null,null,0,0]
["NET",null,null,null,null,null,null,null,null,null,0,null,null,null,null,null,null,null,null,null,0,0]
[null,null,null,null,null,null,null,null,null,null,0,null,null,null,null,null,null,null,null,null,0,0]
[null,null,null,null,null,null,null,null,null,null,0,null,null,null,null,null,null,null,null,null,0,0]
[]
["Low Gross Score",{"$f":"MIN(B6,B8,B10,B12,B14,B16,B18,B20,B22,B24,B26,B28,B30,32,B34,B36,B38,B40,B42,B44,B46,B48,B50,B52)","v":4},{"$f":"MIN(C6,C8,C10,C12,C14,C16,C18,C20,C22,C24,C26,C28,C30,32,C34,C36,C38,C40,C42,C44,C46,C48,C50,C52)","v":4},2,4,3,4,4,3,4,{"$f":"SUM(B55:J55)","v":32},{"$f":"MIN(L6,L8,L10,L12,L14,L16,L18,L20,L22,L24,L26,L28,L30,32,L34,L36,L38,L40,L42,L44,L46,L48,L50,L52)","v":4},3,2,4,3,3,5,4,4,{"$f":"SUM(L55:T55)","v":32},{"$f":"SUM(K55+U55)","v":64}]
["Low Net Score",{"$f":"MIN(B7,B9,B11,B13,B15,B17,B19,B21,B23,B25,B27,B29,B31,B33,B35,B37,B39,B41,B43,B45,B47,B49,B51,B53)","v":3},{"$f":"MIN(C7,C9,C11,C13,C15,C17,C19, C21,C23,C25,C27,C29,C31,C33,C35,C37,C39,C41,C43,C45,C47,C49,C51,C53)","v":4},2,3,3,3,3,3,3,27,{"$f":"MIN(L7,L9,L11,L13,L15,L17,L19, L21,L23,L25,L27,L29,L31,L33,L35,L37,L39,L41,L43,L45,L47,L49,L51,L53)","v":3},2,2,3,3,2,5,3,3,26,53]

{"sheet":"TAYLOR, STEVE","index":49,"n_rows":56,"n_cols":23,"rows_kept":56,"cut":false,"hidden":false,"merged":[]}
[]
["TAYLOR, STEVE",null,null,null,null,null,null,null,null,null,null,null,null,null,null,null,null,null,null,null,null,null,"HANDICAP"]
["HOLE",1,2,3,4,5,6,7,8,9,"OUT",10,11,12,13,14,15,16,17,18,"IN","TOTAL"]
["HANDICAP",8,14,18,6,16,10,4,12,2,null,9,5,17,3,15,7,13,11,1]
["PAR",4,5,3,4,3,5,4,4,4,36,5,4,3,4,4,3,5,4,4,36,72]
["1 Jan 28 - NCGA 4-Ball",5,5,3,4,4,6,6,5,5,{"$f":"SUM(B6:J6)","v":43},6,4,4,4,5,5,5,4,4,{"$f":"SUM(L6:T6)","v":41},{"$f":"SUM(K6+U6)","v":84}]
["NET",{"$f":"B6-(B$4<=MOD($W7,18))-INT($W7/18)","v":5},{"$f":"C6-(C$4<=MOD($W7,18))-INT($W7/18)","v":5},3,4,4,6,5,5,4,41,{"$f":"L6-(L$4<=MOD($W7,18))-INT($W7/18)","v":6},4,4,3,5,5,5,4,3,39,80,4]
["2 Feb 11 - Super Bowl",4,5,3,4,4,5,5,4,5,39,5,4,5,4,5,5,5,5,5,43,82]
["NET",{"$f":"B8-(B$4<=MOD($W9,18))-INT($W9/18)","v":4},{"$f":"C8-(C$4<=MOD($W9,18))-INT($W9/18)","v":5},3,4,4,5,4,4,4,37,{"$f":"L8-(L$4<=MOD($W9,18))-INT($W9/18)","v":5},{"$f":"M8-(M$4<=MOD($W9,18))-INT($W9/18)","v":4},5,3,5,5,5,5,4,41,78,4]
["3 Feb 26 - Modified Stableford",5,5,3,6,5,7,5,5,4,45,5,5,4,4,4,3,4,4,5,38,83]
["NET",{"$f":"B10-(B$4<=MOD($W11,18))-INT($W11/18)","v":5},5,3,6,5,7,4,5,3,43,{"$f":"L10-(L$4<=MOD($W11,18))-INT($W11/18)","v":5},{"$f":"M10-(M$4<=MOD($W11,18))-INT($W11/18)","v":5},4,3,4,3,4,4,4,36,79,4]
["4 Mar 25 - Zone Qualifier Rd 1",3,6,2,4,3,5,4,5,4,36,6,4,3,5,4,3,5,4,5,39,75]
["NET",{"$f":"B12-(B$4<=MOD($W13,18))-INT($W13/18)","v":3},6,2,4,3,5,3,5,3,34,{"$f":"L12-(L$4<=MOD($W13,18))-INT($W13/18)","v":6},{"$f":"M12-(M$4<=MOD($W13,18))-INT($W13/18)","v":3},3,4,4,3,5,4,4,36,70,5]
["5 Mar 26 - Zone Qualifier Rd 2",6,4,2,4,5,6,4,4,3,38,6,4,3,4,4,3,5,4,5,38,76]
["NET",{"$f":"B14-(B$4<=MOD($W15,18))-INT($W15/18)","v":6},4,2,4,5,6,3,4,2,36,{"$f":"L14-(L$4<=MOD($W15,18))-INT($W15/18)","v":6},{"$f":"M14-(M$4<=MOD($W15,18))-INT($W15/18)","v":3},3,3,4,3,5,4,4,35,71,5]
["6 Apr 8 - RGC Masters",null,null,null,null,null,null,null,null,null,0,null,null,null,null,null,null,null,null,null,0,0]
["NET",null,null,null,null,null,null,null,null,null,0,null,null,null,null,null,null,null,null,null,0,0]
["7 Apr 11 - Day on the Oaks 1",null,null,null,null,null,null,null,null,null,0,null,null,null,null,null,null,null,null,null,0,0]
["NET",null,null,null,null,null,null,null,null,null,0,null,null,null,null,null,null,null,null,null,0,0]
["8 Apr 15 - 54 Hole Individual Rd 1",5,6,5,4,3,5,3,5,6,42,6,4,3,4,4,4,6,3,5,39,81]
["NET",{"$f":"B20-(B$4<=MOD($W21,18))-INT($W21/18)","v":5},{"$f":"C20-(C$4<=MOD($W21,18))-INT($W21/18)","v":6},5,4,3,5,3,5,5,41,{"$f":"L20-(L$4<=MOD($W21,18))-INT($W21/18)","v":6},{"$f":"M20-(M$4<=MOD($W21,18))-INT($W21/18)","v":4},3,3,4,4,6,3,4,37,78,3]
["9 Apr 16 - 54 Hole Individual Rd 2",5,4,3,5,3,5,5,4,6,40,5,4,4,6,4,3,5,5,8,44,84]
["NET",{"$f":"B22-(B$4<=MOD($W23,18))-INT($W23/18)","v":5},{"$f":"C22-(C$4<=MOD($W23,18))-INT($W23/18)","v":4},3,5,3,5,5,4,5,39,{"$f":"L22-(L$4<=MOD($W23,18))-INT($W23/18)","v":5},{"$f":"M22-(M$4<=MOD($W23,18))-INT($W23/18)","v":4},4,5,4,3,5,5,7,42,81,3]
["10 Apr 22 - 54 Hole Individual Rd 3",4,4,3,4,3,4,5,4,4,35,6,3,3,5,4,4,4,8,5,42,77]
["NET",{"$f":"B24-(B$4<=MOD($W25,18))-INT($W25/18)","v":4},{"$f":"C24-(C$4<=MOD($W25,18))-INT($W25/18)","v":4},3,4,3,4,5,4,3,34,{"$f":"L24-(L$4<=MOD($W25,18))-INT($W25/18)","v":6},{"$f":"M24-(M$4<=MOD($W25,18))-INT($W25/18)","v":3},3,4,4,4,4,8,4,40,74,3]
["11 May 7 - Senior 4-Ball Qualifier",null,null,null,null,null,null,null,null,null,0,null,null,null,null,null,null,null,null,null,0,0]
["NET",null,null,null,null,null,null,null,null,null,0,null,null,null,null,null,null,null,null,null,0,0]
["12 May 16 - Day on the Oaks 2",null,null,null,null,null,null,null,null,null,0,null,null,null,null,null,null,null,null,null,0,0]
["NET",null,null,null,null,null,null,null,null,null,0,null,null,null,null,null,null,null,null,null,0,0]
["13 May 28 - Memorial",4,5,3,4,3,5,3,5,5,37,6,4,3,4,4,4,7,7,6,45,82]
["NET",{"$f":"B30-(B$4<=MOD($W31,18))-INT($W31/18)","v":4},{"$f":"C30-(C$4<=MOD($W31,18))-INT($W31/18)","v":5},3,4,3,5,2,5,4,35,{"$f":"L30-(L$4<=MOD($W31,18))-INT($W31/18)","v":6},{"$f":"M30-(M$4<=MOD($W31,18))-INT($W31/18)","v":4},3,3,4,4,7,7,5,43,78,4]
["14 Jun 10 - 54 Hole Team Rd 1",4,5,4,4,3,4,4,4,4,36,4,4,3,5,4,3,5,4,4,36,72]
["NET",{"$f":"B32-(B$4<=MOD($W33,18))-INT($W33/18)","v":4},5,4,3,3,4,3,4,3,33,{"$f":"L32-(L$4<=MOD($W33,18))-INT($W33/18)","v":4},{"$f":"M32-(M$4<=MOD($W33,18))-INT($W33/18)","v":3},3,4,4,3,5,4,3,33,66,6]
["15 Jun 27 - Day on the Oaks 3",5,5,4,6,3,5,5,4,5,42,5,4,3,5,4,4,5,4,5,39,81]
["NET",{"$f":"B34-(B$4<=MOD($W35,18))-INT($W35/18)","v":5},5,4,6,3,5,5,4,5,42,{"$f":"L34-(L$4<=MOD($W35,18))-INT($W35/18)","v":5},{"$f":"M34-(M$4<=MOD($W35,18))-INT($W35/18)","v":4},3,5,4,4,5,4,4,38,80,1]
["17 Jul 11 - Day on the Oaks 4",4,5,3,5,3,5,5,4,6,40,5,5,4,5,4,4,5,4,5,41,81]
["NET",{"$f":"B36-(B$4<=MOD($W37,18))-INT($W37/18)","v":4},5,3,5,3,5,5,4,6,40,{"$f":"L36-(L$4<=MOD($W37,18))-INT($W37/18)","v":5},{"$f":"M36-(M$4<=MOD($W37,18))-INT($W37/18)","v":5},4,5,4,4,5,4,4,40,80,1]
["18 Aug 1 - Day on the Oaks 5",4,4,4,6,3,5,4,4,4,38,4,5,3,5,4,3,5,4,4,37,75]
["NET",{"$f":"B38-(B$4<=MOD($W39,18))-INT($W39/18)","v":4},4,4,6,3,5,3,4,3,36,{"$f":"L38-(L$4<=MOD($W39,18))-INT($W39/18)","v":4},{"$f":"M38-(M$4<=MOD($W39,18))-INT($W39/18)","v":4},3,4,4,3,5,4,3,34,70,5]
["19 Aug 13 - Rose Cup Qualifier",null,null,null,null,null,null,null,null,null,0,null,null,null,null,null,null,null,null,null,0,0]
["NET",null,null,null,null,null,null,null,null,null,0,null,null,null,null,null,null,null,null,null,0,0]
["20 Aug 29 - Day on the Oaks 6",null,null,null,null,null,null,null,null,null,0,null,null,null,null,null,null,null,null,null,0,0]
["NET",null,null,null,null,null,null,null,null,null,0,null,null,null,null,null,null,null,null,null,0,0]
["21 Sep 3 - Labor Day",null,null,null,null,null,null,null,null,null,0,null,null,null,null,null,null,null,null,null,0,0]
["NET",null,null,null,null,null,null,null,null,null,0,null,null,null,null,null,null,null,null,null,0,0]
["22 Oct 21 - Past Presidents",null,null,null,null,null,null,null,null,null,0,null,null,null,null,null,null,null,null,null,0,0]
["NET",null,null,null,null,null,null,null,null,null,0,null,null,null,null,null,null,null,null,null,0,0]
["23 Nov 12 - Turkey Shoot",null,null,null,null,null,null,null,null,null,0,null,null,null,null,null,null,null,null,null,0,0]
["NET",null,null,null,null,null,null,null,null,null,0,null,null,null,null,null,null,null,null,null,0,0]
["24 Dec 2 - Eclectic Final ",null,null,null,null,null,null,null,null,null,0,null,null,null,null,null,null,null,null,null,0,0]
["NET",null,null,null,null,null,null,null,null,null,0,null,null,null,null,null,null,null,null,null,0,0]
[null,null,null,null,null,null,null,null,null,null,0,null,null,null,null,null,null,null,null,null,0,0]
[null,null,null,null,null,null,null,null,null,null,0,null,null,null,null,null,null,null,null,null,0,0]
[]
["Low Gross Score",{"$f":"MIN(B6,B8,B10,B12,B14,B16,B18,B20,B22,B24,B26,B28,B30,32,B34,B36,B38,B40,B42,B44,B46,B48,B50,B52)","v":3},{"$f":"MIN(C6,C8,C10,C12,C14,C16,C18,C20,C22,C24,C26,C28,C30,32,C34,C36,C38,C40,C42,C44,C46,C48,C50,C52)","v":4},2,4,3,4,3,4,3,{"$f":"SUM(B55:J55)","v":30},{"$f":"MIN(L6,L8,L10,L12,L14,L16,L18,L20,L22,L24,L26,L28,L30,32,L34,L36,L38,L40,L42,L44,L46,L48,L50,L52)","v":4},3,3,4,4,3,4,3,4,{"$f":"SUM(L55:T55)","v":32},{"$f":"SUM(K55+U55)","v":62}]
["Low Net Score",{"$f":"MIN(B7,B9,B11,B13,B15,B17,B19,B21,B23,B25,B27,B29,B31,B33,B35,B37,B39,B41,B43,B45,B47,B49,B51,B53)","v":3},{"$f":"MIN(C7,C9,C11,C13,C15,C17,C19, C21,C23,C25,C27,C29,C31,C33,C35,C37,C39,C41,C43,C45,C47,C49,C51,C53)","v":4},2,3,3,4,2,4,2,27,{"$f":"MIN(L7,L9,L11,L13,L15,L17,L19, L21,L23,L25,L27,L29,L31,L33,L35,L37,L39,L41,L43,L45,L47,L49,L51,L53)","v":4},3,3,3,4,3,4,3,3,30,57]

{"sheet":"THOMPSEN, NEIL","index":50,"n_rows":56,"n_cols":23,"rows_kept":56,"cut":false,"hidden":false,"merged":[]}
[]
["THOMPSEN, NEIL",null,null,null,null,null,null,null,null,null,null,null,null,null,null,null,null,null,null,null,null,null,"HANDICAP"]
["HOLE",1,2,3,4,5,6,7,8,9,"OUT",10,11,12,13,14,15,16,17,18,"IN","TOTAL"]
["HANDICAP",8,14,18,6,16,10,4,12,2,null,9,5,17,3,15,7,13,11,1]
["PAR",4,5,3,4,3,5,4,4,4,36,5,4,3,4,4,3,5,4,4,36,72]
["1 Jan 28 - NCGA 4-Ball",null,null,null,null,null,null,null,null,null,{"$f":"SUM(B6:J6)","v":0},null,null,null,null,null,null,null,null,null,{"$f":"SUM(L6:T6)","v":0},{"$f":"SUM(K6+U6)","v":0}]
["NET",null,null,null,null,null,null,null,null,null,0,null,null,null,null,null,null,null,null,null,0,0]
["2 Feb 11 - Super Bowl",4,6,3,6,3,5,6,5,5,43,5,5,3,4,5,3,7,5,6,43,86]
["NET",{"$f":"B8-(B$4<=MOD($W9,18))-INT($W9/18)","v":4},{"$f":"C8-(C$4<=MOD($W9,18))-INT($W9/18)","v":6},3,5,3,5,5,5,4,40,{"$f":"L8-(L$4<=MOD($W9,18))-INT($W9/18)","v":5},{"$f":"M8-(M$4<=MOD($W9,18))-INT($W9/18)","v":4},3,3,5,3,7,5,5,40,80,6]
["3 Feb 26 - Modified Stableford",null,null,null,null,null,null,null,null,null,0,null,null,null,null,null,null,null,null,null,0,0]
["NET",null,null,null,null,null,null,null,null,null,0,null,null,null,null,null,null,null,null,null,0,0]
["4 Mar 25 - Zone Qualifier Rd 1",6,5,3,6,3,5,4,5,6,43,6,5,3,4,5,4,7,5,6,45,88]
["NET",{"$f":"B12-(B$4<=MOD($W13,18))-INT($W13/18)","v":6},{"$f":"C12-(C$4<=MOD($W13,18))-INT($W13/18)","v":5},3,5,3,5,3,5,5,40,{"$f":"L12-(L$4<=MOD($W13,18))-INT($W13/18)","v":6},{"$f":"M12-(M$4<=MOD($W13,18))-INT($W13/18)","v":4},3,3,5,3,7,5,5,41,81,7]
["5 Mar 26 - Zone Qualifier Rd 2",5,6,3,5,3,6,4,4,4,40,6,5,4,4,4,3,4,5,5,40,80]
["NET",{"$f":"B14-(B$4<=MOD($W15,18))-INT($W15/18)","v":5},{"$f":"C14-(C$4<=MOD($W15,18))-INT($W15/18)","v":6},3,4,3,6,3,4,3,37,{"$f":"L14-(L$4<=MOD($W15,18))-INT($W15/18)","v":6},{"$f":"M14-(M$4<=MOD($W15,18))-INT($W15/18)","v":4},4,3,4,2,4,5,4,36,73,7]
["6 Apr 8 - RGC Masters",5,5,4,5,3,5,5,6,5,43,5,7,4,4,4,4,5,6,5,44,87]
["NET",{"$f":"B16-(B$4<=MOD($W17,18))-INT($W17/18)","v":4},5,4,4,3,5,4,6,4,39,{"$f":"L16-(L$4<=MOD($W17,18))-INT($W17/18)","v":5},{"$f":"M16-(M$4<=MOD($W17,18))-INT($W17/18)","v":6},4,3,4,3,5,6,4,40,79,8]
["7 Apr 11 - Day on the Oaks 1",null,null,null,null,null,null,null,null,null,0,null,null,null,null,null,null,null,null,null,0,0]
["NET",null,null,null,null,null,null,null,null,null,0,null,null,null,null,null,null,null,null,null,0,0]
["8 Apr 15 - 54 Hole Individual Rd 1",6,5,3,5,4,6,5,5,4,43,6,4,4,5,5,4,5,5,4,42,85]
["NET",{"$f":"B20-(B$4<=MOD($W21,18))-INT($W21/18)","v":5},{"$f":"C20-(C$4<=MOD($W21,18))-INT($W21/18)","v":5},3,4,4,6,4,5,3,39,{"$f":"L20-(L$4<=MOD($W21,18))-INT($W21/18)","v":6},{"$f":"M20-(M$4<=MOD($W21,18))-INT($W21/18)","v":3},4,4,5,3,5,5,3,38,77,8]
["9 Apr 16 - 54 Hole Individual Rd 2",3,5,3,4,3,5,4,4,4,35,5,4,3,4,4,4,7,4,6,41,76]
["NET",{"$f":"B22-(B$4<=MOD($W23,18))-INT($W23/18)","v":2},{"$f":"C22-(C$4<=MOD($W23,18))-INT($W23/18)","v":5},3,3,3,5,3,4,3,31,{"$f":"L22-(L$4<=MOD($W23,18))-INT($W23/18)","v":5},{"$f":"M22-(M$4<=MOD($W23,18))-INT($W23/18)","v":3},3,3,4,3,7,4,5,37,68,8]
["10 Apr 22 - 54 Hole Individual Rd 3",5,5,4,4,3,4,4,5,4,38,5,5,4,5,5,4,7,3,4,42,80]
["NET",{"$f":"B24-(B$4<=MOD($W25,18))-INT($W25/18)","v":4},{"$f":"C24-(C$4<=MOD($W25,18))-INT($W25/18)","v":5},4,3,3,4,3,5,3,34,{"$f":"L24-(L$4<=MOD($W25,18))-INT($W25/18)","v":5},{"$f":"M24-(M$4<=MOD($W25,18))-INT($W25/18)","v":4},4,4,5,3,7,3,3,38,72,8]
["11 May 7 - Senior 4-Ball Qualifier",4,5,2,4,3,5,4,5,4,36,4,4,4,4,3,4,6,5,5,39,75]
["NET",{"$f":"B26-(B$4<=MOD($W27,18))-INT($W27/18)","v":4},5,2,4,3,5,3,5,3,34,{"$f":"L26-(L$4<=MOD($W27,18))-INT($W27/18)","v":4},{"$f":"M26-(M$4<=MOD($W27,18))-INT($W27/18)","v":4},4,3,3,4,6,5,4,37,71,4]
["12 May 16 - Day on the Oaks 2",5,5,3,6,3,4,5,4,4,39,5,5,4,6,4,5,5,5,5,44,83]
["NET",{"$f":"B28-(B$4<=MOD($W29,18))-INT($W29/18)","v":5},5,3,6,3,4,4,4,3,37,{"$f":"L28-(L$4<=MOD($W29,18))-INT($W29/18)","v":5},{"$f":"M28-(M$4<=MOD($W29,18))-INT($W29/18)","v":5},4,5,4,5,5,5,4,42,79,4]
["13 May 28 - Memorial",4,7,4,6,3,5,4,5,7,45,5,4,3,4,3,3,5,4,5,36,81]
["NET",{"$f":"B30-(B$4<=MOD($W31,18))-INT($W31/18)","v":4},7,4,6,3,5,3,5,6,43,{"$f":"L30-(L$4<=MOD($W31,18))-INT($W31/18)","v":5},{"$f":"M30-(M$4<=MOD($W31,18))-INT($W31/18)","v":4},3,3,3,3,5,4,4,34,77,4]
["14 Jun 10 - 54 Hole Team Rd 1",null,null,null,null,null,null,null,null,null,0,null,null,null,null,null,null,null,null,null,0,0]
["NET",null,null,null,null,null,null,null,null,null,0,null,null,null,null,null,null,null,null,null,0,0]
["15 Jun 27 - Day on the Oaks 3",null,null,null,null,null,null,null,null,null,0,null,null,null,null,null,null,null,null,null,0,0]
["NET",null,null,null,null,null,null,null,null,null,0,null,null,null,null,null,null,null,null,null,0,0]
["17 Jul 11 - Day on the Oaks 4",null,null,null,null,null,null,null,null,null,0,null,null,null,null,null,null,null,null,null,0,0]
["NET",null,null,null,null,null,null,null,null,null,0,null,null,null,null,null,null,null,null,null,0,0]
["18 Aug 1 - Day on the Oaks 5",4,5,3,4,4,6,4,4,5,39,5,5,3,3,4,5,4,4,5,38,77]
["NET",{"$f":"B38-(B$4<=MOD($W39,18))-INT($W39/18)","v":4},{"$f":"C38-(C$4<=MOD($W39,18))-INT($W39/18)","v":5},3,3,4,6,3,4,4,36,{"$f":"L38-(L$4<=MOD($W39,18))-INT($W39/18)","v":5},{"$f":"M38-(M$4<=MOD($W39,18))-INT($W39/18)","v":4},3,2,4,5,4,4,4,35,71,6]
["19 Aug 13 - Rose Cup Qualifier",null,null,null,null,null,null,null,null,null,0,null,null,null,null,null,null,null,null,null,0,0]
["NET",null,null,null,null,null,null,null,null,null,0,null,null,null,null,null,null,null,null,null,0,0]
["20 Aug 29 - Day on the Oaks 6",null,null,null,null,null,null,null,null,null,0,null,null,null,null,null,null,null,null,null,0,0]
["NET",null,null,null,null,null,null,null,null,null,0,null,null,null,null,null,null,null,null,null,0,0]
["21 Sep 3 - Labor Day",null,null,null,null,null,null,null,null,null,0,null,null,null,null,null,null,null,null,null,0,0]
["NET",null,null,null,null,null,null,null,null,null,0,null,null,null,null,null,null,null,null,null,0,0]
["22 Oct 21 - Past Presidents",null,null,null,null,null,null,null,null,null,0,null,null,null,null,null,null,null,null,null,0,0]
["NET",null,null,null,null,null,null,null,null,null,0,null,null,null,null,null,null,null,null,null,0,0]
["23 Nov 12 - Turkey Shoot",null,null,null,null,null,null,null,null,null,0,null,null,null,null,null,null,null,null,null,0,0]
["NET",null,null,null,null,null,null,null,null,null,0,null,null,null,null,null,null,null,null,null,0,0]
["24 Dec 2 - Eclectic Final ",null,null,null,null,null,null,null,null,null,0,null,null,null,null,null,null,null,null,null,0,0]
["NET",null,null,null,null,null,null,null,null,null,0,null,null,null,null,null,null,null,null,null,0,0]
[null,null,null,null,null,null,null,null,null,null,0,null,null,null,null,null,null,null,null,null,0,0]
[null,null,null,null,null,null,null,null,null,null,0,null,null,null,null,null,null,null,null,null,0,0]
[]
["Low Gross Score",{"$f":"MIN(B6,B8,B10,B12,B14,B16,B18,B20,B22,B24,B26,B28,B30,32,B34,B36,B38,B40,B42,B44,B46,B48,B50,B52)","v":3},{"$f":"MIN(C6,C8,C10,C12,C14,C16,C18,C20,C22,C24,C26,C28,C30,32,C34,C36,C38,C40,C42,C44,C46,C48,C50,C52)","v":5},2,4,3,4,4,4,4,{"$f":"SUM(B55:J55)","v":33},{"$f":"MIN(L6,L8,L10,L12,L14,L16,L18,L20,L22,L24,L26,L28,L30,32,L34,L36,L38,L40,L42,L44,L46,L48,L50,L52)","v":4},4,3,3,3,3,4,3,4,{"$f":"SUM(L55:T55)","v":31},{"$f":"SUM(K55+U55)","v":64}]
["Low Net Score",{"$f":"MIN(B7,B9,B11,B13,B15,B17,B19,B21,B23,B25,B27,B29,B31,B33,B35,B37,B39,B41,B43,B45,B47,B49,B51,B53)","v":2},{"$f":"MIN(C7,C9,C11,C13,C15,C17,C19, C21,C23,C25,C27,C29,C31,C33,C35,C37,C39,C41,C43,C45,C47,C49,C51,C53)","v":5},2,3,3,4,3,4,3,29,{"$f":"MIN(L7,L9,L11,L13,L15,L17,L19, L21,L23,L25,L27,L29,L31,L33,L35,L37,L39,L41,L43,L45,L47,L49,L51,L53)","v":4},3,3,2,3,2,4,3,3,27,56]

{"sheet":"VERHAAG, MARK","index":51,"n_rows":56,"n_cols":23,"rows_kept":56,"cut":false,"hidden":false,"merged":[]}
[]
["VERHAAG, MARK",null,null,null,null,null,null,null,null,null,null,null,null,null,null,null,null,null,null,null,null,null,"HANDICAP"]
["HOLE",1,2,3,4,5,6,7,8,9,"OUT",10,11,12,13,14,15,16,17,18,"IN","TOTAL"]
["HANDICAP",8,14,18,6,16,10,4,12,2,null,9,5,17,3,15,7,13,11,1]
["PAR",4,5,3,4,3,5,4,4,4,36,5,4,3,4,4,3,5,4,4,36,72]
["1 Jan 28 - NCGA 4-Ball",null,null,null,null,null,null,null,null,null,{"$f":"SUM(B6:J6)","v":0},null,null,null,null,null,null,null,null,null,{"$f":"SUM(L6:T6)","v":0},{"$f":"SUM(K6+U6)","v":0}]
["NET",null,null,null,null,null,null,null,null,null,0,null,null,null,null,null,null,null,null,null,0,0]
["2 Feb 11 - Super Bowl",4,5,4,4,4,7,6,5,5,44,7,4,5,4,4,4,4,4,6,42,86]
["NET",{"$f":"B8-(B$4<=MOD($W9,18))-INT($W9/18)","v":4},{"$f":"C8-(C$4<=MOD($W9,18))-INT($W9/18)","v":5},4,4,4,7,6,5,4,43,{"$f":"L8-(L$4<=MOD($W9,18))-INT($W9/18)","v":7},{"$f":"M8-(M$4<=MOD($W9,18))-INT($W9/18)","v":4},5,3,4,4,4,4,5,40,83,3]
["3 Feb 26 - Modified Stableford",null,null,null,null,null,null,null,null,null,0,null,null,null,null,null,null,null,null,null,0,0]
["NET",null,null,null,null,null,null,null,null,null,0,null,null,null,null,null,null,null,null,null,0,0]
["4 Mar 25 - Zone Qualifier Rd 1",null,null,null,null,null,null,null,null,null,0,null,null,null,null,null,null,null,null,null,0,0]
["NET",null,null,null,null,null,null,null,null,null,0,null,null,null,null,null,null,null,null,null,0,0]
["5 Mar 26 - Zone Qualifier Rd 2",null,null,null,null,null,null,null,null,null,0,null,null,null,null,null,null,null,null,null,0,0]
["NET",null,null,null,null,null,null,null,null,null,0,null,null,null,null,null,null,null,null,null,0,0]
["6 Apr 8 - RGC Masters",5,5,3,3,4,6,4,5,4,39,4,4,3,4,4,4,4,4,5,36,75]
["NET",{"$f":"B16-(B$4<=MOD($W17,18))-INT($W17/18)","v":5},{"$f":"C16-(C$4<=MOD($W17,18))-INT($W17/18)","v":5},3,3,4,6,4,5,3,38,{"$f":"L16-(L$4<=MOD($W17,18))-INT($W17/18)","v":4},{"$f":"M16-(M$4<=MOD($W17,18))-INT($W17/18)","v":4},3,3,4,4,4,4,4,34,72,3]
["7 Apr 11 - Day on the Oaks 1",null,null,null,null,null,null,null,null,null,0,null,null,null,null,null,null,null,null,null,0,0]
["NET",null,null,null,null,null,null,null,null,null,0,null,null,null,null,null,null,null,null,null,0,0]
["8 Apr 15 - 54 Hole Individual Rd 1",4,5,4,5,3,7,4,5,6,43,5,5,2,5,4,4,6,3,5,39,82]
["NET",{"$f":"B20-(B$4<=MOD($W21,18))-INT($W21/18)","v":4},{"$f":"C20-(C$4<=MOD($W21,18))-INT($W21/18)","v":5},4,5,3,7,4,5,5,42,{"$f":"L20-(L$4<=MOD($W21,18))-INT($W21/18)","v":5},{"$f":"M20-(M$4<=MOD($W21,18))-INT($W21/18)","v":5},2,4,4,4,6,3,4,37,79,3]
["9 Apr 16 - 54 Hole Individual Rd 2",6,4,3,5,3,5,4,4,5,39,5,5,4,4,4,4,4,4,4,38,77]
["NET",{"$f":"B22-(B$4<=MOD($W23,18))-INT($W23/18)","v":6},{"$f":"C22-(C$4<=MOD($W23,18))-INT($W23/18)","v":4},3,5,3,5,4,4,4,38,{"$f":"L22-(L$4<=MOD($W23,18))-INT($W23/18)","v":5},{"$f":"M22-(M$4<=MOD($W23,18))-INT($W23/18)","v":5},4,3,4,4,4,4,3,36,74,3]
["10 Apr 22 - 54 Hole Individual Rd 3",4,7,3,4,4,5,3,4,4,38,5,5,4,4,5,5,6,4,5,43,81]
["NET",{"$f":"B24-(B$4<=MOD($W25,18))-INT($W25/18)","v":4},{"$f":"C24-(C$4<=MOD($W25,18))-INT($W25/18)","v":7},3,4,4,5,3,4,3,37,{"$f":"L24-(L$4<=MOD($W25,18))-INT($W25/18)","v":5},{"$f":"M24-(M$4<=MOD($W25,18))-INT($W25/18)","v":5},4,3,5,5,6,4,4,41,78,3]
["11 May 7 - Senior 4-Ball Qualifier",null,null,null,null,null,null,null,null,null,0,null,null,null,null,null,null,null,null,null,0,0]
["NET",null,null,null,null,null,null,null,null,null,0,null,null,null,null,null,null,null,null,null,0,0]
["12 May 16 - Day on the Oaks 2",null,null,null,null,null,null,null,null,null,0,null,null,null,null,null,null,null,null,null,0,0]
["NET",null,null,null,null,null,null,null,null,null,0,null,null,null,null,null,null,null,null,null,0,0]
["13 May 28 - Memorial",null,null,null,null,null,null,null,null,null,0,null,null,null,null,null,null,null,null,null,0,0]
["NET",null,null,null,null,null,null,null,null,null,0,null,null,null,null,null,null,null,null,null,0,0]
["14 Jun 10 - 54 Hole Team Rd 1",null,null,null,null,null,null,null,null,null,0,null,null,null,null,null,null,null,null,null,0,0]
["NET",null,null,null,null,null,null,null,null,null,0,null,null,null,null,null,null,null,null,null,0,0]
["15 Jun 27 - Day on the Oaks 3",null,null,null,null,null,null,null,null,null,0,null,null,null,null,null,null,null,null,null,0,0]
["NET",null,null,null,null,null,null,null,null,null,0,null,null,null,null,null,null,null,null,null,0,0]
["17 Jul 11 - Day on the Oaks 4",null,null,null,null,null,null,null,null,null,0,null,null,null,null,null,null,null,null,null,0,0]
["NET",null,null,null,null,null,null,null,null,null,0,null,null,null,null,null,null,null,null,null,0,0]
["18 Aug 1 - Day on the Oaks 5",null,null,null,null,null,null,null,null,null,0,null,null,null,null,null,null,null,null,null,0,0]
["NET",null,null,null,null,null,null,null,null,null,0,null,null,null,null,null,null,null,null,null,0,0]
["19 Aug 13 - Rose Cup Qualifier",null,null,null,null,null,null,null,null,null,0,null,null,null,null,null,null,null,null,null,0,0]
["NET",null,null,null,null,null,null,null,null,null,0,null,null,null,null,null,null,null,null,null,0,0]
["20 Aug 29 - Day on the Oaks 6",null,null,null,null,null,null,null,null,null,0,null,null,null,null,null,null,null,null,null,0,0]
["NET",null,null,null,null,null,null,null,null,null,0,null,null,null,null,null,null,null,null,null,0,0]
["21 Sep 3 - Labor Day",null,null,null,null,null,null,null,null,null,0,null,null,null,null,null,null,null,null,null,0,0]
["NET",null,null,null,null,null,null,null,null,null,0,null,null,null,null,null,null,null,null,null,0,0]
["22 Oct 21 - Past Presidents",null,null,null,null,null,null,null,null,null,0,null,null,null,null,null,null,null,null,null,0,0]
["NET",null,null,null,null,null,null,null,null,null,0,null,null,null,null,null,null,null,null,null,0,0]
["23 Nov 12 - Turkey Shoot",null,null,null,null,null,null,null,null,null,0,null,null,null,null,null,null,null,null,null,0,0]
["NET",null,null,null,null,null,null,null,null,null,0,null,null,null,null,null,null,null,null,null,0,0]
["24 Dec 2 - Eclectic Final ",null,null,null,null,null,null,null,null,null,0,null,null,null,null,null,null,null,null,null,0,0]
["NET",null,null,null,null,null,null,null,null,null,0,null,null,null,null,null,null,null,null,null,0,0]
[null,null,null,null,null,null,null,null,null,null,0,null,null,null,null,null,null,null,null,null,0,0]
[null,null,null,null,null,null,null,null,null,null,0,null,null,null,null,null,null,null,null,null,0,0]
[]
["Low Gross Score",{"$f":"MIN(B6,B8,B10,B12,B14,B16,B18,B20,B22,B24,B26,B28,B30,32,B34,B36,B38,B40,B42,B44,B46,B48,B50,B52)","v":4},{"$f":"MIN(C6,C8,C10,C12,C14,C16,C18,C20,C22,C24,C26,C28,C30,32,C34,C36,C38,C40,C42,C44,C46,C48,C50,C52)","v":4},3,3,3,5,3,4,4,{"$f":"SUM(B55:J55)","v":33},{"$f":"MIN(L6,L8,L10,L12,L14,L16,L18,L20,L22,L24,L26,L28,L30,32,L34,L36,L38,L40,L42,L44,L46,L48,L50,L52)","v":4},4,2,4,4,4,4,3,4,{"$f":"SUM(L55:T55)","v":33},{"$f":"SUM(K55+U55)","v":66}]
["Low Net Score",{"$f":"MIN(B7,B9,B11,B13,B15,B17,B19,B21,B23,B25,B27,B29,B31,B33,B35,B37,B39,B41,B43,B45,B47,B49,B51,B53)","v":4},{"$f":"MIN(C7,C9,C11,C13,C15,C17,C19, C21,C23,C25,C27,C29,C31,C33,C35,C37,C39,C41,C43,C45,C47,C49,C51,C53)","v":4},3,3,3,5,3,4,3,32,{"$f":"MIN(L7,L9,L11,L13,L15,L17,L19, L21,L23,L25,L27,L29,L31,L33,L35,L37,L39,L41,L43,L45,L47,L49,L51,L53)","v":4},4,2,3,4,4,4,3,3,31,63]

{"sheet":"WHARFF, HARRY","index":52,"n_rows":56,"n_cols":23,"rows_kept":56,"cut":false,"hidden":false,"merged":[]}
[]
["WHARFF, HARRY",null,null,null,null,null,null,null,null,null,null,null,null,null,null,null,null,null,null,null,null,null,"HANDICAP"]
["HOLE",1,2,3,4,5,6,7,8,9,"OUT",10,11,12,13,14,15,16,17,18,"IN","TOTAL"]
["HANDICAP",8,14,18,6,16,10,4,12,2,null,9,5,17,3,15,7,13,11,1]
["PAR",4,5,3,4,3,5,4,4,4,36,5,4,3,4,4,3,5,4,4,36,72]
["1 Jan 28 - NCGA 4-Ball",null,null,null,null,null,null,null,null,null,{"$f":"SUM(B6:J6)","v":0},null,null,null,null,null,null,null,null,null,{"$f":"SUM(L6:T6)","v":0},{"$f":"SUM(K6+U6)","v":0}]
["NET",null,null,null,null,null,null,null,null,null,0,null,null,null,null,null,null,null,null,null,0,0]
["2 Feb 11 - Super Bowl",null,null,null,null,null,null,null,null,null,0,null,null,null,null,null,null,null,null,null,0,0]
["NET",null,null,null,null,null,null,null,null,null,0,null,null,null,null,null,null,null,null,null,0,0]
["3 Feb 26 - Modified Stableford",null,null,null,null,null,null,null,null,null,0,null,null,null,null,null,null,null,null,null,0,0]
["NET",null,null,null,null,null,null,null,null,null,0,null,null,null,null,null,null,null,null,null,0,0]
["4 Mar 25 - Zone Qualifier Rd 1",null,null,null,null,null,null,null,null,null,0,null,null,null,null,null,null,null,null,null,0,0]
["NET",null,null,null,null,null,null,null,null,null,0,null,null,null,null,null,null,null,null,null,0,0]
["5 Mar 26 - Zone Qualifier Rd 2",null,null,null,null,null,null,null,null,null,0,null,null,null,null,null,null,null,null,null,0,0]
["NET",null,null,null,null,null,null,null,null,null,0,null,null,null,null,null,null,null,null,null,0,0]
["6 Apr 8 - RGC Masters",null,null,null,null,null,null,null,null,null,0,null,null,null,null,null,null,null,null,null,0,0]
["NET",null,null,null,null,null,null,null,null,null,0,null,null,null,null,null,null,null,null,null,0,0]
["7 Apr 11 - Day on the Oaks 1",4,7,4,5,3,5,5,6,5,44,5,5,4,6,5,4,5,5,5,44,88]
["NET",{"$f":"B18-(B$4<=MOD($W19,18))-INT($W19/18)","v":4},{"$f":"C18-(C$4<=MOD($W19,18))-INT($W19/18)","v":7},4,5,3,5,4,6,4,42,{"$f":"L18-(L$4<=MOD($W19,18))-INT($W19/18)","v":5},{"$f":"M18-(M$4<=MOD($W19,18))-INT($W19/18)","v":5},4,5,5,4,5,5,4,42,84,4]
["8 Apr 15 - 54 Hole Individual Rd 1",5,5,3,4,4,6,4,4,4,39,6,5,4,4,4,3,5,6,5,42,81]
["NET",{"$f":"B20-(B$4<=MOD($W21,18))-INT($W21/18)","v":5},5,3,4,4,6,3,4,3,37,{"$f":"L20-(L$4<=MOD($W21,18))-INT($W21/18)","v":6},{"$f":"M20-(M$4<=MOD($W21,18))-INT($W21/18)","v":5},4,3,4,3,5,6,4,40,77,4]
["9 Apr 16 - 54 Hole Individual Rd 2",4,5,5,5,4,3,4,5,5,40,6,5,4,5,4,4,5,4,6,43,83]
["NET",{"$f":"B22-(B$4<=MOD($W23,18))-INT($W23/18)","v":4},5,5,5,4,3,3,5,4,38,{"$f":"L22-(L$4<=MOD($W23,18))-INT($W23/18)","v":6},{"$f":"M22-(M$4<=MOD($W23,18))-INT($W23/18)","v":5},4,4,4,4,5,4,5,41,79,4]
["10 Apr 22 - 54 Hole Individual Rd 3",4,5,3,5,5,5,4,4,4,39,5,5,2,6,4,5,5,4,6,42,81]
["NET",{"$f":"B24-(B$4<=MOD($W25,18))-INT($W25/18)","v":4},5,3,5,5,5,3,4,3,37,{"$f":"L24-(L$4<=MOD($W25,18))-INT($W25/18)","v":5},{"$f":"M24-(M$4<=MOD($W25,18))-INT($W25/18)","v":5},2,5,4,5,5,4,5,40,77,4]
["11 May 7 - Senior 4-Ball Qualifier",5,6,3,4,4,6,7,4,5,44,6,5,3,4,4,4,5,4,7,42,86]
["NET",{"$f":"B26-(B$4<=MOD($W27,18))-INT($W27/18)","v":5},6,3,4,4,6,6,4,4,42,{"$f":"L26-(L$4<=MOD($W27,18))-INT($W27/18)","v":6},{"$f":"M26-(M$4<=MOD($W27,18))-INT($W27/18)","v":4},3,3,4,4,5,4,6,39,81,5]
["12 May 16 - Day on the Oaks 2",5,6,3,5,3,6,5,6,5,44,5,5,3,5,5,4,4,5,6,42,86]
["NET",{"$f":"B28-(B$4<=MOD($W29,18))-INT($W29/18)","v":5},6,3,4,3,6,4,6,4,41,{"$f":"L28-(L$4<=MOD($W29,18))-INT($W29/18)","v":5},{"$f":"M28-(M$4<=MOD($W29,18))-INT($W29/18)","v":4},3,4,5,3,4,5,5,38,79,7]
["13 May 28 - Memorial",5,5,3,4,3,6,4,4,4,38,6,4,4,4,3,4,6,5,5,41,79]
["NET",{"$f":"B30-(B$4<=MOD($W31,18))-INT($W31/18)","v":5},5,3,3,3,6,3,4,3,35,{"$f":"L30-(L$4<=MOD($W31,18))-INT($W31/18)","v":6},{"$f":"M30-(M$4<=MOD($W31,18))-INT($W31/18)","v":3},4,3,3,3,6,5,4,37,72,7]
["14 Jun 10 - 54 Hole Team Rd 1",null,null,null,null,null,null,null,null,null,0,null,null,null,null,null,null,null,null,null,0,0]
["NET",null,null,null,null,null,null,null,null,null,0,null,null,null,null,null,null,null,null,null,0,0]
["15 Jun 27 - Day on the Oaks 3",4,5,3,5,3,5,4,3,5,37,6,4,3,5,3,3,6,5,4,39,76]
["NET",{"$f":"B34-(B$4<=MOD($W35,18))-INT($W35/18)","v":4},{"$f":"C34-(C$4<=MOD($W35,18))-INT($W35/18)","v":5},3,4,3,5,3,3,4,34,{"$f":"L34-(L$4<=MOD($W35,18))-INT($W35/18)","v":6},{"$f":"M34-(M$4<=MOD($W35,18))-INT($W35/18)","v":3},3,4,3,2,6,5,3,35,69,7]
["17 Jul 11 - Day on the Oaks 4",4,7,3,4,3,5,6,4,4,40,5,5,3,6,4,4,5,4,6,42,82]
["NET",{"$f":"B36-(B$4<=MOD($W37,18))-INT($W37/18)","v":4},7,3,4,3,5,5,4,3,38,{"$f":"L36-(L$4<=MOD($W37,18))-INT($W37/18)","v":5},{"$f":"M36-(M$4<=MOD($W37,18))-INT($W37/18)","v":4},3,5,4,4,5,4,5,39,77,5]
["18 Aug 1 - Day on the Oaks 5",null,null,null,null,null,null,null,null,null,0,null,null,null,null,null,null,null,null,null,0,0]
["NET",null,null,null,null,null,null,null,null,null,0,null,null,null,null,null,null,null,null,null,0,0]
["19 Aug 13 - Rose Cup Qualifier",null,null,null,null,null,null,null,null,null,0,null,null,null,null,null,null,null,null,null,0,0]
["NET",null,null,null,null,null,null,null,null,null,0,null,null,null,null,null,null,null,null,null,0,0]
["20 Aug 29 - Day on the Oaks 6",null,null,null,null,null,null,null,null,null,0,null,null,null,null,null,null,null,null,null,0,0]
["NET",null,null,null,null,null,null,null,null,null,0,null,null,null,null,null,null,null,null,null,0,0]
["21 Sep 3 - Labor Day",null,null,null,null,null,null,null,null,null,0,null,null,null,null,null,null,null,null,null,0,0]
["NET",null,null,null,null,null,null,null,null,null,0,null,null,null,null,null,null,null,null,null,0,0]
["22 Oct 21 - Past Presidents",null,null,null,null,null,null,null,null,null,0,null,null,null,null,null,null,null,null,null,0,0]
["NET",null,null,null,null,null,null,null,null,null,0,null,null,null,null,null,null,null,null,null,0,0]
["23 Nov 12 - Turkey Shoot",null,null,null,null,null,null,null,null,null,0,null,null,null,null,null,null,null,null,null,0,0]
["NET",null,null,null,null,null,null,null,null,null,0,null,null,null,null,null,null,null,null,null,0,0]
["24 Dec 2 - Eclectic Final ",null,null,null,null,null,null,null,null,null,0,null,null,null,null,null,null,null,null,null,0,0]
["NET",null,null,null,null,null,null,null,null,null,0,null,null,null,null,null,null,null,null,null,0,0]
[null,null,null,null,null,null,null,null,null,null,0,null,null,null,null,null,null,null,null,null,0,0]
[null,null,null,null,null,null,null,null,null,null,0,null,null,null,null,null,null,null,null,null,0,0]
[]
["Low Gross Score",{"$f":"MIN(B6,B8,B10,B12,B14,B16,B18,B20,B22,B24,B26,B28,B30,32,B34,B36,B38,B40,B42,B44,B46,B48,B50,B52)","v":4},{"$f":"MIN(C6,C8,C10,C12,C14,C16,C18,C20,C22,C24,C26,C28,C30,32,C34,C36,C38,C40,C42,C44,C46,C48,C50,C52)","v":5},3,4,3,3,4,3,4,{"$f":"SUM(B55:J55)","v":33},{"$f":"MIN(L6,L8,L10,L12,L14,L16,L18,L20,L22,L24,L26,L28,L30,32,L34,L36,L38,L40,L42,L44,L46,L48,L50,L52)","v":5},4,2,4,3,3,4,4,4,{"$f":"SUM(L55:T55)","v":33},{"$f":"SUM(K55+U55)","v":66}]
["Low Net Score",{"$f":"MIN(B7,B9,B11,B13,B15,B17,B19,B21,B23,B25,B27,B29,B31,B33,B35,B37,B39,B41,B43,B45,B47,B49,B51,B53)","v":4},{"$f":"MIN(C7,C9,C11,C13,C15,C17,C19, C21,C23,C25,C27,C29,C31,C33,C35,C37,C39,C41,C43,C45,C47,C49,C51,C53)","v":5},3,3,3,3,3,3,3,30,{"$f":"MIN(L7,L9,L11,L13,L15,L17,L19, L21,L23,L25,L27,L29,L31,L33,L35,L37,L39,L41,L43,L45,L47,L49,L51,L53)","v":5},3,2,3,3,2,4,4,3,29,59]

{"sheet":"WHARFF, JOHN","index":53,"n_rows":56,"n_cols":23,"rows_kept":56,"cut":false,"hidden":false,"merged":[]}
[]
["WHARFF, JOHN",null,null,null,null,null,null,null,null,null,null,null,null,null,null,null,null,null,null,null,null,null,"HANDICAP"]
["HOLE",1,2,3,4,5,6,7,8,9,"OUT",10,11,12,13,14,15,16,17,18,"IN","TOTAL"]
["HANDICAP",8,14,18,6,16,10,4,12,2,null,9,5,17,3,15,7,13,11,1]
["PAR",4,5,3,4,3,5,4,4,4,36,5,4,3,4,4,3,5,4,4,36,72]
["1 Jan 28 - NCGA 4-Ball",null,null,null,null,null,null,null,null,null,{"$f":"SUM(B6:J6)","v":0},null,null,null,null,null,null,null,null,null,{"$f":"SUM(L6:T6)","v":0},{"$f":"SUM(K6+U6)","v":0}]
["NET",null,null,null,null,null,null,null,null,null,0,null,null,null,null,null,null,null,null,null,0,0]
["2 Feb 11 - Super Bowl",5,6,3,4,5,5,6,5,6,45,6,6,3,5,4,4,6,4,6,44,89]
["NET",{"$f":"B8-(B$4<=MOD($W9,18))-INT($W9/18)","v":4},{"$f":"C8-(C$4<=MOD($W9,18))-INT($W9/18)","v":6},3,3,5,4,5,5,5,40,{"$f":"L8-(L$4<=MOD($W9,18))-INT($W9/18)","v":5},{"$f":"M8-(M$4<=MOD($W9,18))-INT($W9/18)","v":5},3,4,4,3,6,3,5,38,78,11]
["3 Feb 26 - Modified Stableford",null,null,null,null,null,null,null,null,null,0,null,null,null,null,null,null,null,null,null,0,0]
["NET",null,null,null,null,null,null,null,null,null,0,null,null,null,null,null,null,null,null,null,0,0]
["4 Mar 25 - Zone Qualifier Rd 1",null,null,null,null,null,null,null,null,null,0,null,null,null,null,null,null,null,null,null,0,0]
["NET",null,null,null,null,null,null,null,null,null,0,null,null,null,null,null,null,null,null,null,0,0]
["5 Mar 26 - Zone Qualifier Rd 2",null,null,null,null,null,null,null,null,null,0,null,null,null,null,null,null,null,null,null,0,0]
["NET",null,null,null,null,null,null,null,null,null,0,null,null,null,null,null,null,null,null,null,0,0]
["6 Apr 8 - RGC Masters",null,null,null,null,null,null,null,null,null,0,null,null,null,null,null,null,null,null,null,0,0]
["NET",null,null,null,null,null,null,null,null,null,0,null,null,null,null,null,null,null,null,null,0,0]
["7 Apr 11 - Day on the Oaks 1",null,null,null,null,null,null,null,null,null,0,null,null,null,null,null,null,null,null,null,0,0]
["NET",null,null,null,null,null,null,null,null,null,0,null,null,null,null,null,null,null,null,null,0,0]
["8 Apr 15 - 54 Hole Individual Rd 1",null,null,null,null,null,null,null,null,null,0,null,null,null,null,null,null,null,null,null,0,0]
["NET",null,null,null,null,null,null,null,null,null,0,null,null,null,null,null,null,null,null,null,0,0]
["9 Apr 16 - 54 Hole Individual Rd 2",null,null,null,null,null,null,null,null,null,0,null,null,null,null,null,null,null,null,null,0,0]
["NET",null,null,null,null,null,null,null,null,null,0,null,null,null,null,null,null,null,null,null,0,0]
["10 Apr 22 - 54 Hole Individual Rd 3",null,null,null,null,null,null,null,null,null,0,null,null,null,null,null,null,null,null,null,0,0]
["NET",null,null,null,null,null,null,null,null,null,0,null,null,null,null,null,null,null,null,null,0,0]
["11 May 7 - Senior 4-Ball Qualifier",null,null,null,null,null,null,null,null,null,0,null,null,null,null,null,null,null,null,null,0,0]
["NET",null,null,null,null,null,null,null,null,null,0,null,null,null,null,null,null,null,null,null,0,0]
["12 May 16 - Day on the Oaks 2",null,null,null,null,null,null,null,null,null,0,null,null,null,null,null,null,null,null,null,0,0]
["NET",null,null,null,null,null,null,null,null,null,0,null,null,null,null,null,null,null,null,null,0,0]
["13 May 28 - Memorial",4,5,3,3,4,5,4,6,7,41,5,5,4,5,5,4,4,3,5,40,81]
["NET",{"$f":"B30-(B$4<=MOD($W31,18))-INT($W31/18)","v":3},{"$f":"C30-(C$4<=MOD($W31,18))-INT($W31/18)","v":5},3,2,4,4,3,5,6,35,{"$f":"L30-(L$4<=MOD($W31,18))-INT($W31/18)","v":4},{"$f":"M30-(M$4<=MOD($W31,18))-INT($W31/18)","v":4},4,4,5,3,4,2,4,34,69,12]
["14 Jun 10 - 54 Hole Team Rd 1",6,6,4,5,3,8,5,5,5,47,5,5,5,6,4,4,6,5,7,47,94]
["NET",{"$f":"B32-(B$4<=MOD($W33,18))-INT($W33/18)","v":5},6,4,4,3,7,4,4,4,41,{"$f":"L32-(L$4<=MOD($W33,18))-INT($W33/18)","v":4},{"$f":"M32-(M$4<=MOD($W33,18))-INT($W33/18)","v":4},5,5,4,3,6,4,6,41,82,12]
["15 Jun 27 - Day on the Oaks 3",null,null,null,null,null,null,null,null,null,0,null,null,null,null,null,null,null,null,null,0,0]
["NET",null,null,null,null,null,null,null,null,null,0,null,null,null,null,null,null,null,null,null,0,0]
["17 Jul 11 - Day on the Oaks 4",null,null,null,null,null,null,null,null,null,0,null,null,null,null,null,null,null,null,null,0,0]
["NET",null,null,null,null,null,null,null,null,null,0,null,null,null,null,null,null,null,null,null,0,0]
["18 Aug 1 - Day on the Oaks 5",null,null,null,null,null,null,null,null,null,0,null,null,null,null,null,null,null,null,null,0,0]
["NET",null,null,null,null,null,null,null,null,null,0,null,null,null,null,null,null,null,null,null,0,0]
["19 Aug 13 - Rose Cup Qualifier",null,null,null,null,null,null,null,null,null,0,null,null,null,null,null,null,null,null,null,0,0]
["NET",null,null,null,null,null,null,null,null,null,0,null,null,null,null,null,null,null,null,null,0,0]
["20 Aug 29 - Day on the Oaks 6",null,null,null,null,null,null,null,null,null,0,null,null,null,null,null,null,null,null,null,0,0]
["NET",null,null,null,null,null,null,null,null,null,0,null,null,null,null,null,null,null,null,null,0,0]
["21 Sep 3 - Labor Day",null,null,null,null,null,null,null,null,null,0,null,null,null,null,null,null,null,null,null,0,0]
["NET",null,null,null,null,null,null,null,null,null,0,null,null,null,null,null,null,null,null,null,0,0]
["22 Oct 21 - Past Presidents",null,null,null,null,null,null,null,null,null,0,null,null,null,null,null,null,null,null,null,0,0]
["NET",null,null,null,null,null,null,null,null,null,0,null,null,null,null,null,null,null,null,null,0,0]
["23 Nov 12 - Turkey Shoot",null,null,null,null,null,null,null,null,null,0,null,null,null,null,null,null,null,null,null,0,0]
["NET",null,null,null,null,null,null,null,null,null,0,null,null,null,null,null,null,null,null,null,0,0]
["24 Dec 2 - Eclectic Final ",null,null,null,null,null,null,null,null,null,0,null,null,null,null,null,null,null,null,null,0,0]
["NET",null,null,null,null,null,null,null,null,null,0,null,null,null,null,null,null,null,null,null,0,0]
[null,null,null,null,null,null,null,null,null,null,0,null,null,null,null,null,null,null,null,null,0,0]
[null,null,null,null,null,null,null,null,null,null,0,null,null,null,null,null,null,null,null,null,0,0]
[]
["Low Gross Score",{"$f":"MIN(B6,B8,B10,B12,B14,B16,B18,B20,B22,B24,B26,B28,B30,32,B34,B36,B38,B40,B42,B44,B46,B48,B50,B52)","v":4},{"$f":"MIN(C6,C8,C10,C12,C14,C16,C18,C20,C22,C24,C26,C28,C30,32,C34,C36,C38,C40,C42,C44,C46,C48,C50,C52)","v":5},3,3,4,5,4,5,6,{"$f":"SUM(B55:J55)","v":39},{"$f":"MIN(L6,L8,L10,L12,L14,L16,L18,L20,L22,L24,L26,L28,L30,32,L34,L36,L38,L40,L42,L44,L46,L48,L50,L52)","v":5},5,3,5,4,4,4,3,5,{"$f":"SUM(L55:T55)","v":38},{"$f":"SUM(K55+U55)","v":77}]
["Low Net Score",{"$f":"MIN(B7,B9,B11,B13,B15,B17,B19,B21,B23,B25,B27,B29,B31,B33,B35,B37,B39,B41,B43,B45,B47,B49,B51,B53)","v":3},{"$f":"MIN(C7,C9,C11,C13,C15,C17,C19, C21,C23,C25,C27,C29,C31,C33,C35,C37,C39,C41,C43,C45,C47,C49,C51,C53)","v":5},3,2,3,4,3,4,4,31,{"$f":"MIN(L7,L9,L11,L13,L15,L17,L19, L21,L23,L25,L27,L29,L31,L33,L35,L37,L39,L41,L43,L45,L47,L49,L51,L53)","v":4},4,3,4,4,3,4,2,4,32,63]

{"sheet":"WILSON, PAUL","index":54,"n_rows":56,"n_cols":23,"rows_kept":56,"cut":false,"hidden":false,"merged":[]}
[]
["WILSON, PAUL",null,null,null,null,null,null,null,null,null,null,null,null,null,null,null,null,null,null,null,null,null,"HANDICAP"]
["HOLE",1,2,3,4,5,6,7,8,9,"OUT",10,11,12,13,14,15,16,17,18,"IN","TOTAL"]
["HANDICAP",8,14,18,6,16,10,4,12,2,null,9,5,17,3,15,7,13,11,1]
["PAR",4,5,3,4,3,5,4,4,4,36,5,4,3,4,4,3,5,4,4,36,72]
["1 Jan 28 - NCGA 4-Ball",null,null,null,null,null,null,null,null,null,{"$f":"SUM(B6:J6)","v":0},null,null,null,null,null,null,null,null,null,{"$f":"SUM(L6:T6)","v":0},{"$f":"SUM(K6+U6)","v":0}]
["NET",null,null,null,null,null,null,null,null,null,0,null,null,null,null,null,null,null,null,null,0,0]
["2 Feb 11 - Super Bowl",4,5,3,5,3,6,4,5,5,40,5,5,5,4,4,3,5,3,4,38,78]
["NET",{"$f":"B8-(B$4<=MOD($W9,18))-INT($W9/18)","v":4},{"$f":"C8-(C$4<=MOD($W9,18))-INT($W9/18)","v":5},3,5,3,6,4,5,5,40,{"$f":"L8-(L$4<=MOD($W9,18))-INT($W9/18)","v":5},{"$f":"M8-(M$4<=MOD($W9,18))-INT($W9/18)","v":5},5,4,4,3,5,3,4,38,78,0]
["3 Feb 26 - Modified Stableford",5,4,4,4,4,5,6,4,4,40,6,5,3,5,5,6,5,5,6,46,86]
["NET",{"$f":"B10-(B$4<=MOD($W11,18))-INT($W11/18)","v":5},4,4,4,4,5,6,4,4,40,{"$f":"L10-(L$4<=MOD($W11,18))-INT($W11/18)","v":6},{"$f":"M10-(M$4<=MOD($W11,18))-INT($W11/18)","v":5},3,5,5,6,5,5,6,46,86,0]
["4 Mar 25 - Zone Qualifier Rd 1",5,5,2,4,4,4,4,4,4,36,6,4,3,5,4,4,4,4,5,39,75]
["NET",{"$f":"B12-(B$4<=MOD($W13,18))-INT($W13/18)","v":5},5,2,4,4,4,4,4,4,36,{"$f":"L12-(L$4<=MOD($W13,18))-INT($W13/18)","v":6},{"$f":"M12-(M$4<=MOD($W13,18))-INT($W13/18)","v":4},3,5,4,4,4,4,4,38,74,1]
["5 Mar 26 - Zone Qualifier Rd 2",5,5,4,5,3,5,4,4,5,40,7,4,2,5,3,4,5,5,4,39,79]
["NET",{"$f":"B14-(B$4<=MOD($W15,18))-INT($W15/18)","v":5},5,4,5,3,5,4,4,5,40,{"$f":"L14-(L$4<=MOD($W15,18))-INT($W15/18)","v":7},{"$f":"M14-(M$4<=MOD($W15,18))-INT($W15/18)","v":4},2,5,3,4,5,5,3,38,78,1]
["6 Apr 8 - RGC Masters",4,5,3,4,3,5,4,4,4,36,4,5,3,4,4,3,4,5,4,36,72]
["NET",{"$f":"B16-(B$4<=MOD($W17,18))-INT($W17/18)","v":4},5,3,4,3,5,4,4,4,36,{"$f":"L16-(L$4<=MOD($W17,18))-INT($W17/18)","v":4},{"$f":"M16-(M$4<=MOD($W17,18))-INT($W17/18)","v":5},3,4,4,3,4,5,4,36,72,0]
["7 Apr 11 - Day on the Oaks 1",null,null,null,null,null,null,null,null,null,0,null,null,null,null,null,null,null,null,null,0,0]
["NET",null,null,null,null,null,null,null,null,null,0,null,null,null,null,null,null,null,null,null,0,0]
["8 Apr 15 - 54 Hole Individual Rd 1",4,5,3,4,4,4,4,4,4,36,5,6,3,4,3,3,4,5,5,38,74]
["NET",{"$f":"B20-(B$4<=MOD($W21,18))-INT($W21/18)","v":4},{"$f":"C20-(C$4<=MOD($W21,18))-INT($W21/18)","v":5},3,4,4,4,4,4,4,36,{"$f":"L20-(L$4<=MOD($W21,18))-INT($W21/18)","v":5},{"$f":"M20-(M$4<=MOD($W21,18))-INT($W21/18)","v":6},3,4,3,3,4,5,5,38,74,0]
["9 Apr 16 - 54 Hole Individual Rd 2",4,5,3,4,3,6,5,4,4,38,5,4,3,4,4,3,5,4,5,37,75]
["NET",{"$f":"B22-(B$4<=MOD($W23,18))-INT($W23/18)","v":4},{"$f":"C22-(C$4<=MOD($W23,18))-INT($W23/18)","v":5},3,4,3,6,5,4,4,38,{"$f":"L22-(L$4<=MOD($W23,18))-INT($W23/18)","v":5},{"$f":"M22-(M$4<=MOD($W23,18))-INT($W23/18)","v":4},3,4,4,3,5,4,5,37,75,0]
["10 Apr 22 - 54 Hole Individual Rd 3",5,5,3,3,3,5,4,5,4,37,5,3,3,4,4,3,4,5,5,36,73]
["NET",{"$f":"B24-(B$4<=MOD($W25,18))-INT($W25/18)","v":5},{"$f":"C24-(C$4<=MOD($W25,18))-INT($W25/18)","v":5},3,3,3,5,4,5,4,37,{"$f":"L24-(L$4<=MOD($W25,18))-INT($W25/18)","v":5},{"$f":"M24-(M$4<=MOD($W25,18))-INT($W25/18)","v":3},3,4,4,3,4,5,5,36,73,0]
["11 May 7 - Senior 4-Ball Qualifier",4,5,5,5,4,4,4,4,4,39,5,4,2,3,4,5,5,4,4,36,75]
["NET",{"$f":"B26-(B$4<=MOD($W27,18))-INT($W27/18)","v":4},5,6,5,4,4,4,4,4,40,{"$f":"L26-(L$4<=MOD($W27,18))-INT($W27/18)","v":5},{"$f":"M26-(M$4<=MOD($W27,18))-INT($W27/18)","v":4},2,3,4,5,5,4,4,36,76,-1]
["12 May 16 - Day on the Oaks 2",null,null,null,null,null,null,null,null,null,0,null,null,null,null,null,null,null,null,null,0,0]
["NET",null,null,null,null,null,null,null,null,null,0,null,null,null,null,null,null,null,null,null,0,0]
["13 May 28 - Memorial",null,null,null,null,null,null,null,null,null,0,null,null,null,null,null,null,null,null,null,0,0]
["NET",null,null,null,null,null,null,null,null,null,0,null,null,null,null,null,null,null,null,null,0,0]
["14 Jun 10 - 54 Hole Team Rd 1",4,5,4,6,3,5,4,4,5,40,5,5,4,4,4,4,5,3,4,38,78]
["NET",{"$f":"B32-(B$4<=MOD($W33,18))-INT($W33/18)","v":4},{"$f":"C32-(C$4<=MOD($W33,18))-INT($W33/18)","v":5},4,6,3,5,4,4,5,40,{"$f":"L32-(L$4<=MOD($W33,18))-INT($W33/18)","v":5},{"$f":"M32-(M$4<=MOD($W33,18))-INT($W33/18)","v":5},4,4,4,4,5,3,3,37,77,1]
["15 Jun 27 - Day on the Oaks 3",3,5,4,5,3,5,4,4,6,39,5,4,3,4,5,3,4,4,4,36,75]
["NET",{"$f":"B34-(B$4<=MOD($W35,18))-INT($W35/18)","v":3},5,4,5,3,5,4,4,6,39,{"$f":"L34-(L$4<=MOD($W35,18))-INT($W35/18)","v":5},{"$f":"M34-(M$4<=MOD($W35,18))-INT($W35/18)","v":4},3,4,5,3,4,4,3,35,74,1]
["17 Jul 11 - Day on the Oaks 4",4,5,3,5,2,5,5,4,4,37,4,4,2,4,5,4,5,4,4,36,73]
["NET",{"$f":"B36-(B$4<=MOD($W37,18))-INT($W37/18)","v":4},5,3,5,2,5,5,4,4,37,{"$f":"L36-(L$4<=MOD($W37,18))-INT($W37/18)","v":4},{"$f":"M36-(M$4<=MOD($W37,18))-INT($W37/18)","v":4},2,4,5,4,5,4,3,35,72,1]
["18 Aug 1 - Day on the Oaks 5",4,6,3,3,3,5,5,4,4,37,5,5,3,3,5,4,4,4,4,37,74]
["NET",{"$f":"B38-(B$4<=MOD($W39,18))-INT($W39/18)","v":4},6,3,3,3,5,5,4,3,36,{"$f":"L38-(L$4<=MOD($W39,18))-INT($W39/18)","v":5},{"$f":"M38-(M$4<=MOD($W39,18))-INT($W39/18)","v":5},3,3,5,4,4,4,3,36,72,2]
["19 Aug 13 - Rose Cup Qualifier",null,null,null,null,null,null,null,null,null,0,null,null,null,null,null,null,null,null,null,0,0]
["NET",null,null,null,null,null,null,null,null,null,0,null,null,null,null,null,null,null,null,null,0,0]
["20 Aug 29 - Day on the Oaks 6",null,null,null,null,null,null,null,null,null,0,null,null,null,null,null,null,null,null,null,0,0]
["NET",null,null,null,null,null,null,null,null,null,0,null,null,null,null,null,null,null,null,null,0,0]
["21 Sep 3 - Labor Day",null,null,null,null,null,null,null,null,null,0,null,null,null,null,null,null,null,null,null,0,0]
["NET",null,null,null,null,null,null,null,null,null,0,null,null,null,null,null,null,null,null,null,0,0]
["22 Oct 21 - Past Presidents",null,null,null,null,null,null,null,null,null,0,null,null,null,null,null,null,null,null,null,0,0]
["NET",null,null,null,null,null,null,null,null,null,0,null,null,null,null,null,null,null,null,null,0,0]
["23 Nov 12 - Turkey Shoot",null,null,null,null,null,null,null,null,null,0,null,null,null,null,null,null,null,null,null,0,0]
["NET",null,null,null,null,null,null,null,null,null,0,null,null,null,null,null,null,null,null,null,0,0]
["24 Dec 2 - Eclectic Final ",null,null,null,null,null,null,null,null,null,0,null,null,null,null,null,null,null,null,null,0,0]
["NET",null,null,null,null,null,null,null,null,null,0,null,null,null,null,null,null,null,null,null,0,0]
[null,null,null,null,null,null,null,null,null,null,0,null,null,null,null,null,null,null,null,null,0,0]
[null,null,null,null,null,null,null,null,null,null,0,null,null,null,null,null,null,null,null,null,0,0]
[]
["Low Gross Score",{"$f":"MIN(B6,B8,B10,B12,B14,B16,B18,B20,B22,B24,B26,B28,B30,32,B34,B36,B38,B40,B42,B44,B46,B48,B50,B52)","v":3},{"$f":"MIN(C6,C8,C10,C12,C14,C16,C18,C20,C22,C24,C26,C28,C30,32,C34,C36,C38,C40,C42,C44,C46,C48,C50,C52)","v":4},2,3,2,4,4,4,4,{"$f":"SUM(B55:J55)","v":30},{"$f":"MIN(L6,L8,L10,L12,L14,L16,L18,L20,L22,L24,L26,L28,L30,32,L34,L36,L38,L40,L42,L44,L46,L48,L50,L52)","v":4},3,2,3,3,3,4,3,4,{"$f":"SUM(L55:T55)","v":29},{"$f":"SUM(K55+U55)","v":59}]
["Low Net Score",{"$f":"MIN(B7,B9,B11,B13,B15,B17,B19,B21,B23,B25,B27,B29,B31,B33,B35,B37,B39,B41,B43,B45,B47,B49,B51,B53)","v":3},{"$f":"MIN(C7,C9,C11,C13,C15,C17,C19, C21,C23,C25,C27,C29,C31,C33,C35,C37,C39,C41,C43,C45,C47,C49,C51,C53)","v":4},2,3,2,4,4,4,3,29,{"$f":"MIN(L7,L9,L11,L13,L15,L17,L19, L21,L23,L25,L27,L29,L31,L33,L35,L37,L39,L41,L43,L45,L47,L49,L51,L53)","v":4},3,2,3,3,3,4,3,3,28,57]